| Back to Build/check report for BioC 3.23: simplified long |
|
This page was generated on 2025-11-13 11:32 -0500 (Thu, 13 Nov 2025).
| Hostname | OS | Arch (*) | R version | Installed pkgs |
|---|---|---|---|---|
| kjohnson3 | macOS 13.7.7 Ventura | arm64 | R Under development (unstable) (2025-11-04 r88984) -- "Unsuffered Consequences" | 4013 |
| Click on any hostname to see more info about the system (e.g. compilers) (*) as reported by 'uname -p', except on Windows and Mac OS X | ||||
| Package 2311/2325 | Hostname | OS / Arch | INSTALL | BUILD | CHECK | BUILD BIN | ||||||||
| XeniumIO 1.3.0 (landing page) Marcel Ramos
| kjohnson3 | macOS 13.7.7 Ventura / arm64 | ERROR | ERROR | skipped | skipped | ||||||||
|
To the developers/maintainers of the XeniumIO package: - Allow up to 24 hours (and sometimes 48 hours) for your latest push to git@git.bioconductor.org:packages/XeniumIO.git to reflect on this report. See Troubleshooting Build Report for more information. - Use the following Renviron settings to reproduce errors and warnings. - If 'R CMD check' started to fail recently on the Linux builder(s) over a missing dependency, add the missing dependency to 'Suggests:' in your DESCRIPTION file. See Renviron.bioc for more information. |
| Package: XeniumIO |
| Version: 1.3.0 |
| Command: /Library/Frameworks/R.framework/Resources/bin/R CMD build --keep-empty-dirs --no-resave-data XeniumIO |
| StartedAt: 2025-11-12 17:29:02 -0500 (Wed, 12 Nov 2025) |
| EndedAt: 2025-11-12 17:29:03 -0500 (Wed, 12 Nov 2025) |
| EllapsedTime: 1.0 seconds |
| RetCode: 1 |
| Status: ERROR |
| PackageFile: None |
| PackageFileSize: NA |
##############################################################################
##############################################################################
###
### Running command:
###
### /Library/Frameworks/R.framework/Resources/bin/R CMD build --keep-empty-dirs --no-resave-data XeniumIO
###
##############################################################################
##############################################################################
* checking for file ‘XeniumIO/DESCRIPTION’ ... OK
* preparing ‘XeniumIO’:
* checking DESCRIPTION meta-information ... OK
* installing the package (it is needed to build vignettes)
-----------------------------------
ERROR: dependencies ‘TENxIO’, ‘VisiumIO’ are not available for package ‘XeniumIO’
Perhaps try a variation of:
install.packages(c('TENxIO', 'VisiumIO'))
* removing ‘/private/var/folders/r0/l4fjk6cj5xj0j3brt4bplpl40000gt/T/RtmpF4HFXH/Rinstc8bcf655880/XeniumIO’
-----------------------------------
ERROR: package installation failed