| Back to Build/check report for BioC 3.23: simplified long |
|
This page was generated on 2025-11-12 11:32 -0500 (Wed, 12 Nov 2025).
| Hostname | OS | Arch (*) | R version | Installed pkgs |
|---|---|---|---|---|
| nebbiolo1 | Linux (Ubuntu 24.04.3 LTS) | x86_64 | R Under development (unstable) (2025-10-20 r88955) -- "Unsuffered Consequences" | 4823 |
| Click on any hostname to see more info about the system (e.g. compilers) (*) as reported by 'uname -p', except on Windows and Mac OS X | ||||
| Package 2062/2325 | Hostname | OS / Arch | INSTALL | BUILD | CHECK | BUILD BIN | ||||||||
| SpectriPy 1.1.0 (landing page) Johannes Rainer
| nebbiolo1 | Linux (Ubuntu 24.04.3 LTS) / x86_64 | OK | OK | OK | |||||||||
|
To the developers/maintainers of the SpectriPy package: - Allow up to 24 hours (and sometimes 48 hours) for your latest push to git@git.bioconductor.org:packages/SpectriPy.git to reflect on this report. See Troubleshooting Build Report for more information. - Use the following Renviron settings to reproduce errors and warnings. - If 'R CMD check' started to fail recently on the Linux builder(s) over a missing dependency, add the missing dependency to 'Suggests:' in your DESCRIPTION file. See Renviron.bioc for more information. |
| Package: SpectriPy |
| Version: 1.1.0 |
| Command: /home/biocbuild/bbs-3.23-bioc/R/bin/R CMD check --install=check:SpectriPy.install-out.txt --library=/home/biocbuild/bbs-3.23-bioc/R/site-library --timings SpectriPy_1.1.0.tar.gz |
| StartedAt: 2025-11-12 04:17:04 -0500 (Wed, 12 Nov 2025) |
| EndedAt: 2025-11-12 04:30:29 -0500 (Wed, 12 Nov 2025) |
| EllapsedTime: 805.0 seconds |
| RetCode: 0 |
| Status: OK |
| CheckDir: SpectriPy.Rcheck |
| Warnings: 0 |
##############################################################################
##############################################################################
###
### Running command:
###
### /home/biocbuild/bbs-3.23-bioc/R/bin/R CMD check --install=check:SpectriPy.install-out.txt --library=/home/biocbuild/bbs-3.23-bioc/R/site-library --timings SpectriPy_1.1.0.tar.gz
###
##############################################################################
##############################################################################
* using log directory ‘/home/biocbuild/bbs-3.23-bioc/meat/SpectriPy.Rcheck’
* using R Under development (unstable) (2025-10-20 r88955)
* using platform: x86_64-pc-linux-gnu
* R was compiled by
gcc (Ubuntu 13.3.0-6ubuntu2~24.04) 13.3.0
GNU Fortran (Ubuntu 13.3.0-6ubuntu2~24.04) 13.3.0
* running under: Ubuntu 24.04.3 LTS
* using session charset: UTF-8
* checking for file ‘SpectriPy/DESCRIPTION’ ... OK
* this is package ‘SpectriPy’ version ‘1.1.0’
* package encoding: UTF-8
* checking package namespace information ... OK
* checking package dependencies ... OK
* checking if this is a source package ... OK
* checking if there is a namespace ... OK
* checking for hidden files and directories ... OK
* checking for portable file names ... OK
* checking for sufficient/correct file permissions ... OK
* checking whether package ‘SpectriPy’ can be installed ... OK
* checking installed package size ... OK
* checking package directory ... OK
* checking ‘build’ directory ... OK
* checking DESCRIPTION meta-information ... OK
* checking top-level files ... OK
* checking for left-over files ... OK
* checking index information ... OK
* checking package subdirectories ... OK
* checking code files for non-ASCII characters ... OK
* checking R files for syntax errors ... OK
* checking whether the package can be loaded ... OK
* checking whether the package can be loaded with stated dependencies ... OK
* checking whether the package can be unloaded cleanly ... OK
* checking whether the namespace can be loaded with stated dependencies ... OK
* checking whether the namespace can be unloaded cleanly ... OK
* checking loading without being on the library search path ... OK
* checking whether startup messages can be suppressed ... OK
* checking dependencies in R code ... NOTE
Unexported object imported by a ':::' call: ‘Spectra:::.check_peaks_data_value’
See the note in ?`:::` about the use of this operator.
* checking S3 generic/method consistency ... OK
* checking replacement functions ... OK
* checking foreign function calls ... OK
* checking R code for possible problems ... OK
* checking Rd files ... OK
* checking Rd metadata ... OK
* checking Rd cross-references ... OK
* checking for missing documentation entries ... OK
* checking for code/documentation mismatches ... OK
* checking Rd \usage sections ... OK
* checking Rd contents ... OK
* checking for unstated dependencies in examples ... OK
* checking files in ‘vignettes’ ... OK
* checking examples ... OK
Examples with CPU (user + system) or elapsed time > 5s
user system elapsed
MsBackendPy 5.609 0.963 6.442
* checking for unstated dependencies in ‘tests’ ... OK
* checking tests ...
Running ‘testthat.R’
OK
* checking for unstated dependencies in vignettes ... OK
* checking package vignettes ... OK
* checking re-building of vignette outputs ... OK
* checking PDF version of manual ... OK
* DONE
Status: 1 NOTE
See
‘/home/biocbuild/bbs-3.23-bioc/meat/SpectriPy.Rcheck/00check.log’
for details.
SpectriPy.Rcheck/00install.out
############################################################################## ############################################################################## ### ### Running command: ### ### /home/biocbuild/bbs-3.23-bioc/R/bin/R CMD INSTALL SpectriPy ### ############################################################################## ############################################################################## * installing to library ‘/home/biocbuild/bbs-3.23-bioc/R/site-library’ * installing *source* package ‘SpectriPy’ ... ** this is package ‘SpectriPy’ version ‘1.1.0’ ** using staged installation ** R ** inst ** byte-compile and prepare package for lazy loading ** help *** installing help indices *** copying figures ** building package indices ** installing vignettes ** testing if installed package can be loaded from temporary location ** testing if installed package can be loaded from final location ** testing if installed package keeps a record of temporary installation path * DONE (SpectriPy)
SpectriPy.Rcheck/tests/testthat.Rout
R Under development (unstable) (2025-10-20 r88955) -- "Unsuffered Consequences"
Copyright (C) 2025 The R Foundation for Statistical Computing
Platform: x86_64-pc-linux-gnu
R is free software and comes with ABSOLUTELY NO WARRANTY.
You are welcome to redistribute it under certain conditions.
Type 'license()' or 'licence()' for distribution details.
R is a collaborative project with many contributors.
Type 'contributors()' for more information and
'citation()' on how to cite R or R packages in publications.
Type 'demo()' for some demos, 'help()' for on-line help, or
'help.start()' for an HTML browser interface to help.
Type 'q()' to quit R.
> library(testthat)
> library(Spectra)
Loading required package: S4Vectors
Loading required package: stats4
Loading required package: BiocGenerics
Loading required package: generics
Attaching package: 'generics'
The following objects are masked from 'package:base':
as.difftime, as.factor, as.ordered, intersect, is.element, setdiff,
setequal, union
Attaching package: 'BiocGenerics'
The following objects are masked from 'package:stats':
IQR, mad, sd, var, xtabs
The following objects are masked from 'package:base':
Filter, Find, Map, Position, Reduce, anyDuplicated, aperm, append,
as.data.frame, basename, cbind, colnames, dirname, do.call,
duplicated, eval, evalq, get, grep, grepl, is.unsorted, lapply,
mapply, match, mget, order, paste, pmax, pmax.int, pmin, pmin.int,
rank, rbind, rownames, sapply, saveRDS, table, tapply, unique,
unsplit, which.max, which.min
Attaching package: 'S4Vectors'
The following object is masked from 'package:utils':
findMatches
The following objects are masked from 'package:base':
I, expand.grid, unname
Loading required package: BiocParallel
> library(SpectriPy)
Loading required package: reticulate
> library(MsBackendMgf)
>
> fl <- system.file("extdata", "mgf", "test.mgf", package = "SpectriPy")
> s <- Spectra(fl, source = MsBackendMgf())
Start data import from 1 files ... done
> s <- setBackend(s, MsBackendPy(), pythonVariableName = "py_be")
>
> be <- s@backend
>
> test_check("SpectriPy")
2025-11-12 04:21:49,451:WARNING:matchms:add_precursor_mz:No precursor_mz found in metadata.
2025-11-12 04:21:49,452:WARNING:matchms:add_precursor_mz:No precursor_mz found in metadata.
2025-11-12 04:21:49,453:WARNING:matchms:add_precursor_mz:No precursor_mz found in metadata.
2025-11-12 04:21:49,454:WARNING:matchms:add_precursor_mz:No precursor_mz found in metadata.
2025-11-12 04:21:49,454:WARNING:matchms:add_precursor_mz:No precursor_mz found in metadata.
2025-11-12 04:21:49,455:WARNING:matchms:add_precursor_mz:No precursor_mz found in metadata.
2025-11-12 04:21:49,456:WARNING:matchms:add_precursor_mz:No precursor_mz found in metadata.
2025-11-12 04:21:49,457:WARNING:matchms:add_precursor_mz:No precursor_mz found in metadata.
2025-11-12 04:21:49,457:WARNING:matchms:add_precursor_mz:No precursor_mz found in metadata.
2025-11-12 04:21:49,458:WARNING:matchms:add_precursor_mz:No precursor_mz found in metadata.
2025-11-12 04:21:49,459:WARNING:matchms:add_precursor_mz:No precursor_mz found in metadata.
2025-11-12 04:21:49,460:WARNING:matchms:add_precursor_mz:No precursor_mz found in metadata.
2025-11-12 04:21:49,460:WARNING:matchms:add_precursor_mz:No precursor_mz found in metadata.
2025-11-12 04:21:49,461:WARNING:matchms:add_precursor_mz:No precursor_mz found in metadata.
2025-11-12 04:21:49,462:WARNING:matchms:add_precursor_mz:No precursor_mz found in metadata.
2025-11-12 04:21:49,462:WARNING:matchms:add_precursor_mz:No precursor_mz found in metadata.
2025-11-12 04:21:49,463:WARNING:matchms:add_precursor_mz:No precursor_mz found in metadata.
2025-11-12 04:21:49,464:WARNING:matchms:add_precursor_mz:No precursor_mz found in metadata.
2025-11-12 04:21:49,465:WARNING:matchms:add_precursor_mz:No precursor_mz found in metadata.
2025-11-12 04:21:49,465:WARNING:matchms:add_precursor_mz:No precursor_mz found in metadata.
2025-11-12 04:21:49,466:WARNING:matchms:add_precursor_mz:No precursor_mz found in metadata.
2025-11-12 04:21:49,467:WARNING:matchms:add_precursor_mz:No precursor_mz found in metadata.
2025-11-12 04:21:49,467:WARNING:matchms:add_precursor_mz:No precursor_mz found in metadata.
2025-11-12 04:21:49,468:WARNING:matchms:add_precursor_mz:No precursor_mz found in metadata.
2025-11-12 04:21:49,469:WARNING:matchms:add_precursor_mz:No precursor_mz found in metadata.
2025-11-12 04:21:49,470:WARNING:matchms:add_precursor_mz:No precursor_mz found in metadata.
2025-11-12 04:21:49,470:WARNING:matchms:add_precursor_mz:No precursor_mz found in metadata.
2025-11-12 04:21:49,471:WARNING:matchms:add_precursor_mz:No precursor_mz found in metadata.
2025-11-12 04:21:49,472:WARNING:matchms:add_precursor_mz:No precursor_mz found in metadata.
2025-11-12 04:21:49,472:WARNING:matchms:add_precursor_mz:No precursor_mz found in metadata.
2025-11-12 04:21:49,473:WARNING:matchms:add_precursor_mz:No precursor_mz found in metadata.
2025-11-12 04:21:49,474:WARNING:matchms:add_precursor_mz:No precursor_mz found in metadata.
2025-11-12 04:21:49,475:WARNING:matchms:add_precursor_mz:No precursor_mz found in metadata.
2025-11-12 04:21:49,475:WARNING:matchms:add_precursor_mz:No precursor_mz found in metadata.
2025-11-12 04:21:49,476:WARNING:matchms:add_precursor_mz:No precursor_mz found in metadata.
2025-11-12 04:21:49,477:WARNING:matchms:add_precursor_mz:No precursor_mz found in metadata.
2025-11-12 04:21:49,477:WARNING:matchms:add_precursor_mz:No precursor_mz found in metadata.
2025-11-12 04:21:49,478:WARNING:matchms:add_precursor_mz:No precursor_mz found in metadata.
2025-11-12 04:21:49,479:WARNING:matchms:add_precursor_mz:No precursor_mz found in metadata.
2025-11-12 04:21:49,480:WARNING:matchms:add_precursor_mz:No precursor_mz found in metadata.
2025-11-12 04:21:49,480:WARNING:matchms:add_precursor_mz:No precursor_mz found in metadata.
2025-11-12 04:21:49,481:WARNING:matchms:add_precursor_mz:No precursor_mz found in metadata.
2025-11-12 04:21:49,482:WARNING:matchms:add_precursor_mz:No precursor_mz found in metadata.
2025-11-12 04:21:49,482:WARNING:matchms:add_precursor_mz:No precursor_mz found in metadata.
2025-11-12 04:21:49,486:WARNING:matchms:add_precursor_mz:No precursor_mz found in metadata.
2025-11-12 04:21:49,486:WARNING:matchms:add_precursor_mz:No precursor_mz found in metadata.
2025-11-12 04:21:49,487:WARNING:matchms:add_precursor_mz:No precursor_mz found in metadata.
2025-11-12 04:21:49,488:WARNING:matchms:add_precursor_mz:No precursor_mz found in metadata.
2025-11-12 04:21:49,489:WARNING:matchms:add_precursor_mz:No precursor_mz found in metadata.
2025-11-12 04:21:49,489:WARNING:matchms:add_precursor_mz:No precursor_mz found in metadata.
2025-11-12 04:21:49,490:WARNING:matchms:add_precursor_mz:No precursor_mz found in metadata.
2025-11-12 04:21:49,491:WARNING:matchms:add_precursor_mz:No precursor_mz found in metadata.
2025-11-12 04:21:49,491:WARNING:matchms:add_precursor_mz:No precursor_mz found in metadata.
2025-11-12 04:21:49,492:WARNING:matchms:add_precursor_mz:No precursor_mz found in metadata.
2025-11-12 04:21:49,493:WARNING:matchms:add_precursor_mz:No precursor_mz found in metadata.
2025-11-12 04:21:49,494:WARNING:matchms:add_precursor_mz:No precursor_mz found in metadata.
2025-11-12 04:21:49,494:WARNING:matchms:add_precursor_mz:No precursor_mz found in metadata.
2025-11-12 04:21:49,495:WARNING:matchms:add_precursor_mz:No precursor_mz found in metadata.
2025-11-12 04:21:49,496:WARNING:matchms:add_precursor_mz:No precursor_mz found in metadata.
2025-11-12 04:21:49,497:WARNING:matchms:add_precursor_mz:No precursor_mz found in metadata.
2025-11-12 04:21:49,497:WARNING:matchms:add_precursor_mz:No precursor_mz found in metadata.
2025-11-12 04:21:49,498:WARNING:matchms:add_precursor_mz:No precursor_mz found in metadata.
2025-11-12 04:21:49,499:WARNING:matchms:add_precursor_mz:No precursor_mz found in metadata.
2025-11-12 04:21:49,500:WARNING:matchms:add_precursor_mz:No precursor_mz found in metadata.
2025-11-12 04:21:49,500:WARNING:matchms:add_precursor_mz:No precursor_mz found in metadata.
2025-11-12 04:21:49,501:WARNING:matchms:add_precursor_mz:No precursor_mz found in metadata.
2025-11-12 04:21:49,502:WARNING:matchms:add_precursor_mz:No precursor_mz found in metadata.
2025-11-12 04:21:49,502:WARNING:matchms:add_precursor_mz:No precursor_mz found in metadata.
2025-11-12 04:21:49,503:WARNING:matchms:add_precursor_mz:No precursor_mz found in metadata.
2025-11-12 04:21:49,504:WARNING:matchms:add_precursor_mz:No precursor_mz found in metadata.
2025-11-12 04:21:49,505:WARNING:matchms:add_precursor_mz:No precursor_mz found in metadata.
2025-11-12 04:21:49,505:WARNING:matchms:add_precursor_mz:No precursor_mz found in metadata.
2025-11-12 04:21:49,506:WARNING:matchms:add_precursor_mz:No precursor_mz found in metadata.
2025-11-12 04:21:49,507:WARNING:matchms:add_precursor_mz:No precursor_mz found in metadata.
2025-11-12 04:21:49,508:WARNING:matchms:add_precursor_mz:No precursor_mz found in metadata.
2025-11-12 04:21:49,508:WARNING:matchms:add_precursor_mz:No precursor_mz found in metadata.
2025-11-12 04:21:49,509:WARNING:matchms:add_precursor_mz:No precursor_mz found in metadata.
2025-11-12 04:21:49,510:WARNING:matchms:add_precursor_mz:No precursor_mz found in metadata.
2025-11-12 04:21:49,510:WARNING:matchms:add_precursor_mz:No precursor_mz found in metadata.
2025-11-12 04:21:49,511:WARNING:matchms:add_precursor_mz:No precursor_mz found in metadata.
2025-11-12 04:21:49,512:WARNING:matchms:add_precursor_mz:No precursor_mz found in metadata.
2025-11-12 04:21:49,513:WARNING:matchms:add_precursor_mz:No precursor_mz found in metadata.
2025-11-12 04:21:49,513:WARNING:matchms:add_precursor_mz:No precursor_mz found in metadata.
2025-11-12 04:21:49,514:WARNING:matchms:add_precursor_mz:No precursor_mz found in metadata.
2025-11-12 04:21:49,515:WARNING:matchms:add_precursor_mz:No precursor_mz found in metadata.
2025-11-12 04:21:49,516:WARNING:matchms:add_precursor_mz:No precursor_mz found in metadata.
2025-11-12 04:21:49,516:WARNING:matchms:add_precursor_mz:No precursor_mz found in metadata.
2025-11-12 04:21:49,517:WARNING:matchms:add_precursor_mz:No precursor_mz found in metadata.
2025-11-12 04:21:49,518:WARNING:matchms:add_precursor_mz:No precursor_mz found in metadata.
2025-11-12 04:21:49,518:WARNING:matchms:add_precursor_mz:No precursor_mz found in metadata.
2025-11-12 04:21:49,519:WARNING:matchms:add_precursor_mz:No precursor_mz found in metadata.
2025-11-12 04:21:49,520:WARNING:matchms:add_precursor_mz:No precursor_mz found in metadata.
2025-11-12 04:21:49,521:WARNING:matchms:add_precursor_mz:No precursor_mz found in metadata.
2025-11-12 04:21:49,521:WARNING:matchms:add_precursor_mz:No precursor_mz found in metadata.
2025-11-12 04:21:49,522:WARNING:matchms:add_precursor_mz:No precursor_mz found in metadata.
2025-11-12 04:21:49,523:WARNING:matchms:add_precursor_mz:No precursor_mz found in metadata.
2025-11-12 04:21:49,523:WARNING:matchms:add_precursor_mz:No precursor_mz found in metadata.
2025-11-12 04:21:49,524:WARNING:matchms:add_precursor_mz:No precursor_mz found in metadata.
2025-11-12 04:21:49,525:WARNING:matchms:add_precursor_mz:No precursor_mz found in metadata.
2025-11-12 04:21:49,526:WARNING:matchms:add_precursor_mz:No precursor_mz found in metadata.
Calculating similarities: 0%| | 0/4 [00:00<?, ?it/s]
Calculating similarities: 25%|██▌ | 1/4 [00:02<00:07, 2.41s/it]
Calculating similarities: 100%|██████████| 4/4 [00:02<00:00, 1.66it/s]
Calculating similarities: 0%| | 0/4 [00:00<?, ?it/s]
Calculating similarities: 100%|██████████| 4/4 [00:00<00:00, 5048.82it/s]
Calculating similarities: 0%| | 0/4 [00:00<?, ?it/s]
Calculating similarities: 100%|██████████| 4/4 [00:00<00:00, 3754.97it/s]
Calculating similarities: 0%| | 0/4 [00:00<?, ?it/s]
Calculating similarities: 100%|██████████| 4/4 [00:00<00:00, 5160.63it/s]
Calculating similarities: 0%| | 0/2 [00:00<?, ?it/s]
Calculating similarities: 100%|██████████| 2/2 [00:00<00:00, 6293.03it/s]
Calculating similarities: 0%| | 0/2 [00:00<?, ?it/s]
Calculating similarities: 100%|██████████| 2/2 [00:00<00:00, 4234.53it/s]
Calculating similarities: 0%| | 0/2 [00:00<?, ?it/s]
Calculating similarities: 100%|██████████| 2/2 [00:00<00:00, 4424.37it/s]
Calculating similarities: 0%| | 0/2 [00:00<?, ?it/s]
Calculating similarities: 100%|██████████| 2/2 [00:00<00:00, 2165.92it/s]
Calculating similarities: 0%| | 0/2 [00:00<?, ?it/s]
Calculating similarities: 100%|██████████| 2/2 [00:00<00:00, 3539.50it/s]
Calculating similarities: 0%| | 0/2 [00:00<?, ?it/s]
Calculating similarities: 100%|██████████| 2/2 [00:00<00:00, 3538.00it/s]
Calculating similarities: 0%| | 0/4 [00:00<?, ?it/s]
Calculating similarities: 50%|█████ | 2/4 [00:00<00:00, 2086.72it/s]
Calculating similarities: 0%| | 0/2 [00:00<?, ?it/s]
Calculating similarities: 50%|█████ | 1/2 [00:00<00:00, 1.20it/s]
Calculating similarities: 100%|██████████| 2/2 [00:00<00:00, 2.40it/s]
Calculating similarities: 0%| | 0/2 [00:00<?, ?it/s]
Calculating similarities: 50%|█████ | 1/2 [00:00<00:00, 1.61it/s]
Calculating similarities: 100%|██████████| 2/2 [00:00<00:00, 3.23it/s]
2025-11-12 04:22:00,709:WARNING:matchms:add_precursor_mz:No precursor_mz found in metadata.
2025-11-12 04:22:00,763:WARNING:matchms:add_precursor_mz:No precursor_mz found in metadata.
2025-11-12 04:22:00,764:WARNING:matchms:add_precursor_mz:No precursor_mz found in metadata.
2025-11-12 04:22:00,765:WARNING:matchms:add_precursor_mz:No precursor_mz found in metadata.
2025-11-12 04:22:00,829:WARNING:matchms:add_precursor_mz:No precursor_mz found in metadata.
2025-11-12 04:22:00,830:WARNING:matchms:add_precursor_mz:No precursor_mz found in metadata.
2025-11-12 04:22:00,831:WARNING:matchms:add_precursor_mz:No precursor_mz found in metadata.
2025-11-12 04:22:01,094:WARNING:matchms:add_precursor_mz:No precursor_mz found in metadata.
2025-11-12 04:22:01,095:WARNING:matchms:add_precursor_mz:No precursor_mz found in metadata.
2025-11-12 04:22:01,096:WARNING:matchms:add_precursor_mz:No precursor_mz found in metadata.
2025-11-12 04:22:01,127:WARNING:matchms:add_precursor_mz:No precursor_mz found in metadata.
2025-11-12 04:22:01,128:WARNING:matchms:add_precursor_mz:No precursor_mz found in metadata.
2025-11-12 04:22:01,129:WARNING:matchms:add_precursor_mz:No precursor_mz found in metadata.
2025-11-12 04:22:01,409:WARNING:matchms:add_precursor_mz:No precursor_mz found in metadata.
2025-11-12 04:22:01,410:WARNING:matchms:add_precursor_mz:No precursor_mz found in metadata.
2025-11-12 04:22:01,411:WARNING:matchms:add_precursor_mz:No precursor_mz found in metadata.
2025-11-12 04:22:01,425:WARNING:matchms:add_precursor_mz:No precursor_mz found in metadata.
2025-11-12 04:22:01,426:WARNING:matchms:add_precursor_mz:No precursor_mz found in metadata.
2025-11-12 04:22:01,427:WARNING:matchms:add_precursor_mz:No precursor_mz found in metadata.
Processing spectra: 0%| | 0/4 [00:00<?, ?it/s]
Processing spectra: 100%|██████████| 4/4 [00:00<00:00, 3264.68it/s]
Processing spectra: 0%| | 0/4 [00:00<?, ?it/s]
Processing spectra: 100%|██████████| 4/4 [00:00<00:00, 3881.82it/s]
Processing spectra: 0%| | 0/4 [00:00<?, ?it/s]
Processing spectra: 100%|██████████| 4/4 [00:00<00:00, 3861.27it/s]
Processing spectra: 0%| | 0/4 [00:00<?, ?it/s]
Processing spectra: 100%|██████████| 4/4 [00:00<00:00, 4176.55it/s]
Processing spectra: 0%| | 0/4 [00:00<?, ?it/s]
Processing spectra: 100%|██████████| 4/4 [00:00<00:00, 3976.59it/s]
[ FAIL 0 | WARN 4 | SKIP 1 | PASS 592 ]
══ Skipped tests (1) ═══════════════════════════════════════════════════════════
• empty test (1): 'test_zzz.R:16:1'
[ FAIL 0 | WARN 4 | SKIP 1 | PASS 592 ]
>
> ## TODO: add tests from the Spectra unit test suite!
>
> ## ## Run the MsBackend spectra variable test suite
> ## test_suite <- system.file("test_backends", "test_MsBackend",
> ## package = "Spectra")
>
> ## ## Run single test file.
> ## res <- test_dir(test_suite, stop_on_failure = TRUE)
>
> proc.time()
user system elapsed
28.659 2.999 30.914
SpectriPy.Rcheck/SpectriPy-Ex.timings
| name | user | system | elapsed | |
| MsBackendPy | 5.609 | 0.963 | 6.442 | |
| compareSpectriPy | 2.391 | 0.306 | 2.713 | |
| conversion | 0.330 | 0.330 | 0.501 | |
| filterSpectriPy | 0.172 | 0.029 | 0.200 | |