Back to Build/check report for BioC 3.23:   simplified   long
ABCDEFGHIJKLMNOPQR[S]TUVWXYZ

This page was generated on 2025-11-13 11:32 -0500 (Thu, 13 Nov 2025).

HostnameOSArch (*)R versionInstalled pkgs
kjohnson3macOS 13.7.7 Venturaarm64R Under development (unstable) (2025-11-04 r88984) -- "Unsuffered Consequences" 4013
Click on any hostname to see more info about the system (e.g. compilers)      (*) as reported by 'uname -p', except on Windows and Mac OS X

Package 2000/2325HostnameOS / ArchINSTALLBUILDCHECKBUILD BIN
SingleCellSignalR 2.1.1  (landing page)
Jean-Philippe Villemin
Snapshot Date: 2025-11-12 13:40 -0500 (Wed, 12 Nov 2025)
git_url: https://git.bioconductor.org/packages/SingleCellSignalR
git_branch: devel
git_last_commit: 926b6b5
git_last_commit_date: 2025-11-08 12:13:31 -0500 (Sat, 08 Nov 2025)
kjohnson3macOS 13.7.7 Ventura / arm64  OK    OK    WARNINGS    ERROR  


BUILD BIN results for SingleCellSignalR on kjohnson3

To the developers/maintainers of the SingleCellSignalR package:
- Allow up to 24 hours (and sometimes 48 hours) for your latest push to git@git.bioconductor.org:packages/SingleCellSignalR.git to reflect on this report. See Troubleshooting Build Report for more information.
- Use the following Renviron settings to reproduce errors and warnings.
- If 'R CMD check' started to fail recently on the Linux builder(s) over a missing dependency, add the missing dependency to 'Suggests:' in your DESCRIPTION file. See Renviron.bioc for more information.

raw results


Summary

Package: SingleCellSignalR
Version: 2.1.1
Command: rm -rf SingleCellSignalR.buildbin-libdir && mkdir SingleCellSignalR.buildbin-libdir && /Users/biocbuild/BBS/utils/build-universal.sh SingleCellSignalR_2.1.1.tar.gz /Library/Frameworks/R.framework/Resources/bin/R SingleCellSignalR.buildbin-libdir
StartedAt: 2025-11-12 21:11:04 -0500 (Wed, 12 Nov 2025)
EndedAt: 2025-11-12 21:12:23 -0500 (Wed, 12 Nov 2025)
EllapsedTime: 79.9 seconds
RetCode: 1
Status:   ERROR  
PackageFile: None
PackageFileSize: NA

Command output

##############################################################################
##############################################################################
###
### Running command:
###
###   rm -rf SingleCellSignalR.buildbin-libdir && mkdir SingleCellSignalR.buildbin-libdir && /Users/biocbuild/BBS/utils/build-universal.sh SingleCellSignalR_2.1.1.tar.gz /Library/Frameworks/R.framework/Resources/bin/R SingleCellSignalR.buildbin-libdir
###
##############################################################################
##############################################################################


>>>>>>> 
>>>>>>> INSTALLATION WITH 'R CMD INSTALL --preclean --no-multiarch --library=SingleCellSignalR.buildbin-libdir SingleCellSignalR_2.1.1.tar.gz'
>>>>>>> 

* installing *source* package ‘SingleCellSignalR’ ...
** this is package ‘SingleCellSignalR’ version ‘2.1.1’
** using staged installation
** R
** data
** inst
** byte-compile and prepare package for lazy loading
Error while performing HEAD request.
   Proceeding without cache information.
Error while performing HEAD request.
   Proceeding without cache information.
Error while performing HEAD request.
   Proceeding without cache information.
Error: .onLoad failed in loadNamespace() for 'BulkSignalR', details:
  call: if (any(BiocFileCache::bfcneedsupdate(bfc, config = config))) {
  error: missing value where TRUE/FALSE needed
Execution halted
ERROR: lazy loading failed for package ‘SingleCellSignalR’
* removing ‘/Users/biocbuild/bbs-3.23-bioc/meat/SingleCellSignalR.buildbin-libdir/SingleCellSignalR’