Back to Build/check report for BioC 3.23:   simplified   long
ABCDEFGHIJKLMNOPQ[R]STUVWXYZ

This page was generated on 2025-11-12 11:32 -0500 (Wed, 12 Nov 2025).

HostnameOSArch (*)R versionInstalled pkgs
nebbiolo1Linux (Ubuntu 24.04.3 LTS)x86_64R Under development (unstable) (2025-10-20 r88955) -- "Unsuffered Consequences" 4823
Click on any hostname to see more info about the system (e.g. compilers)      (*) as reported by 'uname -p', except on Windows and Mac OS X

Package 1733/2325HostnameOS / ArchINSTALLBUILDCHECKBUILD BIN
ReducedExperiment 1.3.0  (landing page)
Jack Gisby
Snapshot Date: 2025-11-11 13:40 -0500 (Tue, 11 Nov 2025)
git_url: https://git.bioconductor.org/packages/ReducedExperiment
git_branch: devel
git_last_commit: 8a1ee25
git_last_commit_date: 2025-10-29 11:33:37 -0500 (Wed, 29 Oct 2025)
nebbiolo1Linux (Ubuntu 24.04.3 LTS) / x86_64  OK    OK    OK  UNNEEDED, same version is already published


CHECK results for ReducedExperiment on nebbiolo1

To the developers/maintainers of the ReducedExperiment package:
- Allow up to 24 hours (and sometimes 48 hours) for your latest push to git@git.bioconductor.org:packages/ReducedExperiment.git to reflect on this report. See Troubleshooting Build Report for more information.
- Use the following Renviron settings to reproduce errors and warnings.
- If 'R CMD check' started to fail recently on the Linux builder(s) over a missing dependency, add the missing dependency to 'Suggests:' in your DESCRIPTION file. See Renviron.bioc for more information.

raw results


Summary

Package: ReducedExperiment
Version: 1.3.0
Command: /home/biocbuild/bbs-3.23-bioc/R/bin/R CMD check --install=check:ReducedExperiment.install-out.txt --library=/home/biocbuild/bbs-3.23-bioc/R/site-library --timings ReducedExperiment_1.3.0.tar.gz
StartedAt: 2025-11-12 03:04:47 -0500 (Wed, 12 Nov 2025)
EndedAt: 2025-11-12 03:14:17 -0500 (Wed, 12 Nov 2025)
EllapsedTime: 569.8 seconds
RetCode: 0
Status:   OK  
CheckDir: ReducedExperiment.Rcheck
Warnings: 0

Command output

##############################################################################
##############################################################################
###
### Running command:
###
###   /home/biocbuild/bbs-3.23-bioc/R/bin/R CMD check --install=check:ReducedExperiment.install-out.txt --library=/home/biocbuild/bbs-3.23-bioc/R/site-library --timings ReducedExperiment_1.3.0.tar.gz
###
##############################################################################
##############################################################################


* using log directory ‘/home/biocbuild/bbs-3.23-bioc/meat/ReducedExperiment.Rcheck’
* using R Under development (unstable) (2025-10-20 r88955)
* using platform: x86_64-pc-linux-gnu
* R was compiled by
    gcc (Ubuntu 13.3.0-6ubuntu2~24.04) 13.3.0
    GNU Fortran (Ubuntu 13.3.0-6ubuntu2~24.04) 13.3.0
* running under: Ubuntu 24.04.3 LTS
* using session charset: UTF-8
* checking for file ‘ReducedExperiment/DESCRIPTION’ ... OK
* checking extension type ... Package
* this is package ‘ReducedExperiment’ version ‘1.3.0’
* package encoding: UTF-8
* checking package namespace information ... OK
* checking package dependencies ... OK
* checking if this is a source package ... OK
* checking if there is a namespace ... OK
* checking for hidden files and directories ... OK
* checking for portable file names ... OK
* checking for sufficient/correct file permissions ... OK
* checking whether package ‘ReducedExperiment’ can be installed ... OK
* checking installed package size ... OK
* checking package directory ... OK
* checking ‘build’ directory ... OK
* checking DESCRIPTION meta-information ... OK
* checking top-level files ... OK
* checking for left-over files ... OK
* checking index information ... OK
* checking package subdirectories ... OK
* checking code files for non-ASCII characters ... OK
* checking R files for syntax errors ... OK
* checking whether the package can be loaded ... OK
* checking whether the package can be loaded with stated dependencies ... OK
* checking whether the package can be unloaded cleanly ... OK
* checking whether the namespace can be loaded with stated dependencies ... OK
* checking whether the namespace can be unloaded cleanly ... OK
* checking loading without being on the library search path ... OK
* checking dependencies in R code ... NOTE
Unexported objects imported by ':::' calls:
  ‘BiocGenerics:::replaceSlots’
  ‘SummarizedExperiment:::.SummarizedExperiment.charbound’
  See the note in ?`:::` about the use of this operator.
* checking S3 generic/method consistency ... OK
* checking replacement functions ... OK
* checking foreign function calls ... OK
* checking R code for possible problems ... OK
* checking Rd files ... OK
* checking Rd metadata ... OK
* checking Rd cross-references ... OK
* checking for missing documentation entries ... OK
* checking for code/documentation mismatches ... OK
* checking Rd \usage sections ... OK
* checking Rd contents ... OK
* checking for unstated dependencies in examples ... OK
* checking files in ‘vignettes’ ... OK
* checking examples ... OK
Examples with CPU (user + system) or elapsed time > 5s
                         user system elapsed
getMsigdbT2G           45.645  0.967  46.613
identifyModules        21.257  0.081  21.343
runWGCNA               20.220  0.116  20.339
modulePreservation     11.138  0.043  11.182
plotModulePreservation 10.064  0.056  10.120
estimateStability       6.252  0.209   6.460
assessSoftThreshold     5.880  0.502   6.383
plotStability           5.105  0.142   5.247
* checking for unstated dependencies in ‘tests’ ... OK
* checking tests ...
  Running ‘testthat.R’
 OK
* checking for unstated dependencies in vignettes ... OK
* checking package vignettes ... OK
* checking re-building of vignette outputs ... OK
* checking PDF version of manual ... OK
* DONE

Status: 1 NOTE
See
  ‘/home/biocbuild/bbs-3.23-bioc/meat/ReducedExperiment.Rcheck/00check.log’
for details.


Installation output

ReducedExperiment.Rcheck/00install.out

##############################################################################
##############################################################################
###
### Running command:
###
###   /home/biocbuild/bbs-3.23-bioc/R/bin/R CMD INSTALL ReducedExperiment
###
##############################################################################
##############################################################################


* installing to library ‘/home/biocbuild/bbs-3.23-bioc/R/site-library’
* installing *source* package ‘ReducedExperiment’ ...
** this is package ‘ReducedExperiment’ version ‘1.3.0’
** using staged installation
** R
** inst
** byte-compile and prepare package for lazy loading
Creating a new generic function for ‘loadings’ in package ‘ReducedExperiment’
** help
*** installing help indices
** building package indices
** installing vignettes
** testing if installed package can be loaded from temporary location
** testing if installed package can be loaded from final location
** testing if installed package keeps a record of temporary installation path
* DONE (ReducedExperiment)

Tests output

ReducedExperiment.Rcheck/tests/testthat.Rout


R Under development (unstable) (2025-10-20 r88955) -- "Unsuffered Consequences"
Copyright (C) 2025 The R Foundation for Statistical Computing
Platform: x86_64-pc-linux-gnu

R is free software and comes with ABSOLUTELY NO WARRANTY.
You are welcome to redistribute it under certain conditions.
Type 'license()' or 'licence()' for distribution details.

R is a collaborative project with many contributors.
Type 'contributors()' for more information and
'citation()' on how to cite R or R packages in publications.

Type 'demo()' for some demos, 'help()' for on-line help, or
'help.start()' for an HTML browser interface to help.
Type 'q()' to quit R.

> library(testthat)
> library(ReducedExperiment)
Loading required package: SummarizedExperiment
Loading required package: MatrixGenerics
Loading required package: matrixStats

Attaching package: 'MatrixGenerics'

The following objects are masked from 'package:matrixStats':

    colAlls, colAnyNAs, colAnys, colAvgsPerRowSet, colCollapse,
    colCounts, colCummaxs, colCummins, colCumprods, colCumsums,
    colDiffs, colIQRDiffs, colIQRs, colLogSumExps, colMadDiffs,
    colMads, colMaxs, colMeans2, colMedians, colMins, colOrderStats,
    colProds, colQuantiles, colRanges, colRanks, colSdDiffs, colSds,
    colSums2, colTabulates, colVarDiffs, colVars, colWeightedMads,
    colWeightedMeans, colWeightedMedians, colWeightedSds,
    colWeightedVars, rowAlls, rowAnyNAs, rowAnys, rowAvgsPerColSet,
    rowCollapse, rowCounts, rowCummaxs, rowCummins, rowCumprods,
    rowCumsums, rowDiffs, rowIQRDiffs, rowIQRs, rowLogSumExps,
    rowMadDiffs, rowMads, rowMaxs, rowMeans2, rowMedians, rowMins,
    rowOrderStats, rowProds, rowQuantiles, rowRanges, rowRanks,
    rowSdDiffs, rowSds, rowSums2, rowTabulates, rowVarDiffs, rowVars,
    rowWeightedMads, rowWeightedMeans, rowWeightedMedians,
    rowWeightedSds, rowWeightedVars

Loading required package: GenomicRanges
Loading required package: stats4
Loading required package: BiocGenerics
Loading required package: generics

Attaching package: 'generics'

The following objects are masked from 'package:base':

    as.difftime, as.factor, as.ordered, intersect, is.element, setdiff,
    setequal, union


Attaching package: 'BiocGenerics'

The following objects are masked from 'package:stats':

    IQR, mad, sd, var, xtabs

The following objects are masked from 'package:base':

    Filter, Find, Map, Position, Reduce, anyDuplicated, aperm, append,
    as.data.frame, basename, cbind, colnames, dirname, do.call,
    duplicated, eval, evalq, get, grep, grepl, is.unsorted, lapply,
    mapply, match, mget, order, paste, pmax, pmax.int, pmin, pmin.int,
    rank, rbind, rownames, sapply, saveRDS, table, tapply, unique,
    unsplit, which.max, which.min

Loading required package: S4Vectors

Attaching package: 'S4Vectors'

The following object is masked from 'package:utils':

    findMatches

The following objects are masked from 'package:base':

    I, expand.grid, unname

Loading required package: IRanges
Loading required package: Seqinfo
Loading required package: Biobase
Welcome to Bioconductor

    Vignettes contain introductory material; view with
    'browseVignettes()'. To cite Bioconductor, see
    'citation("Biobase")', and for packages 'citation("pkgname")'.


Attaching package: 'Biobase'

The following object is masked from 'package:MatrixGenerics':

    rowMedians

The following objects are masked from 'package:matrixStats':

    anyMissing, rowMedians


Attaching package: 'ReducedExperiment'

The following objects are masked from 'package:Biobase':

    featureNames, featureNames<-, sampleNames, sampleNames<-

The following object is masked from 'package:stats':

    loadings

> 
> test_check("ReducedExperiment")
class: FactorisedExperiment 
dim: 300 100 10 
metadata(0):
assays(1): normal
rownames(300): gene_1 gene_2 ... gene_299 gene_300
rowData names(0):
colnames(100): sample_1 sample_2 ... sample_99 sample_100
colData names(0):
10 components
class: ModularExperiment 
dim: 300 100 10 
metadata(0):
assays(1): normal
rownames(300): gene_1 gene_2 ... gene_299 gene_300
rowData names(0):
colnames(100): sample_1 sample_2 ... sample_99 sample_100
colData names(0):
10 components
class: ReducedExperiment 
dim: 300 100 10 
metadata(0):
assays(1): normal
rownames(300): gene_1 gene_2 ... gene_299 gene_300
rowData names(0):
colnames(100): sample_1 sample_2 ... sample_99 sample_100
colData names(0):
10 components

  |                                                                            
  |                                                                      |   0%
  |                                                                            
  |===================================                                   |  50%
  |                                                                            
  |======================================================================| 100%

  |                                                                            
  |                                                                      |   0%
  |                                                                            
  |===================================                                   |  50%
  |                                                                            
  |======================================================================| 100%
[ FAIL 0 | WARN 0 | SKIP 1 | PASS 579 ]

══ Skipped tests (1) ═══════════════════════════════════════════════════════════
• {msigdbdf} is not installed (1): 'test_features.R:83:5'

[ FAIL 0 | WARN 0 | SKIP 1 | PASS 579 ]
> 
> proc.time()
   user  system elapsed 
 93.529   1.912  95.454 

Example timings

ReducedExperiment.Rcheck/ReducedExperiment-Ex.timings

nameusersystemelapsed
assessSoftThreshold5.8800.5026.383
associateComponents0.9910.0671.058
calcEigengenes0.0690.0160.085
cbind_rbind0.3130.0470.360
component_names0.0260.0000.026
dim-ReducedExperiment-method0.0180.0010.018
enrichment2.9310.1423.075
estimateFactors0.1590.0050.164
estimateStability6.2520.2096.460
factorised_experiment0.0340.0010.035
feature_names0.0270.0000.028
getAlignedFeatures0.1120.0030.115
getCentrality0.0580.0000.058
getCommonFeatures0.1330.0110.144
getMsigdbT2G45.645 0.96746.613
get_gene_ids2.2540.0642.318
identifyModules21.257 0.08121.343
individual_dims0.0490.0000.049
loadings0.0420.0090.051
modular_experiment0.0360.0000.035
modulePreservation11.138 0.04311.182
module_assignments0.0610.0020.062
module_dendrogram0.0620.0010.063
plotCommonFeatures0.1540.0000.154
plotDendro0.0430.0000.042
plotModulePreservation10.064 0.05610.120
plotStability5.1050.1425.247
projectData0.0780.0030.082
reduced0.0260.0020.029
reduced_experiment0.0240.0020.025
runICA0.0880.0000.088
runWGCNA20.220 0.11620.339
sample_names0.0260.0010.027
show0.0230.0000.023
slice0.1080.0010.109
stability0.3620.0030.365