Back to Build/check report for BioC 3.23:   simplified   long
ABCDEFGHIJKLMNOPQ[R]STUVWXYZ

This page was generated on 2025-11-13 11:32 -0500 (Thu, 13 Nov 2025).

HostnameOSArch (*)R versionInstalled pkgs
kjohnson3macOS 13.7.7 Venturaarm64R Under development (unstable) (2025-11-04 r88984) -- "Unsuffered Consequences" 4013
Click on any hostname to see more info about the system (e.g. compilers)      (*) as reported by 'uname -p', except on Windows and Mac OS X

Package 1731/2325HostnameOS / ArchINSTALLBUILDCHECKBUILD BIN
RedisParam 1.13.0  (landing page)
Martin Morgan
Snapshot Date: 2025-11-12 13:40 -0500 (Wed, 12 Nov 2025)
git_url: https://git.bioconductor.org/packages/RedisParam
git_branch: devel
git_last_commit: 28d0b73
git_last_commit_date: 2025-10-29 11:17:49 -0500 (Wed, 29 Oct 2025)
kjohnson3macOS 13.7.7 Ventura / arm64  OK    OK    OK    OK  YES


BUILD results for RedisParam on kjohnson3

To the developers/maintainers of the RedisParam package:
- Allow up to 24 hours (and sometimes 48 hours) for your latest push to git@git.bioconductor.org:packages/RedisParam.git to reflect on this report. See Troubleshooting Build Report for more information.
- Use the following Renviron settings to reproduce errors and warnings.
- If 'R CMD check' started to fail recently on the Linux builder(s) over a missing dependency, add the missing dependency to 'Suggests:' in your DESCRIPTION file. See Renviron.bioc for more information.

raw results


Summary

Package: RedisParam
Version: 1.13.0
Command: /Library/Frameworks/R.framework/Resources/bin/R CMD build --keep-empty-dirs --no-resave-data RedisParam
StartedAt: 2025-11-12 17:03:09 -0500 (Wed, 12 Nov 2025)
EndedAt: 2025-11-12 17:03:13 -0500 (Wed, 12 Nov 2025)
EllapsedTime: 4.1 seconds
RetCode: 0
Status:   OK  
PackageFile: RedisParam_1.13.0.tar.gz
PackageFileSize: 950.5 KiB

Command output

##############################################################################
##############################################################################
###
### Running command:
###
###   /Library/Frameworks/R.framework/Resources/bin/R CMD build --keep-empty-dirs --no-resave-data RedisParam
###
##############################################################################
##############################################################################


* checking for file ‘RedisParam/DESCRIPTION’ ... OK
* preparing ‘RedisParam’:
* checking DESCRIPTION meta-information ... OK
* installing the package (it is needed to build vignettes)
* creating vignettes ... OK
* checking for LF line-endings in source and make files and shell scripts
* checking for empty or unneeded directories
* building ‘RedisParam_1.13.0.tar.gz’