Back to Build/check report for BioC 3.23:   simplified   long
ABCDEFGHIJKLMNOPQ[R]STUVWXYZ

This page was generated on 2025-11-13 11:32 -0500 (Thu, 13 Nov 2025).

HostnameOSArch (*)R versionInstalled pkgs
kjohnson3macOS 13.7.7 Venturaarm64R Under development (unstable) (2025-11-04 r88984) -- "Unsuffered Consequences" 4013
Click on any hostname to see more info about the system (e.g. compilers)      (*) as reported by 'uname -p', except on Windows and Mac OS X

All results for package ReactomePA


To the developers/maintainers of the ReactomePA package:
- Allow up to 24 hours (and sometimes 48 hours) for your latest push to git@git.bioconductor.org:packages/ReactomePA.git to reflect on this report. See Troubleshooting Build Report for more information.
- Use the following Renviron settings to reproduce errors and warnings.
- If 'R CMD check' started to fail recently on the Linux builder(s) over a missing dependency, add the missing dependency to 'Suggests:' in your DESCRIPTION file. See Renviron.bioc for more information.

raw results

Package 1720/2325HostnameOS / ArchINSTALLBUILDCHECKBUILD BIN
ReactomePA 1.55.0  (landing page)
Guangchuang Yu
Snapshot Date: 2025-11-12 13:40 -0500 (Wed, 12 Nov 2025)
git_url: https://git.bioconductor.org/packages/ReactomePA
git_branch: devel
git_last_commit: 37ccc0d
git_last_commit_date: 2025-10-29 10:10:37 -0500 (Wed, 29 Oct 2025)
kjohnson3macOS 13.7.7 Ventura / arm64  OK    OK    OK    OK  YES



Results for Bioconductor software packages that depend directly on package ReactomePA

QUICK STATSOS / ArchINSTALLBUILDCHECKBUILD BIN
kjohnson3macOS 13.7.7 Ventura / arm64
016
025
0113
005
Package 1/7HostnameOS / ArchINSTALLBUILDCHECKBUILD BIN
bioCancer 1.39.0  (landing page)
Karim Mezhoud
git_last_commit: 45dcc83
git_last_commit_date: 2025-10-29 10:32:26 -0500
kjohnson3macOS 13.7.7 Ventura / arm64  OK    OK    OK    OK  NO, package depends on 'cBioPortalData' which is not available
Package 2/7HostnameOS / ArchINSTALLBUILDCHECKBUILD BIN
gINTomics 1.7.0  (landing page)
Angelo Velle
git_last_commit: 4cacafe
git_last_commit_date: 2025-10-29 11:30:01 -0500
kjohnson3macOS 13.7.7 Ventura / arm64  ERROR    ERROR  skippedskipped
Package 3/7HostnameOS / ArchINSTALLBUILDCHECKBUILD BIN
miRSM 2.7.0  (landing page)
Junpeng Zhang
git_last_commit: 64db36b
git_last_commit_date: 2025-10-29 10:47:11 -0500
kjohnson3macOS 13.7.7 Ventura / arm64  OK    OK    OK    OK  YES
Package 4/7HostnameOS / ArchINSTALLBUILDCHECKBUILD BIN
miRspongeR 2.15.0  (landing page)
Junpeng Zhang
git_last_commit: abb7e44
git_last_commit_date: 2025-10-29 10:40:11 -0500
kjohnson3macOS 13.7.7 Ventura / arm64  OK    OK    OK    OK  YES
Package 5/7HostnameOS / ArchINSTALLBUILDCHECKBUILD BIN
mitology 1.3.0  (landing page)
Stefania Pirrotta
git_last_commit: ada0939
git_last_commit_date: 2025-10-29 11:36:14 -0500
kjohnson3macOS 13.7.7 Ventura / arm64  OK    ERROR  skippedskipped
Package 6/7HostnameOS / ArchINSTALLBUILDCHECKBUILD BIN
Pigengene 1.37.0  (landing page)
Habil Zare
git_last_commit: b4e2edc
git_last_commit_date: 2025-10-29 10:32:29 -0500
kjohnson3macOS 13.7.7 Ventura / arm64  OK    OK    ERROR    OK  
Package 7/7HostnameOS / ArchINSTALLBUILDCHECKBUILD BIN
scTensor 2.21.0  (landing page)
Koki Tsuyuzaki
git_last_commit: 63a2564
git_last_commit_date: 2025-10-29 10:49:00 -0500
kjohnson3macOS 13.7.7 Ventura / arm64  OK    OK    WARNINGS    OK  NO, package depends on 'AnnotationHub' which is only available as a source package that needs compilation