Back to Build/check report for BioC 3.23:   simplified   long
ABCDEFGHIJKLMNOPQ[R]STUVWXYZ

This page was generated on 2025-11-10 11:32 -0500 (Mon, 10 Nov 2025).

HostnameOSArch (*)R versionInstalled pkgs
nebbiolo1Linux (Ubuntu 24.04.3 LTS)x86_64R Under development (unstable) (2025-10-20 r88955) -- "Unsuffered Consequences" 4821
Click on any hostname to see more info about the system (e.g. compilers)      (*) as reported by 'uname -p', except on Windows and Mac OS X

Package 1717/2323HostnameOS / ArchINSTALLBUILDCHECKBUILD BIN
ReactomeGSA 1.25.0  (landing page)
Johannes Griss
Snapshot Date: 2025-11-09 13:40 -0500 (Sun, 09 Nov 2025)
git_url: https://git.bioconductor.org/packages/ReactomeGSA
git_branch: devel
git_last_commit: 473b5b6
git_last_commit_date: 2025-10-29 10:54:21 -0500 (Wed, 29 Oct 2025)
nebbiolo1Linux (Ubuntu 24.04.3 LTS) / x86_64  OK    OK    OK  UNNEEDED, same version is already published


CHECK results for ReactomeGSA on nebbiolo1

To the developers/maintainers of the ReactomeGSA package:
- Allow up to 24 hours (and sometimes 48 hours) for your latest push to git@git.bioconductor.org:packages/ReactomeGSA.git to reflect on this report. See Troubleshooting Build Report for more information.
- Use the following Renviron settings to reproduce errors and warnings.
- If 'R CMD check' started to fail recently on the Linux builder(s) over a missing dependency, add the missing dependency to 'Suggests:' in your DESCRIPTION file. See Renviron.bioc for more information.

raw results


Summary

Package: ReactomeGSA
Version: 1.25.0
Command: /home/biocbuild/bbs-3.23-bioc/R/bin/R CMD check --install=check:ReactomeGSA.install-out.txt --library=/home/biocbuild/bbs-3.23-bioc/R/site-library --timings ReactomeGSA_1.25.0.tar.gz
StartedAt: 2025-11-10 02:56:23 -0500 (Mon, 10 Nov 2025)
EndedAt: 2025-11-10 03:21:31 -0500 (Mon, 10 Nov 2025)
EllapsedTime: 1508.6 seconds
RetCode: 0
Status:   OK  
CheckDir: ReactomeGSA.Rcheck
Warnings: 0

Command output

##############################################################################
##############################################################################
###
### Running command:
###
###   /home/biocbuild/bbs-3.23-bioc/R/bin/R CMD check --install=check:ReactomeGSA.install-out.txt --library=/home/biocbuild/bbs-3.23-bioc/R/site-library --timings ReactomeGSA_1.25.0.tar.gz
###
##############################################################################
##############################################################################


* using log directory ‘/home/biocbuild/bbs-3.23-bioc/meat/ReactomeGSA.Rcheck’
* using R Under development (unstable) (2025-10-20 r88955)
* using platform: x86_64-pc-linux-gnu
* R was compiled by
    gcc (Ubuntu 13.3.0-6ubuntu2~24.04) 13.3.0
    GNU Fortran (Ubuntu 13.3.0-6ubuntu2~24.04) 13.3.0
* running under: Ubuntu 24.04.3 LTS
* using session charset: UTF-8
* checking for file ‘ReactomeGSA/DESCRIPTION’ ... OK
* checking extension type ... Package
* this is package ‘ReactomeGSA’ version ‘1.25.0’
* package encoding: UTF-8
* checking package namespace information ... OK
* checking package dependencies ... OK
* checking if this is a source package ... OK
* checking if there is a namespace ... OK
* checking for hidden files and directories ... OK
* checking for portable file names ... OK
* checking for sufficient/correct file permissions ... OK
* checking whether package ‘ReactomeGSA’ can be installed ... OK
* checking installed package size ... OK
* checking package directory ... OK
* checking ‘build’ directory ... OK
* checking DESCRIPTION meta-information ... OK
* checking top-level files ... OK
* checking for left-over files ... OK
* checking index information ... OK
* checking package subdirectories ... OK
* checking code files for non-ASCII characters ... OK
* checking R files for syntax errors ... OK
* checking whether the package can be loaded ... OK
* checking whether the package can be loaded with stated dependencies ... OK
* checking whether the package can be unloaded cleanly ... OK
* checking whether the namespace can be loaded with stated dependencies ... OK
* checking whether the namespace can be unloaded cleanly ... OK
* checking loading without being on the library search path ... OK
* checking whether startup messages can be suppressed ... OK
* checking dependencies in R code ... OK
* checking S3 generic/method consistency ... OK
* checking replacement functions ... OK
* checking foreign function calls ... OK
* checking R code for possible problems ... NOTE
plot_correlations,ReactomeAnalysisResult: no visible binding for global
  variable ‘combined_sig’
plot_correlations,ReactomeAnalysisResult: no visible binding for global
  variable ‘alpha’
plot_gsva_pathway,ReactomeAnalysisResult: no visible binding for global
  variable ‘cluster_id’
plot_gsva_pathway,ReactomeAnalysisResult: no visible binding for global
  variable ‘expr’
plot_gsva_pca,ReactomeAnalysisResult: no visible binding for global
  variable ‘gsva_result’
plot_gsva_pca,ReactomeAnalysisResult: no visible binding for global
  variable ‘PC1’
plot_gsva_pca,ReactomeAnalysisResult: no visible binding for global
  variable ‘PC2’
plot_heatmap,ReactomeAnalysisResult: no visible global function
  definition for ‘desc’
plot_heatmap,ReactomeAnalysisResult: no visible binding for global
  variable ‘n_sig’
plot_heatmap,ReactomeAnalysisResult: no visible binding for global
  variable ‘dataset’
plot_heatmap,ReactomeAnalysisResult: no visible binding for global
  variable ‘Name’
plot_volcano,ReactomeAnalysisResult: no visible binding for global
  variable ‘av_foldchange’
plot_volcano,ReactomeAnalysisResult: no visible binding for global
  variable ‘FDR’
Undefined global functions or variables:
  FDR Name PC1 PC2 alpha av_foldchange cluster_id combined_sig dataset
  desc expr gsva_result n_sig
* checking Rd files ... OK
* checking Rd metadata ... OK
* checking Rd cross-references ... OK
* checking for missing documentation entries ... OK
* checking for code/documentation mismatches ... OK
* checking Rd \usage sections ... OK
* checking Rd contents ... OK
* checking for unstated dependencies in examples ... OK
* checking files in ‘vignettes’ ... OK
* checking examples ... OK
Examples with CPU (user + system) or elapsed time > 5s
                                                  user system elapsed
analyse_sc_clusters-Seurat-method               44.038  1.862 194.201
analyse_sc_clusters-SingleCellExperiment-method 41.115  0.983 166.833
plot_gsva_pathway-ReactomeAnalysisResult-method 38.511  0.509 126.987
plot_gsva_heatmap                               37.704  0.623 117.801
plot_gsva_pathway                               37.611  0.697 118.897
plot_gsva_heatmap-ReactomeAnalysisResult-method 36.700  0.859  92.339
plot_gsva_pca-ReactomeAnalysisResult-method     33.375  0.706  78.517
analyse_sc_clusters                             33.121  0.697  85.586
plot_gsva_pca                                   32.866  0.562  65.024
generate_pseudo_bulk_data                       13.536  0.933  14.498
ReactomeAnalysisRequest                          4.941  0.255   5.198
perform_reactome_analysis                        4.811  0.228  31.737
load_public_dataset                              3.736  0.083  30.189
* checking for unstated dependencies in ‘tests’ ... OK
* checking tests ...
  Running ‘testthat.R’
 OK
* checking for unstated dependencies in vignettes ... OK
* checking package vignettes ... OK
* checking re-building of vignette outputs ... OK
* checking PDF version of manual ... OK
* DONE

Status: 1 NOTE
See
  ‘/home/biocbuild/bbs-3.23-bioc/meat/ReactomeGSA.Rcheck/00check.log’
for details.


Installation output

ReactomeGSA.Rcheck/00install.out

##############################################################################
##############################################################################
###
### Running command:
###
###   /home/biocbuild/bbs-3.23-bioc/R/bin/R CMD INSTALL ReactomeGSA
###
##############################################################################
##############################################################################


* installing to library ‘/home/biocbuild/bbs-3.23-bioc/R/site-library’
* installing *source* package ‘ReactomeGSA’ ...
** this is package ‘ReactomeGSA’ version ‘1.25.0’
** using staged installation
** R
** inst
** byte-compile and prepare package for lazy loading
in method for ‘analyse_sc_clusters’ with signature ‘object="Seurat"’: no definition for class “Seurat”
in method for ‘analyse_sc_clusters’ with signature ‘object="SingleCellExperiment"’: no definition for class “SingleCellExperiment”
in method for ‘add_dataset’ with signature ‘request="ReactomeAnalysisRequest",expression_values="EList"’: no definition for class “EList”
in method for ‘add_dataset’ with signature ‘request="ReactomeAnalysisRequest",expression_values="DGEList"’: no definition for class “DGEList”
in method for ‘generate_pseudo_bulk_data’ with signature ‘object="Seurat"’: no definition for class “Seurat”
in method for ‘generate_pseudo_bulk_data’ with signature ‘object="SingleCellExperiment"’: no definition for class “SingleCellExperiment”
** help
*** installing help indices
** building package indices
** installing vignettes
** testing if installed package can be loaded from temporary location
** testing if installed package can be loaded from final location
** testing if installed package keeps a record of temporary installation path
* DONE (ReactomeGSA)

Tests output

ReactomeGSA.Rcheck/tests/testthat.Rout


R Under development (unstable) (2025-10-20 r88955) -- "Unsuffered Consequences"
Copyright (C) 2025 The R Foundation for Statistical Computing
Platform: x86_64-pc-linux-gnu

R is free software and comes with ABSOLUTELY NO WARRANTY.
You are welcome to redistribute it under certain conditions.
Type 'license()' or 'licence()' for distribution details.

R is a collaborative project with many contributors.
Type 'contributors()' for more information and
'citation()' on how to cite R or R packages in publications.

Type 'demo()' for some demos, 'help()' for on-line help, or
'help.start()' for an HTML browser interface to help.
Type 'q()' to quit R.

> library(testthat)
> library(ReactomeGSA)
> 
> test_check("ReactomeGSA")
[ FAIL 0 | WARN 0 | SKIP 0 | PASS 17 ]
> 
> proc.time()
   user  system elapsed 
  1.650   0.115   1.755 

Example timings

ReactomeGSA.Rcheck/ReactomeGSA-Ex.timings

nameusersystemelapsed
ReactomeAnalysisRequest4.9410.2555.198
ReactomeAnalysisResult-class0.1800.0030.183
add_dataset-ReactomeAnalysisRequest-DGEList-method0.8280.0120.841
add_dataset-ReactomeAnalysisRequest-EList-method0.5210.0030.523
add_dataset-ReactomeAnalysisRequest-ExpressionSet-method0.5190.0210.540
add_dataset-ReactomeAnalysisRequest-data.frame-method0.5230.0050.528
add_dataset-ReactomeAnalysisRequest-matrix-method0.5140.0050.520
add_dataset0.5070.0040.510
analyse_sc_clusters-Seurat-method 44.038 1.862194.201
analyse_sc_clusters-SingleCellExperiment-method 41.115 0.983166.833
analyse_sc_clusters33.121 0.69785.586
find_public_datasets0.4310.0134.277
generate_metadata0.0010.0010.001
generate_pseudo_bulk_data13.536 0.93314.498
get_public_species0.1420.0030.597
get_reactome_data_types0.3730.0031.259
get_reactome_methods0.5720.0162.130
get_result-ReactomeAnalysisResult-method0.5260.0250.552
get_result0.2260.0030.229
load_public_dataset 3.736 0.08330.189
names-ReactomeAnalysisResult-method0.2120.0060.218
open_reactome-ReactomeAnalysisResult-method0.2130.0020.215
open_reactome0.2050.0020.207
pathways-ReactomeAnalysisResult-method0.2580.0080.265
pathways0.2260.0040.230
perform_reactome_analysis 4.811 0.22831.737
plot_correlations-ReactomeAnalysisResult-method0.2850.0100.296
plot_correlations0.2640.0010.264
plot_gsva_heatmap-ReactomeAnalysisResult-method36.700 0.85992.339
plot_gsva_heatmap 37.704 0.623117.801
plot_gsva_pathway-ReactomeAnalysisResult-method 38.511 0.509126.987
plot_gsva_pathway 37.611 0.697118.897
plot_gsva_pca-ReactomeAnalysisResult-method33.375 0.70678.517
plot_gsva_pca32.866 0.56265.024
plot_heatmap-ReactomeAnalysisResult-method0.5250.0130.538
plot_heatmap0.6030.0120.615
plot_volcano-ReactomeAnalysisResult-method0.2170.0060.223
plot_volcano0.2300.0050.235
print-ReactomeAnalysisRequest-method0.0020.0000.002
print-ReactomeAnalysisResult-method0.1950.0030.198
reactome_links-ReactomeAnalysisResult-method0.1910.0010.192
reactome_links0.1880.0050.192
result_types-ReactomeAnalysisResult-method0.1910.0030.195
result_types0.1860.0080.195
set_method-ReactomeAnalysisRequest-method0.0020.0000.002
set_method0.0010.0000.002
set_parameters-ReactomeAnalysisRequest-method0.0010.0010.001
set_parameters0.0000.0010.001
show-ReactomeAnalysisRequest-method0.0010.0000.001
show-ReactomeAnalysisResult-method0.1920.0020.194