Back to Build/check report for BioC 3.23:   simplified   long
ABCDEFGHIJKLMNOPQ[R]STUVWXYZ

This page was generated on 2025-11-13 11:32 -0500 (Thu, 13 Nov 2025).

HostnameOSArch (*)R versionInstalled pkgs
kjohnson3macOS 13.7.7 Venturaarm64R Under development (unstable) (2025-11-04 r88984) -- "Unsuffered Consequences" 4013
Click on any hostname to see more info about the system (e.g. compilers)      (*) as reported by 'uname -p', except on Windows and Mac OS X

Package 1746/2325HostnameOS / ArchINSTALLBUILDCHECKBUILD BIN
RESOLVE 1.13.0  (landing page)
Luca De Sano
Snapshot Date: 2025-11-12 13:40 -0500 (Wed, 12 Nov 2025)
git_url: https://git.bioconductor.org/packages/RESOLVE
git_branch: devel
git_last_commit: 60de66e
git_last_commit_date: 2025-10-29 11:19:27 -0500 (Wed, 29 Oct 2025)
kjohnson3macOS 13.7.7 Ventura / arm64  OK    OK    OK    OK  NO, package depends on 'GenomicRanges' which is only available as a source package that needs compilation


CHECK results for RESOLVE on kjohnson3

To the developers/maintainers of the RESOLVE package:
- Allow up to 24 hours (and sometimes 48 hours) for your latest push to git@git.bioconductor.org:packages/RESOLVE.git to reflect on this report. See Troubleshooting Build Report for more information.
- Use the following Renviron settings to reproduce errors and warnings.
- If 'R CMD check' started to fail recently on the Linux builder(s) over a missing dependency, add the missing dependency to 'Suggests:' in your DESCRIPTION file. See Renviron.bioc for more information.

raw results


Summary

Package: RESOLVE
Version: 1.13.0
Command: /Library/Frameworks/R.framework/Resources/bin/R CMD check --install=check:RESOLVE.install-out.txt --library=/Library/Frameworks/R.framework/Resources/library --no-vignettes --timings RESOLVE_1.13.0.tar.gz
StartedAt: 2025-11-12 20:06:14 -0500 (Wed, 12 Nov 2025)
EndedAt: 2025-11-12 20:13:42 -0500 (Wed, 12 Nov 2025)
EllapsedTime: 448.6 seconds
RetCode: 0
Status:   OK  
CheckDir: RESOLVE.Rcheck
Warnings: 0

Command output

##############################################################################
##############################################################################
###
### Running command:
###
###   /Library/Frameworks/R.framework/Resources/bin/R CMD check --install=check:RESOLVE.install-out.txt --library=/Library/Frameworks/R.framework/Resources/library --no-vignettes --timings RESOLVE_1.13.0.tar.gz
###
##############################################################################
##############################################################################


* using log directory ‘/Users/biocbuild/bbs-3.23-bioc/meat/RESOLVE.Rcheck’
* using R Under development (unstable) (2025-11-04 r88984)
* using platform: aarch64-apple-darwin20
* R was compiled by
    Apple clang version 16.0.0 (clang-1600.0.26.6)
    GNU Fortran (GCC) 14.2.0
* running under: macOS Ventura 13.7.8
* using session charset: UTF-8
* using option ‘--no-vignettes’
* checking for file ‘RESOLVE/DESCRIPTION’ ... OK
* this is package ‘RESOLVE’ version ‘1.13.0’
* package encoding: UTF-8
* checking package namespace information ... OK
* checking package dependencies ... OK
* checking if this is a source package ... OK
* checking if there is a namespace ... OK
* checking for hidden files and directories ... OK
* checking for portable file names ... OK
* checking for sufficient/correct file permissions ... OK
* checking whether package ‘RESOLVE’ can be installed ... OK
* checking installed package size ... OK
* checking package directory ... OK
* checking ‘build’ directory ... OK
* checking DESCRIPTION meta-information ... OK
* checking top-level files ... OK
* checking for left-over files ... OK
* checking index information ... OK
* checking package subdirectories ... OK
* checking code files for non-ASCII characters ... OK
* checking R files for syntax errors ... OK
* checking whether the package can be loaded ... OK
* checking whether the package can be loaded with stated dependencies ... OK
* checking whether the package can be unloaded cleanly ... OK
* checking whether the namespace can be loaded with stated dependencies ... OK
* checking whether the namespace can be unloaded cleanly ... OK
* checking dependencies in R code ... OK
* checking S3 generic/method consistency ... OK
* checking replacement functions ... OK
* checking foreign function calls ... OK
* checking R code for possible problems ... OK
* checking Rd files ... OK
* checking Rd metadata ... OK
* checking Rd cross-references ... OK
* checking for missing documentation entries ... OK
* checking for code/documentation mismatches ... OK
* checking Rd \usage sections ... OK
* checking Rd contents ... OK
* checking for unstated dependencies in examples ... OK
* checking contents of ‘data’ directory ... OK
* checking data for non-ASCII characters ... OK
* checking data for ASCII and uncompressed saves ... OK
* checking files in ‘vignettes’ ... OK
* checking examples ... OK
Examples with CPU (user + system) or elapsed time > 5s
                          user system elapsed
signaturesSignificance  71.289  0.113  77.447
signaturesCV            52.949  0.133  56.049
signaturesDecomposition 40.014  0.080  43.657
signaturesAssignment    20.800  0.051  22.134
* checking for unstated dependencies in ‘tests’ ... OK
* checking tests ...
  Running ‘testthat.R’
 OK
* checking for unstated dependencies in vignettes ... OK
* checking package vignettes ... OK
* checking running R code from vignettes ... SKIPPED
* checking re-building of vignette outputs ... SKIPPED
* checking PDF version of manual ... OK
* DONE

Status: OK


Installation output

RESOLVE.Rcheck/00install.out

##############################################################################
##############################################################################
###
### Running command:
###
###   /Library/Frameworks/R.framework/Resources/bin/R CMD INSTALL RESOLVE
###
##############################################################################
##############################################################################


* installing to library ‘/Library/Frameworks/R.framework/Versions/4.6-arm64/Resources/library’
* installing *source* package ‘RESOLVE’ ...
** this is package ‘RESOLVE’ version ‘1.13.0’
** using staged installation
** R
** data
** inst
** byte-compile and prepare package for lazy loading
** help
*** installing help indices
** building package indices
** installing vignettes
** testing if installed package can be loaded from temporary location
** testing if installed package can be loaded from final location
** testing if installed package keeps a record of temporary installation path
* DONE (RESOLVE)

Tests output

RESOLVE.Rcheck/tests/testthat.Rout


R Under development (unstable) (2025-11-04 r88984) -- "Unsuffered Consequences"
Copyright (C) 2025 The R Foundation for Statistical Computing
Platform: aarch64-apple-darwin20

R is free software and comes with ABSOLUTELY NO WARRANTY.
You are welcome to redistribute it under certain conditions.
Type 'license()' or 'licence()' for distribution details.

R is a collaborative project with many contributors.
Type 'contributors()' for more information and
'citation()' on how to cite R or R packages in publications.

Type 'demo()' for some demos, 'help()' for on-line help, or
'help.start()' for an HTML browser interface to help.
Type 'q()' to quit R.

> Sys.setenv("R_TESTS" = "")
> 
> library("testthat")
> library("RESOLVE")
> 
> test_check("RESOLVE")
[ FAIL 0 | WARN 200 | SKIP 0 | PASS 6 ]

[ FAIL 0 | WARN 200 | SKIP 0 | PASS 6 ]
> 
> proc.time()
   user  system elapsed 
 94.574   0.555 102.082 

Example timings

RESOLVE.Rcheck/RESOLVE-Ex.timings

nameusersystemelapsed
associationAlterations0.2620.0190.316
associationPrognosis0.0620.0020.068
associationSignatures0.4740.0210.507
getCNCounts0.0060.0010.007
getIDCounts2.3340.1402.678
getMNVCounts4.2550.0314.720
getSBSCounts0.4070.0790.539
groupsCNPlot1.1590.0121.244
groupsCXPlot0.6920.0110.753
groupsIDPlot2.1090.0202.440
groupsMNVPlot1.4160.0781.598
groupsSBSPlot1.2410.0191.365
patientsCNPlot0.5780.0050.668
patientsCXPlot0.2830.0030.308
patientsIDPlot0.9180.0140.972
patientsMNVPlot0.5830.0030.623
patientsSBSPlot0.3960.0020.434
signaturesAssignment20.800 0.05122.134
signaturesCNPlot0.8460.0100.920
signaturesCV52.949 0.13356.049
signaturesCXPlot0.4150.0130.448
signaturesClustering4.1290.0154.330
signaturesDecomposition40.014 0.08043.657
signaturesIDPlot1.3100.0051.408
signaturesMNVPlot0.8430.0020.930
signaturesSBSPlot0.5700.0020.626
signaturesSignificance71.289 0.11377.447