Back to Build/check report for BioC 3.23:   simplified   long
ABCDEFGHIJKL[M]NOPQRSTUVWXYZ

This page was generated on 2025-11-12 11:32 -0500 (Wed, 12 Nov 2025).

HostnameOSArch (*)R versionInstalled pkgs
nebbiolo1Linux (Ubuntu 24.04.3 LTS)x86_64R Under development (unstable) (2025-10-20 r88955) -- "Unsuffered Consequences" 4823
Click on any hostname to see more info about the system (e.g. compilers)      (*) as reported by 'uname -p', except on Windows and Mac OS X

Package 1411/2325HostnameOS / ArchINSTALLBUILDCHECKBUILD BIN
MutationalPatterns 3.21.0  (landing page)
Mark van Roosmalen
Snapshot Date: 2025-11-11 13:40 -0500 (Tue, 11 Nov 2025)
git_url: https://git.bioconductor.org/packages/MutationalPatterns
git_branch: devel
git_last_commit: b3f3115
git_last_commit_date: 2025-10-29 10:35:07 -0500 (Wed, 29 Oct 2025)
nebbiolo1Linux (Ubuntu 24.04.3 LTS) / x86_64  OK    OK    ERROR  


CHECK results for MutationalPatterns on nebbiolo1

To the developers/maintainers of the MutationalPatterns package:
- Allow up to 24 hours (and sometimes 48 hours) for your latest push to git@git.bioconductor.org:packages/MutationalPatterns.git to reflect on this report. See Troubleshooting Build Report for more information.
- Use the following Renviron settings to reproduce errors and warnings.
- If 'R CMD check' started to fail recently on the Linux builder(s) over a missing dependency, add the missing dependency to 'Suggests:' in your DESCRIPTION file. See Renviron.bioc for more information.

raw results


Summary

Package: MutationalPatterns
Version: 3.21.0
Command: /home/biocbuild/bbs-3.23-bioc/R/bin/R CMD check --install=check:MutationalPatterns.install-out.txt --library=/home/biocbuild/bbs-3.23-bioc/R/site-library --timings MutationalPatterns_3.21.0.tar.gz
StartedAt: 2025-11-12 01:52:59 -0500 (Wed, 12 Nov 2025)
EndedAt: 2025-11-12 02:13:10 -0500 (Wed, 12 Nov 2025)
EllapsedTime: 1211.0 seconds
RetCode: 1
Status:   ERROR  
CheckDir: MutationalPatterns.Rcheck
Warnings: NA

Command output

##############################################################################
##############################################################################
###
### Running command:
###
###   /home/biocbuild/bbs-3.23-bioc/R/bin/R CMD check --install=check:MutationalPatterns.install-out.txt --library=/home/biocbuild/bbs-3.23-bioc/R/site-library --timings MutationalPatterns_3.21.0.tar.gz
###
##############################################################################
##############################################################################


* using log directory ‘/home/biocbuild/bbs-3.23-bioc/meat/MutationalPatterns.Rcheck’
* using R Under development (unstable) (2025-10-20 r88955)
* using platform: x86_64-pc-linux-gnu
* R was compiled by
    gcc (Ubuntu 13.3.0-6ubuntu2~24.04) 13.3.0
    GNU Fortran (Ubuntu 13.3.0-6ubuntu2~24.04) 13.3.0
* running under: Ubuntu 24.04.3 LTS
* using session charset: UTF-8
* checking for file ‘MutationalPatterns/DESCRIPTION’ ... OK
* checking extension type ... Package
* this is package ‘MutationalPatterns’ version ‘3.21.0’
* package encoding: UTF-8
* checking package namespace information ... OK
* checking package dependencies ... OK
* checking if this is a source package ... OK
* checking if there is a namespace ... OK
* checking for hidden files and directories ... OK
* checking for portable file names ... OK
* checking for sufficient/correct file permissions ... OK
* checking whether package ‘MutationalPatterns’ can be installed ... OK
* checking installed package size ... OK
* checking package directory ... OK
* checking ‘build’ directory ... OK
* checking DESCRIPTION meta-information ... NOTE
License stub is invalid DCF.
* checking top-level files ... OK
* checking for left-over files ... OK
* checking index information ... OK
* checking package subdirectories ... OK
* checking code files for non-ASCII characters ... OK
* checking R files for syntax errors ... OK
* checking whether the package can be loaded ... OK
* checking whether the package can be loaded with stated dependencies ... OK
* checking whether the package can be unloaded cleanly ... OK
* checking whether the namespace can be loaded with stated dependencies ... OK
* checking whether the namespace can be unloaded cleanly ... OK
* checking loading without being on the library search path ... OK
* checking dependencies in R code ... OK
* checking S3 generic/method consistency ... OK
* checking replacement functions ... OK
* checking foreign function calls ... OK
* checking R code for possible problems ... OK
* checking Rd files ... OK
* checking Rd metadata ... OK
* checking Rd cross-references ... OK
* checking for missing documentation entries ... OK
* checking for code/documentation mismatches ... OK
* checking Rd \usage sections ... OK
* checking Rd contents ... OK
* checking for unstated dependencies in examples ... OK
* checking files in ‘vignettes’ ... OK
* checking examples ... OK
Examples with CPU (user + system) or elapsed time > 5s
                                    user system elapsed
context_potential_damage_analysis 24.122  0.814  24.936
read_vcfs_as_granges              19.379  2.113  25.840
plot_lesion_segregation           16.722  0.052  16.776
calculate_lesion_segregation      10.796  0.392  11.197
get_mut_type                      10.857  0.039  10.896
plot_compare_indels               10.652  0.042  10.694
plot_indel_contexts               10.249  0.002  10.250
genomic_distribution               9.957  0.241  10.201
bin_mutation_density               9.709  0.457  10.166
get_indel_context                  6.372  0.893   7.265
fit_to_signatures_bootstrapped     6.764  0.192   6.956
plot_spectrum                      6.574  0.328   6.906
plot_compare_dbs                   6.626  0.028   6.655
plot_profile_heatmap               5.628  0.016   5.644
plot_spectrum_region               5.234  0.184   5.419
mut_matrix_stranded                4.873  0.524   5.398
plot_river                         5.255  0.006   5.261
* checking for unstated dependencies in ‘tests’ ... OK
* checking tests ...
  Running ‘testthat.R’
 ERROR
Running the tests in ‘tests/testthat.R’ failed.
Last 13 lines of output:
  382/1728 mismatches (average diff: 1.45)
  [68] 2 - 1 ==  1
  [69] 4 - 3 ==  1
  [70] 5 - 6 == -1
  [71] 2 - 1 ==  1
  [72] 1 - 0 ==  1
  [74] 3 - 2 ==  1
  [77] 4 - 3 ==  1
  [78] 2 - 1 ==  1
  [79] 1 - 0 ==  1
  ...
  
  [ FAIL 3 | WARN 41 | SKIP 0 | PASS 471 ]
  Error: Test failures
  Execution halted
* checking for unstated dependencies in vignettes ... OK
* checking package vignettes ... OK
* checking re-building of vignette outputs ... OK
* checking PDF version of manual ... OK
* DONE

Status: 1 ERROR, 1 NOTE
See
  ‘/home/biocbuild/bbs-3.23-bioc/meat/MutationalPatterns.Rcheck/00check.log’
for details.


Installation output

MutationalPatterns.Rcheck/00install.out

##############################################################################
##############################################################################
###
### Running command:
###
###   /home/biocbuild/bbs-3.23-bioc/R/bin/R CMD INSTALL MutationalPatterns
###
##############################################################################
##############################################################################


* installing to library ‘/home/biocbuild/bbs-3.23-bioc/R/site-library’
* installing *source* package ‘MutationalPatterns’ ...
** this is package ‘MutationalPatterns’ version ‘3.21.0’
** using staged installation
** R
** inst
** byte-compile and prepare package for lazy loading
** help
*** installing help indices
** building package indices
** installing vignettes
** testing if installed package can be loaded from temporary location
** testing if installed package can be loaded from final location
** testing if installed package keeps a record of temporary installation path
* DONE (MutationalPatterns)

Tests output

MutationalPatterns.Rcheck/tests/testthat.Rout.fail


R Under development (unstable) (2025-10-20 r88955) -- "Unsuffered Consequences"
Copyright (C) 2025 The R Foundation for Statistical Computing
Platform: x86_64-pc-linux-gnu

R is free software and comes with ABSOLUTELY NO WARRANTY.
You are welcome to redistribute it under certain conditions.
Type 'license()' or 'licence()' for distribution details.

R is a collaborative project with many contributors.
Type 'contributors()' for more information and
'citation()' on how to cite R or R packages in publications.

Type 'demo()' for some demos, 'help()' for on-line help, or
'help.start()' for an HTML browser interface to help.
Type 'q()' to quit R.

> library(testthat)
> library(MutationalPatterns)
Loading required package: GenomicRanges
Loading required package: stats4
Loading required package: BiocGenerics
Loading required package: generics

Attaching package: 'generics'

The following objects are masked from 'package:base':

    as.difftime, as.factor, as.ordered, intersect, is.element, setdiff,
    setequal, union


Attaching package: 'BiocGenerics'

The following objects are masked from 'package:stats':

    IQR, mad, sd, var, xtabs

The following objects are masked from 'package:base':

    Filter, Find, Map, Position, Reduce, anyDuplicated, aperm, append,
    as.data.frame, basename, cbind, colnames, dirname, do.call,
    duplicated, eval, evalq, get, grep, grepl, is.unsorted, lapply,
    mapply, match, mget, order, paste, pmax, pmax.int, pmin, pmin.int,
    rank, rbind, rownames, sapply, saveRDS, table, tapply, unique,
    unsplit, which.max, which.min

Loading required package: S4Vectors

Attaching package: 'S4Vectors'

The following object is masked from 'package:utils':

    findMatches

The following objects are masked from 'package:base':

    I, expand.grid, unname

Loading required package: IRanges
Loading required package: Seqinfo
Loading required package: NMF
Loading required package: registry
Loading required package: rngtools
Loading required package: cluster
NMF - BioConductor layer [OK] | Shared memory capabilities [NO: bigmemory] | Cores 2/2
  To enable shared memory capabilities, try: install.extras('
NMF
')

Attaching package: 'NMF'

The following object is masked from 'package:S4Vectors':

    nrun

The following object is masked from 'package:generics':

    fit

The following object is masked from 'package:testthat':

    compare

> 
> test_check("MutationalPatterns")
[ FAIL 3 | WARN 41 | SKIP 0 | PASS 471 ]

══ Failed tests ════════════════════════════════════════════════════════════════
── Failure ('test-context_potential_damage_analysis.R:46:3'): Output is equal to expected ──
`output` not equal to `expected`.
Component "n": Mean relative difference: 0.09452736
Component "ratio": Mean relative difference: 0.06150134
Component "blosum62": Mean relative difference: 0.2656804
── Failure ('test-mut_matrix_stranded.R:20:3'): transforms correctly ───────────
`output` not equal to `expected`.
382/1728 mismatches (average diff: 1.45)
[68] 2 - 1 ==  1
[69] 4 - 3 ==  1
[70] 5 - 6 == -1
[71] 2 - 1 ==  1
[72] 1 - 0 ==  1
[74] 3 - 2 ==  1
[77] 4 - 3 ==  1
[78] 2 - 1 ==  1
[79] 1 - 0 ==  1
...
── Failure ('test-mut_matrix_stranded.R:29:3'): a list is also acceptable input ──
`output_list` not equal to `expected`.
382/1728 mismatches (average diff: 1.45)
[68] 2 - 1 ==  1
[69] 4 - 3 ==  1
[70] 5 - 6 == -1
[71] 2 - 1 ==  1
[72] 1 - 0 ==  1
[74] 3 - 2 ==  1
[77] 4 - 3 ==  1
[78] 2 - 1 ==  1
[79] 1 - 0 ==  1
...

[ FAIL 3 | WARN 41 | SKIP 0 | PASS 471 ]
Error: Test failures
Execution halted

Example timings

MutationalPatterns.Rcheck/MutationalPatterns-Ex.timings

nameusersystemelapsed
bin_mutation_density 9.709 0.45710.166
binomial_test0.0090.0000.009
calculate_lesion_segregation10.796 0.39211.197
cluster_signatures0.0460.0000.047
context_potential_damage_analysis24.122 0.81424.936
convert_sigs_to_ref0.0340.0060.042
cos_sim0.0000.0000.001
cos_sim_matrix0.0190.0030.023
count_dbs_contexts0.0810.0020.084
count_indel_contexts0.1450.0050.150
count_mbs_contexts0.0670.0020.069
determine_regional_similarity2.8450.3783.223
enrichment_depletion_test0.1250.0010.127
extract_signatures0.0020.0000.002
fit_to_signatures0.0860.0110.097
fit_to_signatures_bootstrapped6.7640.1926.956
fit_to_signatures_strict3.7120.0563.768
genomic_distribution 9.957 0.24110.201
get_dbs_context0.3430.0000.344
get_indel_context6.3720.8937.265
get_known_signatures0.2000.4530.657
get_mut_type10.857 0.03910.896
lengthen_mut_matrix0.0140.0050.018
merge_signatures1.0970.1311.228
mut_context1.0130.2001.213
mut_matrix1.8270.2522.078
mut_matrix_stranded4.8730.5245.398
mut_strand1.8190.0781.897
mut_type0.0280.0020.030
mut_type_occurrences0.8310.1300.962
mutations_from_vcf0.0270.0000.028
plot_192_profile3.3870.0063.393
plot_96_profile2.8040.0052.810
plot_bootstrapped_contribution2.4580.0032.462
plot_compare_dbs6.6260.0286.655
plot_compare_indels10.652 0.04210.694
plot_compare_mbs1.4410.0021.444
plot_compare_profiles2.6290.0032.632
plot_contribution2.2160.0022.219
plot_contribution_heatmap2.2210.0002.221
plot_correlation_bootstrap1.7620.0071.768
plot_cosine_heatmap2.7490.0022.751
plot_dbs_contexts4.9390.0034.943
plot_enrichment_depletion4.6670.0024.669
plot_indel_contexts10.249 0.00210.250
plot_lesion_segregation16.722 0.05216.776
plot_main_dbs_contexts0.9070.0000.906
plot_main_indel_contexts0.8460.0020.848
plot_mbs_contexts0.7920.0010.794
plot_original_vs_reconstructed0.9820.0110.993
plot_profile_heatmap5.6280.0165.644
plot_profile_region1.2290.0011.230
plot_rainfall2.1720.0372.210
plot_regional_similarity2.5100.0082.519
plot_river5.2550.0065.261
plot_signature_strand_bias1.0190.0181.037
plot_spectrum6.5740.3286.906
plot_spectrum_region5.2340.1845.419
plot_strand0.2930.0060.300
plot_strand_bias0.9150.0040.921
pool_mut_mat0.0330.0010.036
read_vcfs_as_granges19.379 2.11325.840
rename_nmf_signatures0.0270.0340.061
signature_potential_damage_analysis0.0840.0080.092
split_muts_region3.9420.4114.353
strand_bias_test0.1100.0120.121
strand_occurrences0.1270.0150.141
type_context1.1710.2601.431