Back to Multiple platform build/check report for BioC 3.23:   simplified   long
ABCDEFGHIJKL[M]NOPQRSTUVWXYZ

This page was generated on 2025-11-14 11:36 -0500 (Fri, 14 Nov 2025).

HostnameOSArch (*)R versionInstalled pkgs
nebbiolo1Linux (Ubuntu 24.04.3 LTS)x86_64R Under development (unstable) (2025-10-20 r88955) -- "Unsuffered Consequences" 4825
kjohnson3macOS 13.7.7 Venturaarm64R Under development (unstable) (2025-11-04 r88984) -- "Unsuffered Consequences" 4547
Click on any hostname to see more info about the system (e.g. compilers)      (*) as reported by 'uname -p', except on Windows and Mac OS X

Package 1206/2325HostnameOS / ArchINSTALLBUILDCHECKBUILD BIN
MEDIPS 1.63.0  (landing page)
Lukas Chavez
Snapshot Date: 2025-11-13 13:40 -0500 (Thu, 13 Nov 2025)
git_url: https://git.bioconductor.org/packages/MEDIPS
git_branch: devel
git_last_commit: b8a28dc
git_last_commit_date: 2025-10-29 10:06:09 -0500 (Wed, 29 Oct 2025)
nebbiolo1Linux (Ubuntu 24.04.3 LTS) / x86_64  OK    OK    OK  UNNEEDED, same version is already published
kjohnson3macOS 13.7.7 Ventura / arm64  OK    OK    OK    OK  NO, package depends on 'Rsamtools' which is only available as a source package that needs compilation


CHECK results for MEDIPS on kjohnson3

To the developers/maintainers of the MEDIPS package:
- Allow up to 24 hours (and sometimes 48 hours) for your latest push to git@git.bioconductor.org:packages/MEDIPS.git to reflect on this report. See Troubleshooting Build Report for more information.
- Use the following Renviron settings to reproduce errors and warnings.
- If 'R CMD check' started to fail recently on the Linux builder(s) over a missing dependency, add the missing dependency to 'Suggests:' in your DESCRIPTION file. See Renviron.bioc for more information.

raw results


Summary

Package: MEDIPS
Version: 1.63.0
Command: /Library/Frameworks/R.framework/Resources/bin/R CMD check --install=check:MEDIPS.install-out.txt --library=/Library/Frameworks/R.framework/Resources/library --no-vignettes --timings MEDIPS_1.63.0.tar.gz
StartedAt: 2025-11-13 20:51:46 -0500 (Thu, 13 Nov 2025)
EndedAt: 2025-11-13 20:54:30 -0500 (Thu, 13 Nov 2025)
EllapsedTime: 164.3 seconds
RetCode: 0
Status:   OK  
CheckDir: MEDIPS.Rcheck
Warnings: 0

Command output

##############################################################################
##############################################################################
###
### Running command:
###
###   /Library/Frameworks/R.framework/Resources/bin/R CMD check --install=check:MEDIPS.install-out.txt --library=/Library/Frameworks/R.framework/Resources/library --no-vignettes --timings MEDIPS_1.63.0.tar.gz
###
##############################################################################
##############################################################################


* using log directory ‘/Users/biocbuild/bbs-3.23-bioc/meat/MEDIPS.Rcheck’
* using R Under development (unstable) (2025-11-04 r88984)
* using platform: aarch64-apple-darwin20
* R was compiled by
    Apple clang version 16.0.0 (clang-1600.0.26.6)
    GNU Fortran (GCC) 14.2.0
* running under: macOS Ventura 13.7.8
* using session charset: UTF-8
* using option ‘--no-vignettes’
* checking for file ‘MEDIPS/DESCRIPTION’ ... OK
* checking extension type ... Package
* this is package ‘MEDIPS’ version ‘1.63.0’
* checking package namespace information ... OK
* checking package dependencies ... OK
* checking if this is a source package ... OK
* checking if there is a namespace ... OK
* checking for hidden files and directories ... OK
* checking for portable file names ... OK
* checking for sufficient/correct file permissions ... OK
* checking whether package ‘MEDIPS’ can be installed ... OK
* checking installed package size ... OK
* checking package directory ... OK
* checking ‘build’ directory ... OK
* checking DESCRIPTION meta-information ... OK
* checking top-level files ... OK
* checking for left-over files ... OK
* checking index information ... OK
* checking package subdirectories ... OK
* checking code files for non-ASCII characters ... OK
* checking R files for syntax errors ... OK
* checking whether the package can be loaded ... OK
* checking whether the package can be loaded with stated dependencies ... OK
* checking whether the package can be unloaded cleanly ... OK
* checking whether the namespace can be loaded with stated dependencies ... OK
* checking whether the namespace can be unloaded cleanly ... OK
* checking dependencies in R code ... OK
* checking S3 generic/method consistency ... OK
* checking replacement functions ... OK
* checking foreign function calls ... OK
* checking R code for possible problems ... NOTE
MEDIPS.CpGenrich: no visible global function definition for ‘seqlevels’
MEDIPS.CpGenrich: no visible global function definition for
  ‘seqlengths’
MEDIPS.CpGenrich: no visible global function definition for
  ‘GRangesList’
MEDIPS.CpGenrich : <anonymous>: no visible global function definition
  for ‘seqnames’
MEDIPS.CpGenrich: no visible global function definition for ‘new’
MEDIPS.addCNV: no visible global function definition for ‘seqnames’
MEDIPS.correlation: no visible global function definition for ‘pdf’
MEDIPS.correlation: no visible global function definition for ‘dev.off’
MEDIPS.couplingVector: no visible global function definition for ‘new’
MEDIPS.createROIset: no visible global function definition for
  ‘seqnames’
MEDIPS.createROIset: no visible global function definition for
  ‘seqlengths’
MEDIPS.createROIset: no visible global function definition for ‘new’
MEDIPS.createSet: no visible global function definition for ‘seqnames’
MEDIPS.createSet: no visible global function definition for
  ‘seqlengths’
MEDIPS.createSet: no visible global function definition for ‘seqlevels’
MEDIPS.createSet: no visible global function definition for ‘new’
MEDIPS.diffMeth: no visible global function definition for ‘p.adjust’
MEDIPS.exportWIG: no visible global function definition for ‘seqnames’
MEDIPS.mergeSets: no visible global function definition for ‘new’
MEDIPS.meth: no visible global function definition for ‘seqnames’
MEDIPS.plotCalibrationPlot: no visible global function definition for
  ‘seqnames’
MEDIPS.plotCalibrationPlot: no visible global function definition for
  ‘points’
MEDIPS.plotSeqCoverage: no visible global function definition for ‘pie’
MEDIPS.plotSeqCoverage: no visible global function definition for
  ‘hist’
MEDIPS.saturation: no visible global function definition for
  ‘seqlevels’
MEDIPS.saturation: no visible global function definition for
  ‘seqlengths’
MEDIPS.selectROIs: no visible global function definition for
  ‘elementMetadata<-’
MEDIPS.selectROIs: no visible global function definition for
  ‘elementMetadata’
MEDIPS.selectROIs: no visible global function definition for
  ‘findOverlaps’
MEDIPS.selectROIs: no visible global function definition for ‘values’
MEDIPS.selectROIs: no visible global function definition for ‘seqnames’
MEDIPS.seqCoverage: no visible global function definition for
  ‘seqlevels’
MEDIPS.seqCoverage: no visible global function definition for
  ‘seqlengths’
MEDIPS.setAnnotation: no visible global function definition for
  ‘findOverlaps’
MEDIPS.setAnnotation: no visible global function definition for
  ‘values’
getGRange: no visible global function definition for ‘qpois’
getGRange: no visible global function definition for ‘seqlengths’
getGRange: no visible global function definition for ‘countMatches’
getGRange: no visible global function definition for ‘strand<-’
getMObjectFromWIG: no visible global function definition for
  ‘seqlengths’
getMObjectFromWIG: no visible global function definition for ‘values’
getMObjectFromWIG: no visible global function definition for
  ‘runLength’
getMObjectFromWIG: no visible global function definition for ‘seqnames’
getMObjectFromWIG: no visible global function definition for ‘runValue’
getMObjectFromWIG: no visible global function definition for ‘new’
getPairedGRange: no visible global function definition for ‘sd’
getPairedGRange: no visible global function definition for ‘qpois’
getPairedGRange: no visible global function definition for ‘seqlengths’
getPairedGRange: no visible global function definition for
  ‘countMatches’
getPairedGRange: no visible global function definition for ‘strand<-’
matSd: no visible binding for global variable ‘sd’
matTtest: no visible binding for global variable ‘sd’
matTtest: no visible global function definition for ‘pt’
Undefined global functions or variables:
  GRangesList countMatches dev.off elementMetadata elementMetadata<-
  findOverlaps hist new p.adjust pdf pie points pt qpois runLength
  runValue sd seqlengths seqlevels seqnames strand<- values
Consider adding
  importFrom("grDevices", "dev.off", "pdf")
  importFrom("graphics", "hist", "pie", "points")
  importFrom("methods", "new")
  importFrom("stats", "p.adjust", "pt", "qpois", "sd")
to your NAMESPACE file (and ensure that your DESCRIPTION Imports field
contains 'methods').
* checking Rd files ... OK
* checking Rd metadata ... OK
* checking Rd cross-references ... OK
* checking for missing documentation entries ... OK
* checking for code/documentation mismatches ... OK
* checking Rd \usage sections ... OK
* checking Rd contents ... OK
* checking for unstated dependencies in examples ... OK
* checking sizes of PDF files under ‘inst/doc’ ... OK
* checking files in ‘vignettes’ ... OK
* checking examples ... OK
Examples with CPU (user + system) or elapsed time > 5s
                user system elapsed
MEDIPS.meth   16.223  0.708  17.529
MEDIPS.addCNV  9.010  0.194   9.735
* checking for unstated dependencies in vignettes ... OK
* checking package vignettes ... OK
* checking running R code from vignettes ... SKIPPED
* checking re-building of vignette outputs ... SKIPPED
* checking PDF version of manual ... OK
* DONE

Status: 1 NOTE
See
  ‘/Users/biocbuild/bbs-3.23-bioc/meat/MEDIPS.Rcheck/00check.log’
for details.


Installation output

MEDIPS.Rcheck/00install.out

##############################################################################
##############################################################################
###
### Running command:
###
###   /Library/Frameworks/R.framework/Resources/bin/R CMD INSTALL MEDIPS
###
##############################################################################
##############################################################################


* installing to library ‘/Library/Frameworks/R.framework/Versions/4.6-arm64/Resources/library’
* installing *source* package ‘MEDIPS’ ...
** this is package ‘MEDIPS’ version ‘1.63.0’
** using staged installation
** R
** inst
** byte-compile and prepare package for lazy loading
No methods found in package ‘IRanges’ for request: ‘values’ when loading ‘MEDIPS’
** help
*** installing help indices
** building package indices
** installing vignettes
** testing if installed package can be loaded from temporary location
No methods found in package ‘IRanges’ for request: ‘values’ when loading ‘MEDIPS’
** testing if installed package can be loaded from final location
No methods found in package ‘IRanges’ for request: ‘values’ when loading ‘MEDIPS’
** testing if installed package keeps a record of temporary installation path
* DONE (MEDIPS)

Tests output


Example timings

MEDIPS.Rcheck/MEDIPS-Ex.timings

nameusersystemelapsed
COUPLINGset-class0.0010.0000.000
MEDIPS.CpGenrich0.0350.0040.042
MEDIPS.addCNV9.0100.1949.735
MEDIPS.correlation0.7320.0320.832
MEDIPS.couplingVector1.7760.0361.933
MEDIPS.createROIset0.5920.0250.667
MEDIPS.createSet0.6090.0220.703
MEDIPS.exportWIG1.1340.0401.283
MEDIPS.getAnnotation000
MEDIPS.mergeFrames0.0010.0010.001
MEDIPS.mergeSets0.4320.0070.474
MEDIPS.meth16.223 0.70817.529
MEDIPS.plotCalibrationPlot1.4490.1061.597
MEDIPS.plotSaturation3.0350.2373.408
MEDIPS.plotSeqCoverage1.5530.0791.699
MEDIPS.saturation2.8430.2263.207
MEDIPS.selectROIs0.7080.0450.776
MEDIPS.selectSig1.1600.0841.284
MEDIPS.seqCoverage1.5040.0731.643
MEDIPS.setAnnotation1.1920.0701.280
MEDIPSroiSet-class000
MEDIPSset-class0.0010.0000.000