| Back to Build/check report for BioC 3.23: simplified long |
|
This page was generated on 2025-11-12 11:32 -0500 (Wed, 12 Nov 2025).
| Hostname | OS | Arch (*) | R version | Installed pkgs |
|---|---|---|---|---|
| nebbiolo1 | Linux (Ubuntu 24.04.3 LTS) | x86_64 | R Under development (unstable) (2025-10-20 r88955) -- "Unsuffered Consequences" | 4823 |
| Click on any hostname to see more info about the system (e.g. compilers) (*) as reported by 'uname -p', except on Windows and Mac OS X | ||||
| Package 1147/2325 | Hostname | OS / Arch | INSTALL | BUILD | CHECK | BUILD BIN | ||||||||
| LymphoSeq 1.39.0 (landing page) David Coffey
| nebbiolo1 | Linux (Ubuntu 24.04.3 LTS) / x86_64 | OK | OK | OK | |||||||||
|
To the developers/maintainers of the LymphoSeq package: - Allow up to 24 hours (and sometimes 48 hours) for your latest push to git@git.bioconductor.org:packages/LymphoSeq.git to reflect on this report. See Troubleshooting Build Report for more information. - Use the following Renviron settings to reproduce errors and warnings. - If 'R CMD check' started to fail recently on the Linux builder(s) over a missing dependency, add the missing dependency to 'Suggests:' in your DESCRIPTION file. See Renviron.bioc for more information. |
| Package: LymphoSeq |
| Version: 1.39.0 |
| Command: /home/biocbuild/bbs-3.23-bioc/R/bin/R CMD check --install=check:LymphoSeq.install-out.txt --library=/home/biocbuild/bbs-3.23-bioc/R/site-library --timings LymphoSeq_1.39.0.tar.gz |
| StartedAt: 2025-11-12 00:54:18 -0500 (Wed, 12 Nov 2025) |
| EndedAt: 2025-11-12 00:58:20 -0500 (Wed, 12 Nov 2025) |
| EllapsedTime: 242.5 seconds |
| RetCode: 0 |
| Status: OK |
| CheckDir: LymphoSeq.Rcheck |
| Warnings: 0 |
##############################################################################
##############################################################################
###
### Running command:
###
### /home/biocbuild/bbs-3.23-bioc/R/bin/R CMD check --install=check:LymphoSeq.install-out.txt --library=/home/biocbuild/bbs-3.23-bioc/R/site-library --timings LymphoSeq_1.39.0.tar.gz
###
##############################################################################
##############################################################################
* using log directory ‘/home/biocbuild/bbs-3.23-bioc/meat/LymphoSeq.Rcheck’
* using R Under development (unstable) (2025-10-20 r88955)
* using platform: x86_64-pc-linux-gnu
* R was compiled by
gcc (Ubuntu 13.3.0-6ubuntu2~24.04) 13.3.0
GNU Fortran (Ubuntu 13.3.0-6ubuntu2~24.04) 13.3.0
* running under: Ubuntu 24.04.3 LTS
* using session charset: UTF-8
* checking for file ‘LymphoSeq/DESCRIPTION’ ... OK
* this is package ‘LymphoSeq’ version ‘1.39.0’
* checking package namespace information ... OK
* checking package dependencies ... OK
* checking if this is a source package ... OK
* checking if there is a namespace ... OK
* checking for hidden files and directories ... OK
* checking for portable file names ... OK
* checking for sufficient/correct file permissions ... OK
* checking whether package ‘LymphoSeq’ can be installed ... OK
* checking installed package size ... OK
* checking package directory ... OK
* checking ‘build’ directory ... OK
* checking DESCRIPTION meta-information ... OK
* checking top-level files ... OK
* checking for left-over files ... OK
* checking index information ... OK
* checking package subdirectories ... OK
* checking code files for non-ASCII characters ... OK
* checking R files for syntax errors ... OK
* checking whether the package can be loaded ... OK
* checking whether the package can be loaded with stated dependencies ... OK
* checking whether the package can be unloaded cleanly ... OK
* checking whether the namespace can be loaded with stated dependencies ... OK
* checking whether the namespace can be unloaded cleanly ... OK
* checking loading without being on the library search path ... OK
* checking dependencies in R code ... OK
* checking S3 generic/method consistency ... OK
* checking replacement functions ... OK
* checking foreign function calls ... OK
* checking R code for possible problems ... OK
* checking Rd files ... OK
* checking Rd metadata ... OK
* checking Rd cross-references ... OK
* checking for missing documentation entries ... OK
* checking for code/documentation mismatches ... OK
* checking Rd \usage sections ... OK
* checking Rd contents ... OK
* checking for unstated dependencies in examples ... OK
* checking files in ‘vignettes’ ... OK
* checking examples ... OK
Examples with CPU (user + system) or elapsed time > 5s
user system elapsed
cloneTrack 27.026 2.212 29.594
productiveSeq 17.372 1.548 19.647
* checking for unstated dependencies in vignettes ... OK
* checking package vignettes ... OK
* checking re-building of vignette outputs ... OK
* checking PDF version of manual ... OK
* DONE
Status: OK
LymphoSeq.Rcheck/00install.out
############################################################################## ############################################################################## ### ### Running command: ### ### /home/biocbuild/bbs-3.23-bioc/R/bin/R CMD INSTALL LymphoSeq ### ############################################################################## ############################################################################## * installing to library ‘/home/biocbuild/bbs-3.23-bioc/R/site-library’ * installing *source* package ‘LymphoSeq’ ... ** this is package ‘LymphoSeq’ version ‘1.39.0’ ** using staged installation ** R ** inst ** byte-compile and prepare package for lazy loading ** help *** installing help indices ** building package indices ** installing vignettes ** testing if installed package can be loaded from temporary location ** testing if installed package can be loaded from final location ** testing if installed package keeps a record of temporary installation path * DONE (LymphoSeq)
LymphoSeq.Rcheck/LymphoSeq-Ex.timings
| name | user | system | elapsed | |
| alignSeq | 0.718 | 0.089 | 0.816 | |
| bhattacharyyaCoefficient | 0.317 | 0.162 | 0.493 | |
| bhattacharyyaMatrix | 0.621 | 0.131 | 0.752 | |
| chordDiagramVDJ | 0.873 | 0.080 | 0.953 | |
| clonalRelatedness | 0.721 | 0.004 | 0.387 | |
| clonality | 0.053 | 0.004 | 0.057 | |
| cloneTrack | 27.026 | 2.212 | 29.594 | |
| commonSeqs | 0.156 | 0.021 | 0.177 | |
| commonSeqsBar | 1.193 | 0.226 | 1.421 | |
| commonSeqsPlot | 1.230 | 0.145 | 1.374 | |
| commonSeqsVenn | 0.712 | 0.030 | 0.735 | |
| differentialAbundance | 1.940 | 0.052 | 1.993 | |
| exportFasta | 0.216 | 0.026 | 0.242 | |
| geneFreq | 1.852 | 0.156 | 2.009 | |
| lorenzCurve | 1.336 | 0.060 | 1.397 | |
| mergeFiles | 0.076 | 0.004 | 0.080 | |
| pairwisePlot | 1.100 | 0.010 | 1.109 | |
| phyloTree | 4.751 | 0.092 | 4.842 | |
| productive | 0.059 | 0.005 | 0.065 | |
| productiveSeq | 17.372 | 1.548 | 19.647 | |
| readImmunoSeq | 0.046 | 0.001 | 0.047 | |
| removeSeq | 0.055 | 0.004 | 0.058 | |
| searchPublished | 0.158 | 0.012 | 0.170 | |
| searchSeq | 0.770 | 0.018 | 0.789 | |
| seqMatrix | 2.309 | 0.168 | 2.478 | |
| similarityMatrix | 0.168 | 0.002 | 0.170 | |
| similarityScore | 0.149 | 0.005 | 0.155 | |
| topFreq | 1.333 | 0.100 | 1.433 | |
| topSeqs | 0.879 | 0.050 | 0.930 | |
| topSeqsPlot | 0.701 | 0.011 | 0.712 | |
| uniqueSeqs | 0.191 | 0.004 | 0.195 | |