Back to Build/check report for BioC 3.23:   simplified   long
ABCDEFGH[I]JKLMNOPQRSTUVWXYZ

This page was generated on 2025-11-13 11:32 -0500 (Thu, 13 Nov 2025).

HostnameOSArch (*)R versionInstalled pkgs
kjohnson3macOS 13.7.7 Venturaarm64R Under development (unstable) (2025-11-04 r88984) -- "Unsuffered Consequences" 4013
Click on any hostname to see more info about the system (e.g. compilers)      (*) as reported by 'uname -p', except on Windows and Mac OS X

Package 1064/2325HostnameOS / ArchINSTALLBUILDCHECKBUILD BIN
ISAnalytics 1.21.0  (landing page)
Francesco Gazzo
Snapshot Date: 2025-11-12 13:40 -0500 (Wed, 12 Nov 2025)
git_url: https://git.bioconductor.org/packages/ISAnalytics
git_branch: devel
git_last_commit: e37fd79
git_last_commit_date: 2025-10-29 11:01:52 -0500 (Wed, 29 Oct 2025)
kjohnson3macOS 13.7.7 Ventura / arm64  OK    OK    OK    OK  YES


CHECK results for ISAnalytics on kjohnson3

To the developers/maintainers of the ISAnalytics package:
- Allow up to 24 hours (and sometimes 48 hours) for your latest push to git@git.bioconductor.org:packages/ISAnalytics.git to reflect on this report. See Troubleshooting Build Report for more information.
- Use the following Renviron settings to reproduce errors and warnings.
- If 'R CMD check' started to fail recently on the Linux builder(s) over a missing dependency, add the missing dependency to 'Suggests:' in your DESCRIPTION file. See Renviron.bioc for more information.

raw results


Summary

Package: ISAnalytics
Version: 1.21.0
Command: /Library/Frameworks/R.framework/Resources/bin/R CMD check --install=check:ISAnalytics.install-out.txt --library=/Library/Frameworks/R.framework/Resources/library --no-vignettes --timings ISAnalytics_1.21.0.tar.gz
StartedAt: 2025-11-12 19:12:39 -0500 (Wed, 12 Nov 2025)
EndedAt: 2025-11-12 19:16:42 -0500 (Wed, 12 Nov 2025)
EllapsedTime: 243.3 seconds
RetCode: 0
Status:   OK  
CheckDir: ISAnalytics.Rcheck
Warnings: 0

Command output

##############################################################################
##############################################################################
###
### Running command:
###
###   /Library/Frameworks/R.framework/Resources/bin/R CMD check --install=check:ISAnalytics.install-out.txt --library=/Library/Frameworks/R.framework/Resources/library --no-vignettes --timings ISAnalytics_1.21.0.tar.gz
###
##############################################################################
##############################################################################


* using log directory ‘/Users/biocbuild/bbs-3.23-bioc/meat/ISAnalytics.Rcheck’
* using R Under development (unstable) (2025-11-04 r88984)
* using platform: aarch64-apple-darwin20
* R was compiled by
    Apple clang version 16.0.0 (clang-1600.0.26.6)
    GNU Fortran (GCC) 14.2.0
* running under: macOS Ventura 13.7.8
* using session charset: UTF-8
* using option ‘--no-vignettes’
* checking for file ‘ISAnalytics/DESCRIPTION’ ... OK
* this is package ‘ISAnalytics’ version ‘1.21.0’
* package encoding: UTF-8
* checking package namespace information ... OK
* checking package dependencies ... INFO
Imports includes 22 non-default packages.
Importing from so many packages makes the package vulnerable to any of
them becoming unavailable.  Move as many as possible to Suggests and
use conditionally.
* checking if this is a source package ... OK
* checking if there is a namespace ... OK
* checking for hidden files and directories ... OK
* checking for portable file names ... OK
* checking for sufficient/correct file permissions ... OK
* checking whether package ‘ISAnalytics’ can be installed ... OK
* checking installed package size ... INFO
  installed size is  8.2Mb
  sub-directories of 1Mb or more:
    data   5.8Mb
* checking package directory ... OK
* checking ‘build’ directory ... OK
* checking DESCRIPTION meta-information ... OK
* checking top-level files ... OK
* checking for left-over files ... OK
* checking index information ... OK
* checking package subdirectories ... OK
* checking code files for non-ASCII characters ... OK
* checking R files for syntax errors ... OK
* checking whether the package can be loaded ... OK
* checking whether the package can be loaded with stated dependencies ... OK
* checking whether the package can be unloaded cleanly ... OK
* checking whether the namespace can be loaded with stated dependencies ... OK
* checking whether the namespace can be unloaded cleanly ... OK
* checking whether startup messages can be suppressed ... OK
* checking dependencies in R code ... OK
* checking S3 generic/method consistency ... OK
* checking replacement functions ... OK
* checking foreign function calls ... OK
* checking R code for possible problems ... OK
* checking Rd files ... NOTE
checkRd: (-1) refGenes_hg19.Rd:21: Lost braces; missing escapes or markup?
    21 | \item Download from {http://hgdownload.soe.ucsc.edu/goldenPath/hg19/database/}
       |                     ^
* checking Rd metadata ... OK
* checking Rd cross-references ... OK
* checking for missing documentation entries ... OK
* checking for code/documentation mismatches ... OK
* checking Rd \usage sections ... OK
* checking Rd contents ... OK
* checking for unstated dependencies in examples ... OK
* checking contents of ‘data’ directory ... OK
* checking data for non-ASCII characters ... OK
* checking data for ASCII and uncompressed saves ... OK
* checking files in ‘vignettes’ ... OK
* checking examples ... OK
Examples with CPU (user + system) or elapsed time > 5s
                                user system elapsed
import_parallel_Vispa2Matrices 1.140  0.089   7.019
sharing_venn                   0.951  0.062  11.601
* checking for unstated dependencies in ‘tests’ ... OK
* checking tests ...
  Running ‘testthat.R’
 OK
* checking for unstated dependencies in vignettes ... OK
* checking package vignettes ... OK
* checking running R code from vignettes ... SKIPPED
* checking re-building of vignette outputs ... SKIPPED
* checking PDF version of manual ... OK
* DONE

Status: 1 NOTE
See
  ‘/Users/biocbuild/bbs-3.23-bioc/meat/ISAnalytics.Rcheck/00check.log’
for details.


Installation output

ISAnalytics.Rcheck/00install.out

##############################################################################
##############################################################################
###
### Running command:
###
###   /Library/Frameworks/R.framework/Resources/bin/R CMD INSTALL ISAnalytics
###
##############################################################################
##############################################################################


* installing to library ‘/Library/Frameworks/R.framework/Versions/4.6-arm64/Resources/library’
* installing *source* package ‘ISAnalytics’ ...
** this is package ‘ISAnalytics’ version ‘1.21.0’
** using staged installation
** R
** data
** inst
** byte-compile and prepare package for lazy loading
** help
*** installing help indices
*** copying figures
** building package indices
** installing vignettes
** testing if installed package can be loaded from temporary location
** testing if installed package can be loaded from final location
** testing if installed package keeps a record of temporary installation path
* DONE (ISAnalytics)

Tests output

ISAnalytics.Rcheck/tests/testthat.Rout


R Under development (unstable) (2025-11-04 r88984) -- "Unsuffered Consequences"
Copyright (C) 2025 The R Foundation for Statistical Computing
Platform: aarch64-apple-darwin20

R is free software and comes with ABSOLUTELY NO WARRANTY.
You are welcome to redistribute it under certain conditions.
Type 'license()' or 'licence()' for distribution details.

R is a collaborative project with many contributors.
Type 'contributors()' for more information and
'citation()' on how to cite R or R packages in publications.

Type 'demo()' for some demos, 'help()' for on-line help, or
'help.start()' for an HTML browser interface to help.
Type 'q()' to quit R.

> library(testthat)
> library(ISAnalytics)
> 
> test_check("ISAnalytics")
Loading required namespace: plotly
Loading required namespace: rmarkdown
2025-11-12 19:14:48.702 R[59399:6800494] XType: Using static font registry.
Report correctly saved
i Report saved to: /var/folders/r0/l4fjk6cj5xj0j3brt4bplpl40000gt/T/RtmpQDiwJM/filee80768011853/2025-11-12_collision_removal_report.html
Report correctly saved
i Report saved to: /var/folders/r0/l4fjk6cj5xj0j3brt4bplpl40000gt/T/RtmpQDiwJM/filee807468bb2d6/2025-11-12_outlier_test_pool_fragments_report.html
[ FAIL 0 | WARN 0 | SKIP 0 | PASS 834 ]
> 
> proc.time()
   user  system elapsed 
 37.139   2.183 138.758 

Example timings

ISAnalytics.Rcheck/ISAnalytics-Ex.timings

nameusersystemelapsed
CIS_grubbs0.3170.0130.338
CIS_grubbs_overtime0.7790.0933.505
CIS_volcano_plot0.5480.0100.611
HSC_population_plot0.5050.0162.761
HSC_population_size_estimate0.3660.0122.593
NGSdataExplorer000
aggregate_metadata0.0340.0000.037
aggregate_values_by_key0.0220.0000.023
annotation_issues0.0100.0000.014
as_sparse_matrix0.0180.0020.020
available_outlier_tests000
available_tags0.0070.0010.007
blood_lineages_default0.0100.0000.011
circos_genomic_density000
clinical_relevant_suspicious_genes0.0040.0000.004
comparison_matrix0.0080.0000.009
compute_abundance0.0130.0010.014
compute_near_integrations0.4030.0154.255
cumulative_count_union000
cumulative_is0.0530.0010.055
date_formats0.0000.0000.001
default_af_transform0.0010.0000.000
default_iss_file_prefixes000
default_meta_agg0.0050.0000.006
default_rec_agg_lambdas000
default_report_path0.0030.0000.003
default_stats0.4630.0130.490
enable_progress_bars0.0050.0010.006
export_ISA_settings0.0220.0020.025
fisher_scatterplot0.3960.0150.425
gene_frequency_fisher0.2940.0040.303
generate_Vispa2_launch_AF0.0970.0140.118
generate_blank_association_file0.0040.0010.006
generate_default_folder_structure0.1350.0670.163
import_ISA_settings0.0180.0020.020
import_Vispa2_stats0.6960.0853.281
import_association_file0.1980.0700.224
import_parallel_Vispa2Matrices1.1400.0897.019
import_single_Vispa2Matrix0.3510.0700.419
inspect_tags0.0040.0010.004
integration_alluvial_plot1.3070.0504.270
is_sharing0.6080.0243.687
iss_source0.5900.0153.937
known_clinical_oncogenes0.0030.0000.004
mandatory_IS_vars0.0260.0020.033
matching_options000
outlier_filter0.0490.0050.054
outliers_by_pool_fragments0.0500.0030.057
pcr_id_column0.0070.0000.008
purity_filter0.1040.0030.109
quantification_types000
realign_after_collisions0.5330.0213.145
reduced_AF_columns0.0140.0000.015
refGene_table_cols0.0000.0000.001
remove_collisions0.5020.0133.085
reset_mandatory_IS_vars0.0020.0010.001
sample_statistics0.1050.0180.124
separate_quant_matrices0.0060.0000.006
set_mandatory_IS_vars0.0270.0020.029
set_matrix_file_suffixes0.0060.0000.007
sharing_heatmap0.7680.0274.107
sharing_venn 0.951 0.06211.601
threshold_filter0.0000.0000.001
top_abund_tableGrob0.2030.0030.207
top_cis_overtime_heatmap0.7630.0464.144
top_integrations0.0100.0000.011
top_targeted_genes0.1310.0120.150
transform_columns0.0070.0000.007