| Back to Build/check report for BioC 3.23: simplified long |
|
This page was generated on 2025-11-13 11:32 -0500 (Thu, 13 Nov 2025).
| Hostname | OS | Arch (*) | R version | Installed pkgs |
|---|---|---|---|---|
| kjohnson3 | macOS 13.7.7 Ventura | arm64 | R Under development (unstable) (2025-11-04 r88984) -- "Unsuffered Consequences" | 4013 |
| Click on any hostname to see more info about the system (e.g. compilers) (*) as reported by 'uname -p', except on Windows and Mac OS X | ||||
| Package 1040/2325 | Hostname | OS / Arch | INSTALL | BUILD | CHECK | BUILD BIN | ||||||||
| IMPCdata 1.47.0 (landing page) Jeremy Mason
| kjohnson3 | macOS 13.7.7 Ventura / arm64 | OK | OK | OK | OK | ||||||||
|
To the developers/maintainers of the IMPCdata package: - Allow up to 24 hours (and sometimes 48 hours) for your latest push to git@git.bioconductor.org:packages/IMPCdata.git to reflect on this report. See Troubleshooting Build Report for more information. - Use the following Renviron settings to reproduce errors and warnings. - If 'R CMD check' started to fail recently on the Linux builder(s) over a missing dependency, add the missing dependency to 'Suggests:' in your DESCRIPTION file. See Renviron.bioc for more information. |
| Package: IMPCdata |
| Version: 1.47.0 |
| Command: /Library/Frameworks/R.framework/Resources/bin/R CMD check --install=check:IMPCdata.install-out.txt --library=/Library/Frameworks/R.framework/Resources/library --no-vignettes --timings IMPCdata_1.47.0.tar.gz |
| StartedAt: 2025-11-12 19:11:04 -0500 (Wed, 12 Nov 2025) |
| EndedAt: 2025-11-12 19:12:01 -0500 (Wed, 12 Nov 2025) |
| EllapsedTime: 56.8 seconds |
| RetCode: 0 |
| Status: OK |
| CheckDir: IMPCdata.Rcheck |
| Warnings: 0 |
##############################################################################
##############################################################################
###
### Running command:
###
### /Library/Frameworks/R.framework/Resources/bin/R CMD check --install=check:IMPCdata.install-out.txt --library=/Library/Frameworks/R.framework/Resources/library --no-vignettes --timings IMPCdata_1.47.0.tar.gz
###
##############################################################################
##############################################################################
* using log directory ‘/Users/biocbuild/bbs-3.23-bioc/meat/IMPCdata.Rcheck’
* using R Under development (unstable) (2025-11-04 r88984)
* using platform: aarch64-apple-darwin20
* R was compiled by
Apple clang version 16.0.0 (clang-1600.0.26.6)
GNU Fortran (GCC) 14.2.0
* running under: macOS Ventura 13.7.8
* using session charset: UTF-8
* using option ‘--no-vignettes’
* checking for file ‘IMPCdata/DESCRIPTION’ ... OK
* checking extension type ... Package
* this is package ‘IMPCdata’ version ‘1.47.0’
* checking package namespace information ... OK
* checking package dependencies ... OK
* checking if this is a source package ... OK
* checking if there is a namespace ... OK
* checking for hidden files and directories ... OK
* checking for portable file names ... OK
* checking for sufficient/correct file permissions ... OK
* checking whether package ‘IMPCdata’ can be installed ... OK
* checking installed package size ... OK
* checking package directory ... OK
* checking ‘build’ directory ... OK
* checking DESCRIPTION meta-information ... OK
* checking top-level files ... OK
* checking for left-over files ... OK
* checking index information ... OK
* checking package subdirectories ... OK
* checking code files for non-ASCII characters ... OK
* checking R files for syntax errors ... OK
* checking whether the package can be loaded ... OK
* checking whether the package can be loaded with stated dependencies ... OK
* checking whether the package can be unloaded cleanly ... OK
* checking whether the namespace can be loaded with stated dependencies ... OK
* checking whether the namespace can be unloaded cleanly ... OK
* checking dependencies in R code ... OK
* checking S3 generic/method consistency ... OK
* checking replacement functions ... OK
* checking foreign function calls ... OK
* checking R code for possible problems ... OK
* checking Rd files ... OK
* checking Rd metadata ... OK
* checking Rd cross-references ... OK
* checking for missing documentation entries ... OK
* checking for code/documentation mismatches ... OK
* checking Rd \usage sections ... OK
* checking Rd contents ... OK
* checking for unstated dependencies in examples ... OK
* checking sizes of PDF files under ‘inst/doc’ ... OK
* checking files in ‘vignettes’ ... OK
* checking examples ... OK
Examples with CPU (user + system) or elapsed time > 5s
user system elapsed
getPhenCenters 0.121 0.014 8.219
* checking for unstated dependencies in vignettes ... OK
* checking package vignettes ... OK
* checking running R code from vignettes ... SKIPPED
* checking re-building of vignette outputs ... SKIPPED
* checking PDF version of manual ... OK
* DONE
Status: OK
IMPCdata.Rcheck/00install.out
############################################################################## ############################################################################## ### ### Running command: ### ### /Library/Frameworks/R.framework/Resources/bin/R CMD INSTALL IMPCdata ### ############################################################################## ############################################################################## * installing to library ‘/Library/Frameworks/R.framework/Versions/4.6-arm64/Resources/library’ * installing *source* package ‘IMPCdata’ ... ** this is package ‘IMPCdata’ version ‘1.47.0’ ** using staged installation ** R ** inst ** byte-compile and prepare package for lazy loading ** help *** installing help indices ** building package indices ** installing vignettes ** testing if installed package can be loaded from temporary location ** testing if installed package can be loaded from final location ** testing if installed package keeps a record of temporary installation path * DONE (IMPCdata)
IMPCdata.Rcheck/IMPCdata-Ex.timings
| name | user | system | elapsed | |
| getAlleles | 0.073 | 0.010 | 3.205 | |
| getGenes | 0.058 | 0.008 | 2.401 | |
| getIMPCDataset | 0.007 | 0.002 | 1.109 | |
| getIMPCTable | 0.047 | 0.006 | 1.664 | |
| getName | 0.011 | 0.002 | 0.502 | |
| getParameters | 0.063 | 0.007 | 2.313 | |
| getPhenCenters | 0.121 | 0.014 | 8.219 | |
| getPipelines | 0.053 | 0.007 | 2.627 | |
| getProcedures | 0.053 | 0.006 | 3.503 | |
| getStrains | 0.023 | 0.003 | 1.428 | |
| getZygosities | 0.011 | 0.001 | 0.338 | |
| printAlleles | 0.057 | 0.008 | 2.237 | |
| printGenes | 0.070 | 0.007 | 2.000 | |
| printParameters | 0.060 | 0.007 | 2.129 | |
| printPhenCenters | 0.019 | 0.003 | 3.937 | |
| printPipelines | 0.041 | 0.007 | 2.902 | |
| printProcedures | 0.058 | 0.006 | 2.686 | |
| printStrains | 0.032 | 0.003 | 1.435 | |