| Back to Multiple platform build/check report for BioC 3.23: simplified long |
|
This page was generated on 2025-11-14 11:35 -0500 (Fri, 14 Nov 2025).
| Hostname | OS | Arch (*) | R version | Installed pkgs |
|---|---|---|---|---|
| nebbiolo1 | Linux (Ubuntu 24.04.3 LTS) | x86_64 | R Under development (unstable) (2025-10-20 r88955) -- "Unsuffered Consequences" | 4825 |
| kjohnson3 | macOS 13.7.7 Ventura | arm64 | R Under development (unstable) (2025-11-04 r88984) -- "Unsuffered Consequences" | 4547 |
| Click on any hostname to see more info about the system (e.g. compilers) (*) as reported by 'uname -p', except on Windows and Mac OS X | ||||
| Package 965/2325 | Hostname | OS / Arch | INSTALL | BUILD | CHECK | BUILD BIN | ||||||||
| HiCBricks 1.29.0 (landing page) Koustav Pal
| nebbiolo1 | Linux (Ubuntu 24.04.3 LTS) / x86_64 | OK | OK | OK | |||||||||
| kjohnson3 | macOS 13.7.7 Ventura / arm64 | OK | OK | OK | OK | |||||||||
|
To the developers/maintainers of the HiCBricks package: - Allow up to 24 hours (and sometimes 48 hours) for your latest push to git@git.bioconductor.org:packages/HiCBricks.git to reflect on this report. See Troubleshooting Build Report for more information. - Use the following Renviron settings to reproduce errors and warnings. - If 'R CMD check' started to fail recently on the Linux builder(s) over a missing dependency, add the missing dependency to 'Suggests:' in your DESCRIPTION file. See Renviron.bioc for more information. |
| Package: HiCBricks |
| Version: 1.29.0 |
| Command: /home/biocbuild/bbs-3.23-bioc/R/bin/R CMD check --install=check:HiCBricks.install-out.txt --library=/home/biocbuild/bbs-3.23-bioc/R/site-library --timings HiCBricks_1.29.0.tar.gz |
| StartedAt: 2025-11-14 00:23:34 -0500 (Fri, 14 Nov 2025) |
| EndedAt: 2025-11-14 00:27:18 -0500 (Fri, 14 Nov 2025) |
| EllapsedTime: 223.2 seconds |
| RetCode: 0 |
| Status: OK |
| CheckDir: HiCBricks.Rcheck |
| Warnings: 0 |
##############################################################################
##############################################################################
###
### Running command:
###
### /home/biocbuild/bbs-3.23-bioc/R/bin/R CMD check --install=check:HiCBricks.install-out.txt --library=/home/biocbuild/bbs-3.23-bioc/R/site-library --timings HiCBricks_1.29.0.tar.gz
###
##############################################################################
##############################################################################
* using log directory ‘/home/biocbuild/bbs-3.23-bioc/meat/HiCBricks.Rcheck’
* using R Under development (unstable) (2025-10-20 r88955)
* using platform: x86_64-pc-linux-gnu
* R was compiled by
gcc (Ubuntu 13.3.0-6ubuntu2~24.04) 13.3.0
GNU Fortran (Ubuntu 13.3.0-6ubuntu2~24.04) 13.3.0
* running under: Ubuntu 24.04.3 LTS
* using session charset: UTF-8
* checking for file ‘HiCBricks/DESCRIPTION’ ... OK
* checking extension type ... Package
* this is package ‘HiCBricks’ version ‘1.29.0’
* package encoding: UTF-8
* checking package namespace information ... OK
* checking package dependencies ... OK
* checking if this is a source package ... OK
* checking if there is a namespace ... OK
* checking for hidden files and directories ... OK
* checking for portable file names ... OK
* checking for sufficient/correct file permissions ... OK
* checking whether package ‘HiCBricks’ can be installed ... OK
* checking installed package size ... OK
* checking package directory ... OK
* checking ‘build’ directory ... OK
* checking DESCRIPTION meta-information ... OK
* checking top-level files ... OK
* checking for left-over files ... OK
* checking index information ... OK
* checking package subdirectories ... OK
* checking code files for non-ASCII characters ... OK
* checking R files for syntax errors ... OK
* checking whether the package can be loaded ... OK
* checking whether the package can be loaded with stated dependencies ... OK
* checking whether the package can be unloaded cleanly ... OK
* checking whether the namespace can be loaded with stated dependencies ... OK
* checking whether the namespace can be unloaded cleanly ... OK
* checking loading without being on the library search path ... OK
* checking dependencies in R code ... OK
* checking S3 generic/method consistency ... OK
* checking replacement functions ... OK
* checking foreign function calls ... OK
* checking R code for possible problems ... OK
* checking Rd files ... OK
* checking Rd metadata ... OK
* checking Rd cross-references ... OK
* checking for missing documentation entries ... OK
* checking for code/documentation mismatches ... OK
* checking Rd \usage sections ... OK
* checking Rd contents ... OK
* checking for unstated dependencies in examples ... OK
* checking files in ‘vignettes’ ... OK
* checking examples ... OK
* checking for unstated dependencies in vignettes ... OK
* checking package vignettes ... OK
* checking re-building of vignette outputs ... OK
* checking PDF version of manual ... OK
* DONE
Status: OK
HiCBricks.Rcheck/00install.out
############################################################################## ############################################################################## ### ### Running command: ### ### /home/biocbuild/bbs-3.23-bioc/R/bin/R CMD INSTALL HiCBricks ### ############################################################################## ############################################################################## * installing to library ‘/home/biocbuild/bbs-3.23-bioc/R/site-library’ * installing *source* package ‘HiCBricks’ ... ** this is package ‘HiCBricks’ version ‘1.29.0’ ** using staged installation ** R ** inst ** byte-compile and prepare package for lazy loading ** help *** installing help indices ** building package indices ** installing vignettes ** testing if installed package can be loaded from temporary location ** testing if installed package can be loaded from final location ** testing if installed package keeps a record of temporary installation path * DONE (HiCBricks)
HiCBricks.Rcheck/HiCBricks-Ex.timings
| name | user | system | elapsed | |
| BrickContainer_change_experiment_name | 1.289 | 0.025 | 1.313 | |
| BrickContainer_change_output_directory | 0.923 | 0.007 | 0.932 | |
| BrickContainer_get_path_to_file | 0.826 | 0.008 | 0.834 | |
| BrickContainer_list_chromosomes | 0.819 | 0.010 | 0.828 | |
| BrickContainer_list_experiment_name | 0.870 | 0.011 | 0.881 | |
| BrickContainer_list_files | 0.880 | 0.009 | 0.889 | |
| BrickContainer_list_output_directory | 0.884 | 0.090 | 0.974 | |
| BrickContainer_list_resolutions | 1.029 | 0.017 | 1.046 | |
| BrickContainer_unlink_resolution | 2.119 | 0.056 | 2.176 | |
| Brick_add_ranges | 2.203 | 0.104 | 2.308 | |
| Brick_call_compartments | 1.445 | 0.064 | 1.564 | |
| Brick_export_to_sparse | 2.611 | 0.124 | 2.735 | |
| Brick_fetch_range_index | 1.483 | 0.059 | 1.542 | |
| Brick_fetch_row_vector | 1.559 | 0.060 | 1.619 | |
| Brick_get_bintable | 0.877 | 0.010 | 0.887 | |
| Brick_get_chrominfo | 0.770 | 0.008 | 0.777 | |
| Brick_get_entire_matrix | 1.089 | 0.031 | 1.122 | |
| Brick_get_matrix | 1.086 | 0.016 | 1.102 | |
| Brick_get_matrix_mcols | 1.096 | 0.049 | 1.144 | |
| Brick_get_matrix_within_coords | 1.541 | 0.082 | 1.624 | |
| Brick_get_ranges | 0.876 | 0.051 | 0.926 | |
| Brick_get_values_by_distance | 1.253 | 0.081 | 1.334 | |
| Brick_get_vector_values | 1.065 | 0.044 | 1.110 | |
| Brick_list_matrices | 0.752 | 0.013 | 0.766 | |
| Brick_list_matrix_mcols | 0.706 | 0.013 | 0.719 | |
| Brick_list_mcool_normalisations | 0 | 0 | 0 | |
| Brick_list_mcool_resolutions | 0.000 | 0.001 | 0.000 | |
| Brick_list_rangekeys | 0.749 | 0.008 | 0.758 | |
| Brick_list_ranges_mcols | 0.735 | 0.009 | 0.746 | |
| Brick_load_cis_matrix_till_distance | 0.980 | 0.021 | 1.009 | |
| Brick_load_data_from_mcool | 0.001 | 0.000 | 0.001 | |
| Brick_load_data_from_sparse | 0.000 | 0.000 | 0.001 | |
| Brick_load_matrix | 1.128 | 0.026 | 1.178 | |
| Brick_local_score_differentiator | 1.623 | 0.030 | 1.659 | |
| Brick_make_ranges | 0.008 | 0.000 | 0.008 | |
| Brick_matrix_dimensions | 1.018 | 0.021 | 1.043 | |
| Brick_matrix_exists | 1.087 | 0.014 | 1.113 | |
| Brick_matrix_filename | 0.975 | 0.020 | 0.995 | |
| Brick_matrix_isdone | 0.981 | 0.012 | 0.993 | |
| Brick_matrix_issparse | 0.970 | 0.015 | 0.985 | |
| Brick_matrix_maxdist | 1.063 | 0.015 | 1.078 | |
| Brick_matrix_minmax | 1.011 | 0.018 | 1.029 | |
| Brick_mcool_normalisation_exists | 0 | 0 | 0 | |
| Brick_rangekey_exists | 0.747 | 0.010 | 0.757 | |
| Brick_return_region_position | 0.831 | 0.055 | 0.885 | |
| Brick_vizart_plot_heatmap | 2.061 | 0.083 | 2.144 | |
| Create_many_Bricks | 0.739 | 0.017 | 0.756 | |
| Create_many_Bricks_from_mcool | 0.001 | 0.000 | 0.001 | |
| load_BrickContainer | 0.777 | 0.014 | 0.790 | |