| Back to Multiple platform build/check report for BioC 3.23: simplified long |
|
This page was generated on 2025-11-14 11:36 -0500 (Fri, 14 Nov 2025).
| Hostname | OS | Arch (*) | R version | Installed pkgs |
|---|---|---|---|---|
| nebbiolo1 | Linux (Ubuntu 24.04.3 LTS) | x86_64 | R Under development (unstable) (2025-10-20 r88955) -- "Unsuffered Consequences" | 4825 |
| kjohnson3 | macOS 13.7.7 Ventura | arm64 | R Under development (unstable) (2025-11-04 r88984) -- "Unsuffered Consequences" | 4547 |
| Click on any hostname to see more info about the system (e.g. compilers) (*) as reported by 'uname -p', except on Windows and Mac OS X | ||||
| Package 881/2325 | Hostname | OS / Arch | INSTALL | BUILD | CHECK | BUILD BIN | ||||||||
| Glimma 2.21.0 (landing page) Shian Su
| nebbiolo1 | Linux (Ubuntu 24.04.3 LTS) / x86_64 | OK | OK | OK | |||||||||
| kjohnson3 | macOS 13.7.7 Ventura / arm64 | OK | OK | OK | OK | |||||||||
|
To the developers/maintainers of the Glimma package: - Allow up to 24 hours (and sometimes 48 hours) for your latest push to git@git.bioconductor.org:packages/Glimma.git to reflect on this report. See Troubleshooting Build Report for more information. - Use the following Renviron settings to reproduce errors and warnings. - If 'R CMD check' started to fail recently on the Linux builder(s) over a missing dependency, add the missing dependency to 'Suggests:' in your DESCRIPTION file. See Renviron.bioc for more information. |
| Package: Glimma |
| Version: 2.21.0 |
| Command: /Library/Frameworks/R.framework/Resources/bin/R CMD check --install=check:Glimma.install-out.txt --library=/Library/Frameworks/R.framework/Resources/library --no-vignettes --timings Glimma_2.21.0.tar.gz |
| StartedAt: 2025-11-13 20:15:26 -0500 (Thu, 13 Nov 2025) |
| EndedAt: 2025-11-13 20:17:49 -0500 (Thu, 13 Nov 2025) |
| EllapsedTime: 142.7 seconds |
| RetCode: 0 |
| Status: OK |
| CheckDir: Glimma.Rcheck |
| Warnings: 0 |
##############################################################################
##############################################################################
###
### Running command:
###
### /Library/Frameworks/R.framework/Resources/bin/R CMD check --install=check:Glimma.install-out.txt --library=/Library/Frameworks/R.framework/Resources/library --no-vignettes --timings Glimma_2.21.0.tar.gz
###
##############################################################################
##############################################################################
* using log directory ‘/Users/biocbuild/bbs-3.23-bioc/meat/Glimma.Rcheck’
* using R Under development (unstable) (2025-11-04 r88984)
* using platform: aarch64-apple-darwin20
* R was compiled by
Apple clang version 16.0.0 (clang-1600.0.26.6)
GNU Fortran (GCC) 14.2.0
* running under: macOS Ventura 13.7.8
* using session charset: UTF-8
* using option ‘--no-vignettes’
* checking for file ‘Glimma/DESCRIPTION’ ... OK
* checking extension type ... Package
* this is package ‘Glimma’ version ‘2.21.0’
* package encoding: UTF-8
* checking package namespace information ... OK
* checking package dependencies ... OK
* checking if this is a source package ... OK
* checking if there is a namespace ... OK
* checking for hidden files and directories ... NOTE
Found the following hidden files and directories:
.travis.yml
These were most likely included in error. See section ‘Package
structure’ in the ‘Writing R Extensions’ manual.
* checking for portable file names ... OK
* checking for sufficient/correct file permissions ... OK
* checking whether package ‘Glimma’ can be installed ... OK
* checking installed package size ... INFO
installed size is 6.7Mb
sub-directories of 1Mb or more:
htmlwidgets 4.9Mb
* checking package directory ... OK
* checking ‘build’ directory ... OK
* checking DESCRIPTION meta-information ... OK
* checking top-level files ... NOTE
File
LICENSE
is not mentioned in the DESCRIPTION file.
* checking for left-over files ... OK
* checking index information ... OK
* checking package subdirectories ... OK
* checking code files for non-ASCII characters ... OK
* checking R files for syntax errors ... OK
* checking whether the package can be loaded ... OK
* checking whether the package can be loaded with stated dependencies ... OK
* checking whether the package can be unloaded cleanly ... OK
* checking whether the namespace can be loaded with stated dependencies ... OK
* checking whether the namespace can be unloaded cleanly ... OK
* checking dependencies in R code ... OK
* checking S3 generic/method consistency ... OK
* checking replacement functions ... OK
* checking foreign function calls ... OK
* checking R code for possible problems ... OK
* checking Rd files ... OK
* checking Rd metadata ... OK
* checking Rd cross-references ... NOTE
Found the following Rd file(s) with Rd \link{} targets missing package
anchors:
glimmaMA.Rd: exactTest, glmLRT
glimmaVolcano.Rd: exactTest, glmLRT
Please provide package anchors for all Rd \link{} targets not in the
package itself and the base packages.
* checking for missing documentation entries ... OK
* checking for code/documentation mismatches ... OK
* checking Rd \usage sections ... OK
* checking Rd contents ... OK
* checking for unstated dependencies in examples ... OK
* checking files in ‘vignettes’ ... OK
* checking examples ... OK
* checking for unstated dependencies in ‘tests’ ... OK
* checking tests ...
Running ‘testthat.R’
OK
* checking for unstated dependencies in vignettes ... OK
* checking package vignettes ... OK
* checking running R code from vignettes ... SKIPPED
* checking re-building of vignette outputs ... SKIPPED
* checking PDF version of manual ... OK
* DONE
Status: 3 NOTEs
See
‘/Users/biocbuild/bbs-3.23-bioc/meat/Glimma.Rcheck/00check.log’
for details.
Glimma.Rcheck/00install.out
############################################################################## ############################################################################## ### ### Running command: ### ### /Library/Frameworks/R.framework/Resources/bin/R CMD INSTALL Glimma ### ############################################################################## ############################################################################## * installing to library ‘/Library/Frameworks/R.framework/Versions/4.6-arm64/Resources/library’ * installing *source* package ‘Glimma’ ... ** this is package ‘Glimma’ version ‘2.21.0’ ** using staged installation ** R ** inst ** byte-compile and prepare package for lazy loading ** help *** installing help indices ** building package indices ** installing vignettes ** testing if installed package can be loaded from temporary location ** testing if installed package can be loaded from final location ** testing if installed package keeps a record of temporary installation path * DONE (Glimma)
Glimma.Rcheck/tests/testthat.Rout
R Under development (unstable) (2025-11-04 r88984) -- "Unsuffered Consequences"
Copyright (C) 2025 The R Foundation for Statistical Computing
Platform: aarch64-apple-darwin20
R is free software and comes with ABSOLUTELY NO WARRANTY.
You are welcome to redistribute it under certain conditions.
Type 'license()' or 'licence()' for distribution details.
R is a collaborative project with many contributors.
Type 'contributors()' for more information and
'citation()' on how to cite R or R packages in publications.
Type 'demo()' for some demos, 'help()' for on-line help, or
'help.start()' for an HTML browser interface to help.
Type 'q()' to quit R.
> library(testthat)
> test_check("Glimma")
Loading required package: Glimma
[ FAIL 0 | WARN 0 | SKIP 0 | PASS 229 ]
>
> proc.time()
user system elapsed
38.915 2.679 43.491
Glimma.Rcheck/Glimma-Ex.timings
| name | user | system | elapsed | |
| glMDRmd | 0 | 0 | 0 | |
| glXYPlot | 0.001 | 0.001 | 0.001 | |
| glimmaMA.DESeqDataSet | 4.100 | 0.117 | 4.719 | |
| glimmaMA.DGEExact | 2.840 | 0.110 | 3.065 | |
| glimmaMA.MArrayLM | 1.179 | 0.067 | 1.293 | |
| glimmaMA | 0.006 | 0.001 | 0.006 | |
| glimmaMDS.DESeqDataSet | 0.142 | 0.012 | 0.169 | |
| glimmaMDS.DGEList | 0.067 | 0.012 | 0.085 | |
| glimmaMDS | 0.189 | 0.033 | 0.256 | |
| glimmaMDS.default | 0.054 | 0.017 | 0.089 | |
| glimmaVolcano.DESeqDataSet | 3.826 | 0.106 | 4.012 | |
| glimmaVolcano.DGEExact | 2.580 | 0.084 | 2.693 | |
| glimmaVolcano | 1.151 | 0.071 | 1.250 | |
| glimmaXY | 0.661 | 0.033 | 0.717 | |