Back to Build/check report for BioC 3.23:   simplified   long
ABCDEF[G]HIJKLMNOPQRSTUVWXYZ

This page was generated on 2025-11-12 11:32 -0500 (Wed, 12 Nov 2025).

HostnameOSArch (*)R versionInstalled pkgs
nebbiolo1Linux (Ubuntu 24.04.3 LTS)x86_64R Under development (unstable) (2025-10-20 r88955) -- "Unsuffered Consequences" 4823
Click on any hostname to see more info about the system (e.g. compilers)      (*) as reported by 'uname -p', except on Windows and Mac OS X

Package 828/2325HostnameOS / ArchINSTALLBUILDCHECKBUILD BIN
GenomAutomorphism 1.13.0  (landing page)
Robersy Sanchez
Snapshot Date: 2025-11-11 13:40 -0500 (Tue, 11 Nov 2025)
git_url: https://git.bioconductor.org/packages/GenomAutomorphism
git_branch: devel
git_last_commit: 7283b3b
git_last_commit_date: 2025-10-29 11:17:59 -0500 (Wed, 29 Oct 2025)
nebbiolo1Linux (Ubuntu 24.04.3 LTS) / x86_64  OK    OK    OK  UNNEEDED, same version is already published


CHECK results for GenomAutomorphism on nebbiolo1

To the developers/maintainers of the GenomAutomorphism package:
- Allow up to 24 hours (and sometimes 48 hours) for your latest push to git@git.bioconductor.org:packages/GenomAutomorphism.git to reflect on this report. See Troubleshooting Build Report for more information.
- Use the following Renviron settings to reproduce errors and warnings.
- If 'R CMD check' started to fail recently on the Linux builder(s) over a missing dependency, add the missing dependency to 'Suggests:' in your DESCRIPTION file. See Renviron.bioc for more information.

raw results


Summary

Package: GenomAutomorphism
Version: 1.13.0
Command: /home/biocbuild/bbs-3.23-bioc/R/bin/R CMD check --install=check:GenomAutomorphism.install-out.txt --library=/home/biocbuild/bbs-3.23-bioc/R/site-library --timings GenomAutomorphism_1.13.0.tar.gz
StartedAt: 2025-11-11 23:52:21 -0500 (Tue, 11 Nov 2025)
EndedAt: 2025-11-11 23:56:31 -0500 (Tue, 11 Nov 2025)
EllapsedTime: 250.2 seconds
RetCode: 0
Status:   OK  
CheckDir: GenomAutomorphism.Rcheck
Warnings: 0

Command output

##############################################################################
##############################################################################
###
### Running command:
###
###   /home/biocbuild/bbs-3.23-bioc/R/bin/R CMD check --install=check:GenomAutomorphism.install-out.txt --library=/home/biocbuild/bbs-3.23-bioc/R/site-library --timings GenomAutomorphism_1.13.0.tar.gz
###
##############################################################################
##############################################################################


* using log directory ‘/home/biocbuild/bbs-3.23-bioc/meat/GenomAutomorphism.Rcheck’
* using R Under development (unstable) (2025-10-20 r88955)
* using platform: x86_64-pc-linux-gnu
* R was compiled by
    gcc (Ubuntu 13.3.0-6ubuntu2~24.04) 13.3.0
    GNU Fortran (Ubuntu 13.3.0-6ubuntu2~24.04) 13.3.0
* running under: Ubuntu 24.04.3 LTS
* using session charset: UTF-8
* checking for file ‘GenomAutomorphism/DESCRIPTION’ ... OK
* this is package ‘GenomAutomorphism’ version ‘1.13.0’
* package encoding: UTF-8
* checking package namespace information ... OK
* checking package dependencies ... OK
* checking if this is a source package ... OK
* checking if there is a namespace ... OK
* checking for hidden files and directories ... OK
* checking for portable file names ... OK
* checking for sufficient/correct file permissions ... OK
* checking whether package ‘GenomAutomorphism’ can be installed ... OK
* checking installed package size ... OK
* checking package directory ... OK
* checking ‘build’ directory ... OK
* checking DESCRIPTION meta-information ... OK
* checking top-level files ... OK
* checking for left-over files ... OK
* checking index information ... OK
* checking package subdirectories ... OK
* checking code files for non-ASCII characters ... OK
* checking R files for syntax errors ... OK
* checking whether the package can be loaded ... OK
* checking whether the package can be loaded with stated dependencies ... OK
* checking whether the package can be unloaded cleanly ... OK
* checking whether the namespace can be loaded with stated dependencies ... OK
* checking whether the namespace can be unloaded cleanly ... OK
* checking loading without being on the library search path ... OK
* checking dependencies in R code ... OK
* checking S3 generic/method consistency ... OK
* checking replacement functions ... OK
* checking foreign function calls ... OK
* checking R code for possible problems ... OK
* checking Rd files ... OK
* checking Rd metadata ... OK
* checking Rd cross-references ... NOTE
Non-topic package-anchored link(s) in Rd file 'reexports.Rd':
  ‘[S4Vectors:S4Vectors-internals]{setValidity2}’

See section 'Cross-references' in the 'Writing R Extensions' manual.
* checking for missing documentation entries ... OK
* checking for code/documentation mismatches ... OK
* checking Rd \usage sections ... OK
* checking Rd contents ... OK
* checking for unstated dependencies in examples ... OK
* checking contents of ‘data’ directory ... OK
* checking data for non-ASCII characters ... OK
* checking data for ASCII and uncompressed saves ... OK
* checking files in ‘vignettes’ ... OK
* checking examples ... OK
Examples with CPU (user + system) or elapsed time > 5s
                user system elapsed
aminoacid_dist 5.173  1.003   5.542
automorphisms  4.928  0.853   5.187
* checking for unstated dependencies in ‘tests’ ... OK
* checking tests ...
  Running ‘spelling.R’
  Running ‘testthat.R’
 OK
* checking for unstated dependencies in vignettes ... OK
* checking package vignettes ... OK
* checking re-building of vignette outputs ... OK
* checking PDF version of manual ... OK
* DONE

Status: 1 NOTE
See
  ‘/home/biocbuild/bbs-3.23-bioc/meat/GenomAutomorphism.Rcheck/00check.log’
for details.


Installation output

GenomAutomorphism.Rcheck/00install.out

##############################################################################
##############################################################################
###
### Running command:
###
###   /home/biocbuild/bbs-3.23-bioc/R/bin/R CMD INSTALL GenomAutomorphism
###
##############################################################################
##############################################################################


* installing to library ‘/home/biocbuild/bbs-3.23-bioc/R/site-library’
* installing *source* package ‘GenomAutomorphism’ ...
** this is package ‘GenomAutomorphism’ version ‘1.13.0’
** using staged installation
** R
** data
** inst
** byte-compile and prepare package for lazy loading
** help
*** installing help indices
*** copying figures
** building package indices
** installing vignettes
** testing if installed package can be loaded from temporary location
** testing if installed package can be loaded from final location
** testing if installed package keeps a record of temporary installation path
* DONE (GenomAutomorphism)

Tests output

GenomAutomorphism.Rcheck/tests/spelling.Rout


R Under development (unstable) (2025-10-20 r88955) -- "Unsuffered Consequences"
Copyright (C) 2025 The R Foundation for Statistical Computing
Platform: x86_64-pc-linux-gnu

R is free software and comes with ABSOLUTELY NO WARRANTY.
You are welcome to redistribute it under certain conditions.
Type 'license()' or 'licence()' for distribution details.

R is a collaborative project with many contributors.
Type 'contributors()' for more information and
'citation()' on how to cite R or R packages in publications.

Type 'demo()' for some demos, 'help()' for on-line help, or
'help.start()' for an HTML browser interface to help.
Type 'q()' to quit R.

> if (requireNamespace("spelling", quietly = TRUE)) {
+     spelling::spell_check_test(
+         vignettes = TRUE, error = FALSE,
+         skip_on_cran = TRUE
+     )
+ }
All Done!
> 
> proc.time()
   user  system elapsed 
  0.141   0.040   0.168 

GenomAutomorphism.Rcheck/tests/testthat.Rout


R Under development (unstable) (2025-10-20 r88955) -- "Unsuffered Consequences"
Copyright (C) 2025 The R Foundation for Statistical Computing
Platform: x86_64-pc-linux-gnu

R is free software and comes with ABSOLUTELY NO WARRANTY.
You are welcome to redistribute it under certain conditions.
Type 'license()' or 'licence()' for distribution details.

R is a collaborative project with many contributors.
Type 'contributors()' for more information and
'citation()' on how to cite R or R packages in publications.

Type 'demo()' for some demos, 'help()' for on-line help, or
'help.start()' for an HTML browser interface to help.
Type 'q()' to quit R.

> library(testthat)
> library(GenomAutomorphism)
> 
> test_check("GenomAutomorphism")
[ FAIL 0 | WARN 0 | SKIP 0 | PASS 34 ]
> 
> proc.time()
   user  system elapsed 
 22.918   2.295  24.932 

Example timings

GenomAutomorphism.Rcheck/GenomAutomorphism-Ex.timings

nameusersystemelapsed
AutomorphismByCoef0.4240.0060.430
AutomorphismList2.4010.1302.531
CodonMatrix0.1750.0040.180
CodonSeq0.3680.0050.375
GRangesMatrixSeq0.1890.0050.194
ListCodonMatrix0.2070.0020.209
MatrixSeq0.1040.0040.108
aa_phychem_index0.0920.0070.099
aaindex10.0330.0020.035
aaindex20.0140.0010.016
aaindex30.0090.0010.010
aln0.0530.0010.054
aminoacid_dist5.1731.0035.542
as.AutomorphismList0.5870.0890.568
aut3D1.5190.3881.662
autZ1252.5570.7332.526
autZ51.0060.2931.126
autZ641.8510.2941.954
autby_coef0.2880.0170.305
autm0.0380.0020.040
autm_3d0.0470.0060.053
autm_z1250.0430.0040.047
automorphismByRanges0.0940.0120.106
automorphism_bycoef0.0850.0110.096
automorphism_prob1.0530.0481.101
automorphisms4.9280.8535.187
base2codon0.0520.0030.054
base2int0.0070.0010.008
base_methods0.3910.0410.432
brca1_aln0.0550.0020.057
brca1_aln20.0530.0030.056
brca1_autm0.4030.0290.431
cdm_z640.1410.5180.660
codon_coord0.8980.0940.992
codon_dist0.2410.0050.247
codon_dist_matrix1.8790.1652.035
codon_matrix0.5910.0370.628
conserved_regions0.3270.0050.332
covid_aln0.0570.0020.058
covid_autm0.0490.0010.051
cyc_aln0.0840.0110.096
cyc_autm0.0650.0070.071
dna_phyche0.0060.0010.007
dna_phychem0.0030.0010.003
extract-methods0.4780.0220.500
getAutomorphisms0.1760.0160.191
get_coord0.5200.0650.584
get_mutscore0.1490.0070.156
matrices0.4760.0020.477
mod0.0020.0000.002
modeq0.0010.0010.001
modlineq0.0020.0010.003
mut_type0.0010.0010.002
peptide_phychem_index0.1050.0070.112
reexports0.0590.0050.063
seqranges0.5750.0200.595
slapply0.0010.0000.001
sortByChromAndStart0.060.000.06
str2chr000
str2dig000
translation0.8390.0010.839