| Back to Build/check report for BioC 3.23: simplified long |
|
This page was generated on 2025-11-13 11:32 -0500 (Thu, 13 Nov 2025).
| Hostname | OS | Arch (*) | R version | Installed pkgs |
|---|---|---|---|---|
| kjohnson3 | macOS 13.7.7 Ventura | arm64 | R Under development (unstable) (2025-11-04 r88984) -- "Unsuffered Consequences" | 4013 |
| Click on any hostname to see more info about the system (e.g. compilers) (*) as reported by 'uname -p', except on Windows and Mac OS X | ||||
| Package 895/2325 | Hostname | OS / Arch | INSTALL | BUILD | CHECK | BUILD BIN | ||||||||
| GOexpress 1.45.0 (landing page) Kevin Rue-Albrecht
| kjohnson3 | macOS 13.7.7 Ventura / arm64 | OK | OK | OK | OK | ||||||||
|
To the developers/maintainers of the GOexpress package: - Allow up to 24 hours (and sometimes 48 hours) for your latest push to git@git.bioconductor.org:packages/GOexpress.git to reflect on this report. See Troubleshooting Build Report for more information. - Use the following Renviron settings to reproduce errors and warnings. - If 'R CMD check' started to fail recently on the Linux builder(s) over a missing dependency, add the missing dependency to 'Suggests:' in your DESCRIPTION file. See Renviron.bioc for more information. |
| Package: GOexpress |
| Version: 1.45.0 |
| Command: /Library/Frameworks/R.framework/Resources/bin/R CMD check --install=check:GOexpress.install-out.txt --library=/Library/Frameworks/R.framework/Resources/library --no-vignettes --timings GOexpress_1.45.0.tar.gz |
| StartedAt: 2025-11-12 19:00:54 -0500 (Wed, 12 Nov 2025) |
| EndedAt: 2025-11-12 19:01:55 -0500 (Wed, 12 Nov 2025) |
| EllapsedTime: 60.7 seconds |
| RetCode: 0 |
| Status: OK |
| CheckDir: GOexpress.Rcheck |
| Warnings: 0 |
##############################################################################
##############################################################################
###
### Running command:
###
### /Library/Frameworks/R.framework/Resources/bin/R CMD check --install=check:GOexpress.install-out.txt --library=/Library/Frameworks/R.framework/Resources/library --no-vignettes --timings GOexpress_1.45.0.tar.gz
###
##############################################################################
##############################################################################
* using log directory ‘/Users/biocbuild/bbs-3.23-bioc/meat/GOexpress.Rcheck’
* using R Under development (unstable) (2025-11-04 r88984)
* using platform: aarch64-apple-darwin20
* R was compiled by
Apple clang version 16.0.0 (clang-1600.0.26.6)
GNU Fortran (GCC) 14.2.0
* running under: macOS Ventura 13.7.8
* using session charset: UTF-8
* using option ‘--no-vignettes’
* checking for file ‘GOexpress/DESCRIPTION’ ... OK
* this is package ‘GOexpress’ version ‘1.45.0’
* checking package namespace information ... OK
* checking package dependencies ... OK
* checking if this is a source package ... OK
* checking if there is a namespace ... OK
* checking for hidden files and directories ... NOTE
Found the following hidden files and directories:
.travis.yml
These were most likely included in error. See section ‘Package
structure’ in the ‘Writing R Extensions’ manual.
* checking for portable file names ... OK
* checking for sufficient/correct file permissions ... OK
* checking whether package ‘GOexpress’ can be installed ... OK
* checking installed package size ... OK
* checking package directory ... OK
* checking ‘build’ directory ... OK
* checking DESCRIPTION meta-information ... OK
* checking top-level files ... OK
* checking for left-over files ... OK
* checking index information ... OK
* checking package subdirectories ... OK
* checking code files for non-ASCII characters ... OK
* checking R files for syntax errors ... OK
* checking whether the package can be loaded ... OK
* checking whether the package can be loaded with stated dependencies ... OK
* checking whether the package can be unloaded cleanly ... OK
* checking whether the namespace can be loaded with stated dependencies ... OK
* checking whether the namespace can be unloaded cleanly ... OK
* checking dependencies in R code ... OK
* checking S3 generic/method consistency ... OK
* checking replacement functions ... OK
* checking foreign function calls ... OK
* checking R code for possible problems ... NOTE
GO_analyse: no visible binding for global variable ‘microarray2dataset’
GO_analyse: no visible binding for global variable ‘prefix2dataset’
mart_from_ensembl: no visible binding for global variable
‘prefix2dataset’
Undefined global functions or variables:
microarray2dataset prefix2dataset
* checking Rd files ... NOTE
checkRd: (-1) AlvMac_GOgenes.Rd:22-23: Lost braces in \itemize; \value handles \item{}{} directly
checkRd: (-1) AlvMac_GOgenes.Rd:24: Lost braces in \itemize; \value handles \item{}{} directly
checkRd: (-1) AlvMac_allGO.Rd:23: Lost braces in \itemize; \value handles \item{}{} directly
checkRd: (-1) AlvMac_allGO.Rd:24: Lost braces in \itemize; \value handles \item{}{} directly
checkRd: (-1) AlvMac_allGO.Rd:25-27: Lost braces in \itemize; \value handles \item{}{} directly
checkRd: (-1) AlvMac_allgenes.Rd:23: Lost braces in \itemize; \value handles \item{}{} directly
checkRd: (-1) AlvMac_allgenes.Rd:24: Lost braces in \itemize; \value handles \item{}{} directly
checkRd: (-1) AlvMac_allgenes.Rd:25: Lost braces in \itemize; \value handles \item{}{} directly
checkRd: (-1) hist_scores.Rd:11: Lost braces; missing escapes or markup?
11 | variable of the {GO_analyse()} function.
| ^
* checking Rd metadata ... OK
* checking Rd cross-references ... OK
* checking for missing documentation entries ... OK
* checking for code/documentation mismatches ... OK
* checking Rd \usage sections ... OK
* checking Rd contents ... OK
* checking for unstated dependencies in examples ... OK
* checking contents of ‘data’ directory ... OK
* checking data for non-ASCII characters ... OK
* checking LazyData ... OK
* checking data for ASCII and uncompressed saves ... OK
* checking sizes of PDF files under ‘inst/doc’ ... OK
* checking files in ‘vignettes’ ... OK
* checking examples ... OK
* checking for unstated dependencies in vignettes ... OK
* checking package vignettes ... OK
* checking running R code from vignettes ... SKIPPED
* checking re-building of vignette outputs ... SKIPPED
* checking PDF version of manual ... OK
* DONE
Status: 3 NOTEs
See
‘/Users/biocbuild/bbs-3.23-bioc/meat/GOexpress.Rcheck/00check.log’
for details.
GOexpress.Rcheck/00install.out
############################################################################## ############################################################################## ### ### Running command: ### ### /Library/Frameworks/R.framework/Resources/bin/R CMD INSTALL GOexpress ### ############################################################################## ############################################################################## * installing to library ‘/Library/Frameworks/R.framework/Versions/4.6-arm64/Resources/library’ * installing *source* package ‘GOexpress’ ... ** this is package ‘GOexpress’ version ‘1.45.0’ ** using staged installation ** R ** data *** moving datasets to lazyload DB ** inst ** byte-compile and prepare package for lazy loading ** help *** installing help indices ** building package indices ** installing vignettes ** testing if installed package can be loaded from temporary location ** testing if installed package can be loaded from final location ** testing if installed package keeps a record of temporary installation path * DONE (GOexpress)
GOexpress.Rcheck/GOexpress-Ex.timings
| name | user | system | elapsed | |
| AlvMac | 0.033 | 0.007 | 0.043 | |
| AlvMac_GOgenes | 0.031 | 0.003 | 0.033 | |
| AlvMac_allGO | 0.014 | 0.001 | 0.015 | |
| AlvMac_allgenes | 0.003 | 0.000 | 0.004 | |
| AlvMac_results | 0.265 | 0.004 | 0.271 | |
| AlvMac_results.pVal | 0.517 | 0.513 | 1.046 | |
| GO_analyse | 1.214 | 0.038 | 1.330 | |
| GOexpress-package | 0.000 | 0.003 | 0.003 | |
| cluster_GO | 0.055 | 0.003 | 0.058 | |
| expression_plot | 0.856 | 0.026 | 0.917 | |
| expression_plot_symbol | 0.388 | 0.003 | 0.417 | |
| expression_profiles | 0.257 | 0.003 | 0.262 | |
| expression_profiles_symbol | 0.254 | 0.003 | 0.268 | |
| heatmap_GO | 0.409 | 0.009 | 0.447 | |
| hist_scores | 0.104 | 0.004 | 0.112 | |
| list_genes | 0.041 | 0.002 | 0.046 | |
| microarray2dataset | 0.003 | 0.004 | 0.007 | |
| pValue_GO | 0 | 0 | 0 | |
| plot_design | 0.048 | 0.003 | 0.054 | |
| prefix2dataset | 0.002 | 0.002 | 0.004 | |
| quantiles_scores | 0.057 | 0.002 | 0.063 | |
| rerank | 0.081 | 0.004 | 0.102 | |
| subEset | 0.012 | 0.001 | 0.013 | |
| subset_scores | 0.066 | 0.004 | 0.077 | |
| table_genes | 0.047 | 0.002 | 0.060 | |