Back to Build/check report for BioC 3.23:   simplified   long
ABCDE[F]GHIJKLMNOPQRSTUVWXYZ

This page was generated on 2025-11-12 11:32 -0500 (Wed, 12 Nov 2025).

HostnameOSArch (*)R versionInstalled pkgs
nebbiolo1Linux (Ubuntu 24.04.3 LTS)x86_64R Under development (unstable) (2025-10-20 r88955) -- "Unsuffered Consequences" 4823
Click on any hostname to see more info about the system (e.g. compilers)      (*) as reported by 'uname -p', except on Windows and Mac OS X

Package 755/2325HostnameOS / ArchINSTALLBUILDCHECKBUILD BIN
FlowSOM 2.19.0  (landing page)
Sofie Van Gassen
Snapshot Date: 2025-11-11 13:40 -0500 (Tue, 11 Nov 2025)
git_url: https://git.bioconductor.org/packages/FlowSOM
git_branch: devel
git_last_commit: 3c00c1d
git_last_commit_date: 2025-10-29 10:23:19 -0500 (Wed, 29 Oct 2025)
nebbiolo1Linux (Ubuntu 24.04.3 LTS) / x86_64  OK    OK    OK  UNNEEDED, same version is already published


CHECK results for FlowSOM on nebbiolo1

To the developers/maintainers of the FlowSOM package:
- Allow up to 24 hours (and sometimes 48 hours) for your latest push to git@git.bioconductor.org:packages/FlowSOM.git to reflect on this report. See Troubleshooting Build Report for more information.
- Use the following Renviron settings to reproduce errors and warnings.
- If 'R CMD check' started to fail recently on the Linux builder(s) over a missing dependency, add the missing dependency to 'Suggests:' in your DESCRIPTION file. See Renviron.bioc for more information.

raw results


Summary

Package: FlowSOM
Version: 2.19.0
Command: /home/biocbuild/bbs-3.23-bioc/R/bin/R CMD check --install=check:FlowSOM.install-out.txt --library=/home/biocbuild/bbs-3.23-bioc/R/site-library --timings FlowSOM_2.19.0.tar.gz
StartedAt: 2025-11-11 23:40:52 -0500 (Tue, 11 Nov 2025)
EndedAt: 2025-11-11 23:50:38 -0500 (Tue, 11 Nov 2025)
EllapsedTime: 586.0 seconds
RetCode: 0
Status:   OK  
CheckDir: FlowSOM.Rcheck
Warnings: 0

Command output

##############################################################################
##############################################################################
###
### Running command:
###
###   /home/biocbuild/bbs-3.23-bioc/R/bin/R CMD check --install=check:FlowSOM.install-out.txt --library=/home/biocbuild/bbs-3.23-bioc/R/site-library --timings FlowSOM_2.19.0.tar.gz
###
##############################################################################
##############################################################################


* using log directory ‘/home/biocbuild/bbs-3.23-bioc/meat/FlowSOM.Rcheck’
* using R Under development (unstable) (2025-10-20 r88955)
* using platform: x86_64-pc-linux-gnu
* R was compiled by
    gcc (Ubuntu 13.3.0-6ubuntu2~24.04) 13.3.0
    GNU Fortran (Ubuntu 13.3.0-6ubuntu2~24.04) 13.3.0
* running under: Ubuntu 24.04.3 LTS
* using session charset: UTF-8
* checking for file ‘FlowSOM/DESCRIPTION’ ... OK
* this is package ‘FlowSOM’ version ‘2.19.0’
* package encoding: UTF-8
* checking package namespace information ... OK
* checking package dependencies ... OK
* checking if this is a source package ... OK
* checking if there is a namespace ... OK
* checking for hidden files and directories ... OK
* checking for portable file names ... OK
* checking for sufficient/correct file permissions ... OK
* checking whether package ‘FlowSOM’ can be installed ... OK
* used C compiler: ‘gcc (Ubuntu 13.3.0-6ubuntu2~24.04) 13.3.0’
* checking installed package size ... OK
* checking package directory ... OK
* checking ‘build’ directory ... OK
* checking DESCRIPTION meta-information ... OK
* checking top-level files ... OK
* checking for left-over files ... OK
* checking index information ... OK
* checking package subdirectories ... OK
* checking code files for non-ASCII characters ... OK
* checking R files for syntax errors ... OK
* checking whether the package can be loaded ... OK
* checking whether the package can be loaded with stated dependencies ... OK
* checking whether the package can be unloaded cleanly ... OK
* checking whether the namespace can be loaded with stated dependencies ... OK
* checking whether the namespace can be unloaded cleanly ... OK
* checking loading without being on the library search path ... OK
* checking whether startup messages can be suppressed ... OK
* checking dependencies in R code ... OK
* checking S3 generic/method consistency ... OK
* checking replacement functions ... OK
* checking foreign function calls ... OK
* checking R code for possible problems ... OK
* checking Rd files ... NOTE
checkRd: (-1) PlotDimRed.Rd:55: Lost braces
    55 | of the dimred default = function(dimred){dimred$Y}.}
       |                                         ^
* checking Rd metadata ... OK
* checking Rd cross-references ... NOTE
Non-topic package-anchored link(s) in Rd file 'pipe.Rd':
  ‘[magrittr:pipe]{%>%}’

See section 'Cross-references' in the 'Writing R Extensions' manual.
* checking for missing documentation entries ... OK
* checking for code/documentation mismatches ... OK
* checking Rd \usage sections ... OK
* checking Rd contents ... OK
* checking for unstated dependencies in examples ... OK
* checking line endings in C/C++/Fortran sources/headers ... OK
* checking compiled code ... INFO
Note: information on .o files is not available
* checking sizes of PDF files under ‘inst/doc’ ...* checking files in ‘vignettes’ ... OK
* checking examples ... OK
Examples with CPU (user + system) or elapsed time > 5s
                     user system elapsed
FlowSOMmary        49.687  0.295  49.645
PlotDimRed         44.097  0.189  44.230
PlotOutliers       28.720  0.056  28.777
PlotMarker         17.298  0.034  17.333
UpdateMetaclusters 15.233  0.020  15.253
PlotStars          13.861  0.084  13.946
GroupStats         11.512  0.023  11.535
FlowSOM            11.414  0.036  11.454
PlotGroups         10.677  0.025  10.702
QueryMultiple       9.302  0.010   9.314
Plot2DScatters      9.070  0.036   9.099
query_multiple      9.047  0.012   9.059
AddAnnotation       8.316  0.168   8.488
PlotManualBars      7.608  0.014   7.644
QueryStarPlot       6.912  0.011   6.926
PlotPies            6.794  0.093   6.889
PlotNode            6.660  0.014   6.674
GetFlowJoLabels     6.392  0.065   6.458
PlotVariable        6.338  0.020   6.360
PlotNumbers         6.291  0.021   6.312
CountGroups         5.549  0.076   5.625
PlotOverview2D      5.476  0.063   5.540
UpdateNodeSize      5.496  0.005   5.501
PlotFlowSOM         5.227  0.061   5.290
PlotLabels          5.219  0.012   5.231
* checking for unstated dependencies in vignettes ... OK
* checking package vignettes ... OK
* checking re-building of vignette outputs ... OK
* checking PDF version of manual ... OK
* DONE

Status: 2 NOTEs
See
  ‘/home/biocbuild/bbs-3.23-bioc/meat/FlowSOM.Rcheck/00check.log’
for details.


Installation output

FlowSOM.Rcheck/00install.out

##############################################################################
##############################################################################
###
### Running command:
###
###   /home/biocbuild/bbs-3.23-bioc/R/bin/R CMD INSTALL FlowSOM
###
##############################################################################
##############################################################################


* installing to library ‘/home/biocbuild/bbs-3.23-bioc/R/site-library’
* installing *source* package ‘FlowSOM’ ...
** this is package ‘FlowSOM’ version ‘2.19.0’
** using staged installation
** libs
using C compiler: ‘gcc (Ubuntu 13.3.0-6ubuntu2~24.04) 13.3.0’
gcc -std=gnu2x -I"/home/biocbuild/bbs-3.23-bioc/R/include" -DNDEBUG   -I/usr/local/include    -fpic  -g -O2  -Wall -Werror=format-security -c som.c -o som.o
gcc -std=gnu2x -shared -L/home/biocbuild/bbs-3.23-bioc/R/lib -L/usr/local/lib -o FlowSOM.so som.o -L/home/biocbuild/bbs-3.23-bioc/R/lib -lR
installing to /home/biocbuild/bbs-3.23-bioc/R/site-library/00LOCK-FlowSOM/00new/FlowSOM/libs
** R
** inst
** byte-compile and prepare package for lazy loading
** help
*** installing help indices
** building package indices
** installing vignettes
** testing if installed package can be loaded from temporary location
** checking absolute paths in shared objects and dynamic libraries
** testing if installed package can be loaded from final location
** testing if installed package keeps a record of temporary installation path
* DONE (FlowSOM)

Tests output


Example timings

FlowSOM.Rcheck/FlowSOM-Ex.timings

nameusersystemelapsed
AddAnnotation8.3160.1688.488
AggregateFlowFrames0.0690.0120.081
BuildMST1.0990.0181.117
BuildSOM1.1170.0061.124
CountGroups5.5490.0765.625
FMeasure0.0010.0000.001
FlowSOM11.414 0.03611.454
FlowSOMSubset3.9060.0163.923
FlowSOMmary49.687 0.29549.645
GetChannels0.0270.0020.029
GetClusterMFIs3.7830.0373.822
GetClusterPercentagesPositive3.8360.0413.878
GetClusters3.6960.0123.708
GetCounts3.8350.0773.913
GetFeatures4.6920.0044.696
GetFlowJoLabels6.3920.0656.458
GetMFIs3.9000.0083.907
GetMarkers0.0270.0010.028
GetMetaclusterCVs4.0220.0064.029
GetMetaclusterMFIs4.0740.0714.145
GetMetaclusterPercentagesPositive3.9900.0053.995
GetMetaclusters4.4780.0634.541
GetPercentages4.0710.0354.107
GroupStats11.512 0.02311.535
Initialize_KWSP0.0040.0000.004
Initialize_PCA0.0000.0000.001
MetaClustering2.7150.0202.736
MetaclusterCVs4.0930.0604.155
MetaclusterMFIs4.4900.0114.502
NClusters4.2600.0794.339
NMetaclusters4.5480.0154.564
NewData3.5960.0223.626
Plot2DScatters9.0700.0369.099
PlotCenters1.4150.0031.417
PlotClusters2D0.9760.0000.976
PlotDimRed44.097 0.18944.230
PlotFileScatters1.0860.0121.099
PlotFlowSOM5.2270.0615.290
PlotGroups10.677 0.02510.702
PlotLabels5.2190.0125.231
PlotManualBars7.6080.0147.644
PlotMarker17.298 0.03417.333
PlotNode6.6600.0146.674
PlotNumbers6.2910.0216.312
PlotOutliers28.720 0.05628.777
PlotOverview2D5.4760.0635.540
PlotPies6.7940.0936.889
PlotSD1.8960.0121.909
PlotStars13.861 0.08413.946
PlotVariable6.3380.0206.360
Purity0.0010.0010.001
QueryMultiple9.3020.0109.314
QueryStarPlot6.9120.0116.926
ReadInput2.7690.0302.799
SaveClustersToFCS4.7450.0184.764
TestOutliers4.7650.0064.772
UpdateMetaclusters15.233 0.02015.253
UpdateNodeSize5.4960.0055.501
get_channels0.0270.0010.028
get_markers0.0290.0020.030
metaClustering_consensus2.3850.0092.394
plotStarLegend0.4520.0010.454
print.FlowSOM4.1840.0664.251
query_multiple9.0470.0129.059