| Back to Multiple platform build/check report for BioC 3.23: simplified long |
|
This page was generated on 2025-11-14 11:35 -0500 (Fri, 14 Nov 2025).
| Hostname | OS | Arch (*) | R version | Installed pkgs |
|---|---|---|---|---|
| nebbiolo1 | Linux (Ubuntu 24.04.3 LTS) | x86_64 | R Under development (unstable) (2025-10-20 r88955) -- "Unsuffered Consequences" | 4825 |
| kjohnson3 | macOS 13.7.7 Ventura | arm64 | R Under development (unstable) (2025-11-04 r88984) -- "Unsuffered Consequences" | 4547 |
| Click on any hostname to see more info about the system (e.g. compilers) (*) as reported by 'uname -p', except on Windows and Mac OS X | ||||
| Package 728/2325 | Hostname | OS / Arch | INSTALL | BUILD | CHECK | BUILD BIN | ||||||||
| FindIT2 1.17.0 (landing page) Guandong Shang
| nebbiolo1 | Linux (Ubuntu 24.04.3 LTS) / x86_64 | OK | OK | OK | |||||||||
| kjohnson3 | macOS 13.7.7 Ventura / arm64 | OK | OK | OK | OK | |||||||||
|
To the developers/maintainers of the FindIT2 package: - Allow up to 24 hours (and sometimes 48 hours) for your latest push to git@git.bioconductor.org:packages/FindIT2.git to reflect on this report. See Troubleshooting Build Report for more information. - Use the following Renviron settings to reproduce errors and warnings. - If 'R CMD check' started to fail recently on the Linux builder(s) over a missing dependency, add the missing dependency to 'Suggests:' in your DESCRIPTION file. See Renviron.bioc for more information. |
| Package: FindIT2 |
| Version: 1.17.0 |
| Command: /home/biocbuild/bbs-3.23-bioc/R/bin/R CMD check --install=check:FindIT2.install-out.txt --library=/home/biocbuild/bbs-3.23-bioc/R/site-library --timings FindIT2_1.17.0.tar.gz |
| StartedAt: 2025-11-13 23:36:07 -0500 (Thu, 13 Nov 2025) |
| EndedAt: 2025-11-13 23:42:54 -0500 (Thu, 13 Nov 2025) |
| EllapsedTime: 406.7 seconds |
| RetCode: 0 |
| Status: OK |
| CheckDir: FindIT2.Rcheck |
| Warnings: 0 |
##############################################################################
##############################################################################
###
### Running command:
###
### /home/biocbuild/bbs-3.23-bioc/R/bin/R CMD check --install=check:FindIT2.install-out.txt --library=/home/biocbuild/bbs-3.23-bioc/R/site-library --timings FindIT2_1.17.0.tar.gz
###
##############################################################################
##############################################################################
* using log directory ‘/home/biocbuild/bbs-3.23-bioc/meat/FindIT2.Rcheck’
* using R Under development (unstable) (2025-10-20 r88955)
* using platform: x86_64-pc-linux-gnu
* R was compiled by
gcc (Ubuntu 13.3.0-6ubuntu2~24.04) 13.3.0
GNU Fortran (Ubuntu 13.3.0-6ubuntu2~24.04) 13.3.0
* running under: Ubuntu 24.04.3 LTS
* using session charset: UTF-8
* checking for file ‘FindIT2/DESCRIPTION’ ... OK
* this is package ‘FindIT2’ version ‘1.17.0’
* package encoding: UTF-8
* checking package namespace information ... OK
* checking package dependencies ... INFO
Imports includes 22 non-default packages.
Importing from so many packages makes the package vulnerable to any of
them becoming unavailable. Move as many as possible to Suggests and
use conditionally.
* checking if this is a source package ... OK
* checking if there is a namespace ... OK
* checking for hidden files and directories ... OK
* checking for portable file names ... OK
* checking for sufficient/correct file permissions ... OK
* checking whether package ‘FindIT2’ can be installed ... OK
* checking installed package size ... OK
* checking package directory ... OK
* checking ‘build’ directory ... OK
* checking DESCRIPTION meta-information ... OK
* checking top-level files ... OK
* checking for left-over files ... OK
* checking index information ... OK
* checking package subdirectories ... OK
* checking code files for non-ASCII characters ... OK
* checking R files for syntax errors ... OK
* checking whether the package can be loaded ... OK
* checking whether the package can be loaded with stated dependencies ... OK
* checking whether the package can be unloaded cleanly ... OK
* checking whether the namespace can be loaded with stated dependencies ... OK
* checking whether the namespace can be unloaded cleanly ... OK
* checking loading without being on the library search path ... OK
* checking dependencies in R code ... OK
* checking S3 generic/method consistency ... OK
* checking replacement functions ... OK
* checking foreign function calls ... OK
* checking R code for possible problems ... OK
* checking Rd files ... OK
* checking Rd metadata ... OK
* checking Rd cross-references ... OK
* checking for missing documentation entries ... OK
* checking for code/documentation mismatches ... OK
* checking Rd \usage sections ... OK
* checking Rd contents ... OK
* checking for unstated dependencies in examples ... OK
* checking contents of ‘data’ directory ... OK
* checking data for non-ASCII characters ... OK
* checking data for ASCII and uncompressed saves ... OK
* checking files in ‘vignettes’ ... OK
* checking examples ... OK
Examples with CPU (user + system) or elapsed time > 5s
user system elapsed
findIT_regionRP 6.108 0.085 6.193
calcRP_region 5.282 0.165 5.447
* checking for unstated dependencies in ‘tests’ ... OK
* checking tests ...
Running ‘testthat.R’
OK
* checking for unstated dependencies in vignettes ... OK
* checking package vignettes ... OK
* checking re-building of vignette outputs ... OK
* checking PDF version of manual ... OK
* DONE
Status: OK
FindIT2.Rcheck/00install.out
############################################################################## ############################################################################## ### ### Running command: ### ### /home/biocbuild/bbs-3.23-bioc/R/bin/R CMD INSTALL FindIT2 ### ############################################################################## ############################################################################## * installing to library ‘/home/biocbuild/bbs-3.23-bioc/R/site-library’ * installing *source* package ‘FindIT2’ ... ** this is package ‘FindIT2’ version ‘1.17.0’ ** using staged installation ** R ** data ** inst ** byte-compile and prepare package for lazy loading ** help *** installing help indices ** building package indices ** installing vignettes ** testing if installed package can be loaded from temporary location ** testing if installed package can be loaded from final location ** testing if installed package keeps a record of temporary installation path * DONE (FindIT2)
FindIT2.Rcheck/tests/testthat.Rout
R Under development (unstable) (2025-10-20 r88955) -- "Unsuffered Consequences"
Copyright (C) 2025 The R Foundation for Statistical Computing
Platform: x86_64-pc-linux-gnu
R is free software and comes with ABSOLUTELY NO WARRANTY.
You are welcome to redistribute it under certain conditions.
Type 'license()' or 'licence()' for distribution details.
R is a collaborative project with many contributors.
Type 'contributors()' for more information and
'citation()' on how to cite R or R packages in publications.
Type 'demo()' for some demos, 'help()' for on-line help, or
'help.start()' for an HTML browser interface to help.
Type 'q()' to quit R.
> library(testthat)
> library(FindIT2)
Loading required package: GenomicRanges
Loading required package: stats4
Loading required package: BiocGenerics
Loading required package: generics
Attaching package: 'generics'
The following objects are masked from 'package:base':
as.difftime, as.factor, as.ordered, intersect, is.element, setdiff,
setequal, union
Attaching package: 'BiocGenerics'
The following objects are masked from 'package:stats':
IQR, mad, sd, var, xtabs
The following objects are masked from 'package:base':
Filter, Find, Map, Position, Reduce, anyDuplicated, aperm, append,
as.data.frame, basename, cbind, colnames, dirname, do.call,
duplicated, eval, evalq, get, grep, grepl, is.unsorted, lapply,
mapply, match, mget, order, paste, pmax, pmax.int, pmin, pmin.int,
rank, rbind, rownames, sapply, saveRDS, table, tapply, unique,
unsplit, which.max, which.min
Loading required package: S4Vectors
Attaching package: 'S4Vectors'
The following object is masked from 'package:utils':
findMatches
The following objects are masked from 'package:base':
I, expand.grid, unname
Loading required package: IRanges
Loading required package: Seqinfo
> if (!requireNamespace("TxDb.Athaliana.BioMart.plantsmart28")) {
+ stop("unable to load TxDb.Athaliana.BioMart.plantsmart28")
+ }
Loading required namespace: TxDb.Athaliana.BioMart.plantsmart28
>
> test_check("FindIT2")
>> preparing gene features information... 2025-11-13 23:41:02
>> some scan range may cross Chr bound, trimming... 2025-11-13 23:41:03
>> preparing weight info... 2025-11-13 23:41:03
>> loading E50h_sampleChr5.bw info... 2025-11-13 23:41:03
------------
>> extracting and calcluating Chr5 signal... 2025-11-13 23:41:04
>> dealing with Chr5 left gene signal... 2025-11-13 23:41:06
>> norming Chr5RP accoring to the whole Chr RP... 2025-11-13 23:41:06
>> merging all Chr RP together... 2025-11-13 23:41:06
>> done 2025-11-13 23:41:06
>> checking seqlevels match... 2025-11-13 23:41:06
>> your peak_GR seqlevel:Chr5...
>> your Txdb seqlevel:Chr1 Chr2 Chr3 Chr4 Chr5 ChrM ChrC...
Good, your Chrs in peak_GR is all in Txdb
------------
annotatePeak using geneScan mode begins
>> preparing gene features information and scan region... 2025-11-13 23:41:06
>> some scan range may cross Chr bound, trimming... 2025-11-13 23:41:07
>> finding overlap peak in gene scan region... 2025-11-13 23:41:07
>> dealing with left peak not your gene scan region... 2025-11-13 23:41:07
>> merging two set peaks... 2025-11-13 23:41:07
>> calculating distance and dealing with gene strand... 2025-11-13 23:41:07
>> merging all info together ... 2025-11-13 23:41:07
>> done 2025-11-13 23:41:07
>> calculating peakCenter to TSS using peak-gene pair... 2025-11-13 23:41:07
>> pre-filling 1356 noAssoc peak gene's RP with 0... 2025-11-13 23:41:08
>> calculating RP using centerToTSS and peak score2025-11-13 23:41:08
>> merging all info together 2025-11-13 23:41:10
>> done 2025-11-13 23:41:11
>> calculating peakCenter to TSS using peak-gene pair... 2025-11-13 23:41:11
>> pre-filling 1356 noAssoc peak gene's RP with 0... 2025-11-13 23:41:12
>> calculating RP using centerToTSS and peak score2025-11-13 23:41:12
>> merging all info together 2025-11-13 23:41:14
>> done 2025-11-13 23:41:15
>> checking seqlevels match... 2025-11-13 23:41:15
>> your peak_GR seqlevel:Chr5...
>> your Txdb seqlevel:Chr1 Chr2 Chr3 Chr4 Chr5 ChrM ChrC...
Good, your Chrs in peak_GR is all in Txdb
------------
annotatePeak using geneScan mode begins
>> preparing gene features information and scan region... 2025-11-13 23:41:15
>> some scan range may cross Chr bound, trimming... 2025-11-13 23:41:16
>> finding overlap peak in gene scan region... 2025-11-13 23:41:16
>> dealing with left peak not your gene scan region... 2025-11-13 23:41:16
>> merging two set peaks... 2025-11-13 23:41:16
>> calculating distance and dealing with gene strand... 2025-11-13 23:41:16
>> merging all info together ... 2025-11-13 23:41:16
>> done 2025-11-13 23:41:16
>> calculating peakCenter to TSS using peak-gene pair... 2025-11-13 23:41:16
>> calculating RP using centerToTSS and TF hit 2025-11-13 23:41:17
>> merging all info together 2025-11-13 23:41:17
>> done 2025-11-13 23:41:17
>> calculating peakCenter to TSS using peak-gene pair... 2025-11-13 23:41:17
>> calculating RP using centerToTSS and TF hit 2025-11-13 23:41:17
>> merging all info together 2025-11-13 23:41:17
>> done 2025-11-13 23:41:17
>> checking seqlevels match... 2025-11-13 23:41:18
>> your peak_GR seqlevel:Chr5...
>> your Txdb seqlevel:Chr1 Chr2 Chr3 Chr4 Chr5 ChrM ChrC...
Good, your Chrs in peak_GR is all in Txdb
------------
annotatePeak using geneScan mode begins
>> preparing gene features information and scan region... 2025-11-13 23:41:18
>> some scan range may cross Chr bound, trimming... 2025-11-13 23:41:19
>> finding overlap peak in gene scan region... 2025-11-13 23:41:19
>> dealing with left peak not your gene scan region... 2025-11-13 23:41:19
>> merging two set peaks... 2025-11-13 23:41:19
>> calculating distance and dealing with gene strand... 2025-11-13 23:41:19
>> merging all info together ... 2025-11-13 23:41:19
>> done 2025-11-13 23:41:19
>> calculating peakCenter to TSS using peak-gene pair... 2025-11-13 23:41:19
>> pre-filling 1356 noAssoc peak gene's RP with 0... 2025-11-13 23:41:20
>> calculating RP using centerToTSS and peak score2025-11-13 23:41:20
>> merging all info together 2025-11-13 23:41:22
>> done 2025-11-13 23:41:23
>> extracting RP info from regionRP... 2025-11-13 23:41:23
>> dealing with TF_GR_databse... 2025-11-13 23:41:23
>> calculating percent and p-value... 2025-11-13 23:41:23
>> dealing withE5_0h_R1... 2025-11-13 23:41:23
>> dealing withE5_0h_R2... 2025-11-13 23:41:23
>> dealing withE5_4h_R1... 2025-11-13 23:41:23
>> dealing withE5_4h_R2... 2025-11-13 23:41:23
>> dealing withE5_8h_R1... 2025-11-13 23:41:23
>> dealing withE5_8h_R2... 2025-11-13 23:41:24
>> dealing withE5_16h_R1... 2025-11-13 23:41:24
>> dealing withE5_16h_R2... 2025-11-13 23:41:24
>> dealing withE5_24h_R1... 2025-11-13 23:41:24
>> dealing withE5_24h_R2... 2025-11-13 23:41:24
>> dealing withE5_48h_R1... 2025-11-13 23:41:24
>> dealing withE5_48h_R2... 2025-11-13 23:41:24
>> dealing withE5_48h_R3... 2025-11-13 23:41:24
>> dealing withE5_72h_R1... 2025-11-13 23:41:24
>> dealing withE5_72h_R2... 2025-11-13 23:41:24
>> dealing withE5_72h_R3... 2025-11-13 23:41:24
>> merging all info together... 2025-11-13 23:41:24
>> done 2025-11-13 23:41:24
>> preparing gene features information... 2025-11-13 23:41:24
>> some scan range may cross Chr bound, trimming... 2025-11-13 23:41:25
>> calculating p-value for each TF, which may be time consuming... 2025-11-13 23:41:25
>> merging all info together... 2025-11-13 23:41:25
>> done 2025-11-13 23:41:25
>> dealing with TF_GR_database... 2025-11-13 23:41:25
>> calculating coef and converting into z-score using INT... 2025-11-13 23:41:25
>> dealing with E5_0h_R1... 2025-11-13 23:41:25
>> dealing with E5_0h_R2... 2025-11-13 23:41:25
>> dealing with E5_4h_R1... 2025-11-13 23:41:25
>> dealing with E5_4h_R2... 2025-11-13 23:41:25
>> dealing with E5_8h_R1... 2025-11-13 23:41:25
>> dealing with E5_8h_R2... 2025-11-13 23:41:26
>> dealing with E5_16h_R1... 2025-11-13 23:41:26
>> dealing with E5_16h_R2... 2025-11-13 23:41:26
>> dealing with E5_24h_R1... 2025-11-13 23:41:26
>> dealing with E5_24h_R2... 2025-11-13 23:41:26
>> dealing with E5_48h_R1... 2025-11-13 23:41:26
>> dealing with E5_48h_R2... 2025-11-13 23:41:26
>> dealing with E5_48h_R3... 2025-11-13 23:41:26
>> dealing with E5_72h_R1... 2025-11-13 23:41:26
>> dealing with E5_72h_R2... 2025-11-13 23:41:26
>> dealing with E5_72h_R3... 2025-11-13 23:41:26
>> merging all info together... 2025-11-13 23:41:26
>> done 2025-11-13 23:41:26
>> checking seqlevels match... 2025-11-13 23:41:27
>> your peak_GR seqlevel:Chr5...
>> your Txdb seqlevel:Chr1 Chr2 Chr3 Chr4 Chr5 ChrM ChrC...
Good, your Chrs in peak_GR is all in Txdb
------------
annotatePeak using geneScan mode begins
>> preparing gene features information and scan region... 2025-11-13 23:41:27
>> some scan range may cross Chr bound, trimming... 2025-11-13 23:41:27
>> finding overlap peak in gene scan region... 2025-11-13 23:41:27
>> dealing with left peak not your gene scan region... 2025-11-13 23:41:27
>> merging two set peaks... 2025-11-13 23:41:27
>> calculating distance and dealing with gene strand... 2025-11-13 23:41:27
>> merging all info together ... 2025-11-13 23:41:27
>> done 2025-11-13 23:41:27
>> calculating peakCenter to TSS using peak-gene pair... 2025-11-13 23:41:27
>> calculating RP using centerToTSS and TF hit 2025-11-13 23:41:28
>> merging all info together 2025-11-13 23:41:28
>> done 2025-11-13 23:41:28
>> checking seqlevels match... 2025-11-13 23:41:28
>> your peak_GR seqlevel:5...
>> your Txdb seqlevel:Chr1 Chr2 Chr3 Chr4 Chr5 ChrM ChrC...
>> checking seqlevels match... 2025-11-13 23:41:29
>> your peak_GR seqlevel:Chr5 Chr6...
>> your Txdb seqlevel:Chr1 Chr2 Chr3 Chr4 Chr5 ChrM ChrC...
>> checking seqlevels match... 2025-11-13 23:41:31
>> your peak_GR seqlevel:Chr5...
>> your Txdb seqlevel:Chr1 Chr2 Chr3 Chr4 Chr5 ChrM ChrC...
Good, your Chrs in peak_GR is all in Txdb
>> checking seqlevels match... 2025-11-13 23:41:31
>> your peak_GR seqlevel:Chr5...
>> your Txdb seqlevel:Chr1 Chr2 Chr3 Chr4 Chr5 ChrM ChrC...
Good, your Chrs in peak_GR is all in Txdb
------------
annotating Peak using nearest gene mode begins
>> preparing gene features information... 2025-11-13 23:41:31
>> finding nearest gene and calculating distance... 2025-11-13 23:41:32
>> dealing with gene strand ... 2025-11-13 23:41:32
>> merging all info together ... 2025-11-13 23:41:32
>> done 2025-11-13 23:41:32
>> checking seqlevels match... 2025-11-13 23:41:32
>> your peak_GR seqlevel:Chr5...
>> your Txdb seqlevel:Chr1 Chr2 Chr3 Chr4 Chr5 ChrM ChrC...
Good, your Chrs in peak_GR is all in Txdb
>> checking seqlevels match... 2025-11-13 23:41:32
>> your peak_GR seqlevel:Chr5...
>> your Txdb seqlevel:Chr1 Chr2 Chr3 Chr4 Chr5 ChrM ChrC...
Good, your Chrs in peak_GR is all in Txdb
------------
annotating Peak using nearest gene mode begins
>> preparing gene features information... 2025-11-13 23:41:32
>> finding nearest gene and calculating distance... 2025-11-13 23:41:33
>> dealing with gene strand ... 2025-11-13 23:41:33
>> merging all info together ... 2025-11-13 23:41:33
>> done 2025-11-13 23:41:33
>> checking seqlevels match... 2025-11-13 23:41:34
>> your peak_GR seqlevel:Chr5...
>> your Txdb seqlevel:Chr1 Chr2 Chr3 Chr4 Chr5 ChrM ChrC...
Good, your Chrs in peak_GR is all in Txdb
>> checking seqlevels match... 2025-11-13 23:41:34
>> your peak_GR seqlevel:Chr5...
>> your Txdb seqlevel:Chr1 Chr2 Chr3 Chr4 Chr5 ChrM ChrC...
Good, your Chrs in peak_GR is all in Txdb
------------
annotating Peak using nearest gene mode begins
>> preparing gene features information... 2025-11-13 23:41:34
>> finding nearest gene and calculating distance... 2025-11-13 23:41:34
>> dealing with gene strand ... 2025-11-13 23:41:35
>> merging all info together ... 2025-11-13 23:41:35
>> done 2025-11-13 23:41:35
>> checking seqlevels match... 2025-11-13 23:41:35
>> your peak_GR seqlevel:Chr5...
>> your Txdb seqlevel:Chr1 Chr2 Chr3 Chr4 Chr5 ChrM ChrC...
Good, your Chrs in peak_GR is all in Txdb
>> checking seqlevels match... 2025-11-13 23:41:35
>> your peak_GR seqlevel:Chr5...
>> your Txdb seqlevel:Chr1 Chr2 Chr3 Chr4 Chr5 ChrM ChrC...
Good, your Chrs in peak_GR is all in Txdb
------------
annotating Peak using nearest gene mode begins
>> preparing gene features information... 2025-11-13 23:41:35
>> finding nearest gene and calculating distance... 2025-11-13 23:41:36
>> dealing with gene strand ... 2025-11-13 23:41:36
>> merging all info together ... 2025-11-13 23:41:36
>> done 2025-11-13 23:41:36
It seems that there 1 genes have not been annotated by nearestGene mode
>> checking seqlevels match... 2025-11-13 23:41:37
>> your peak_GR seqlevel:Chr5...
>> your Txdb seqlevel:Chr1 Chr2 Chr3 Chr4 Chr5 ChrM ChrC...
Good, your Chrs in peak_GR is all in Txdb
>> checking seqlevels match... 2025-11-13 23:41:37
>> your peak_GR seqlevel:Chr5...
>> your Txdb seqlevel:Chr1 Chr2 Chr3 Chr4 Chr5 ChrM ChrC...
Good, your Chrs in peak_GR is all in Txdb
------------
annotating Peak using nearest gene mode begins
>> preparing gene features information... 2025-11-13 23:41:37
>> finding nearest gene and calculating distance... 2025-11-13 23:41:38
>> dealing with gene strand ... 2025-11-13 23:41:38
>> merging all info together ... 2025-11-13 23:41:38
>> done 2025-11-13 23:41:38
It seems that there 1 genes have not been annotated by nearestGene mode
>> checking seqlevels match... 2025-11-13 23:41:38
>> your peak_GR seqlevel:Chr5...
>> your Txdb seqlevel:Chr1 Chr2 Chr3 Chr4 Chr5 ChrM ChrC...
Good, your Chrs in peak_GR is all in Txdb
>> checking seqlevels match... 2025-11-13 23:41:39
>> your peak_GR seqlevel:Chr5...
>> your Txdb seqlevel:Chr1 Chr2 Chr3 Chr4 Chr5 ChrM ChrC...
Good, your Chrs in peak_GR is all in Txdb
>> some scan range may cross Chr bound, trimming... 2025-11-13 23:41:40
>> checking seqlevels match... 2025-11-13 23:41:41
>> your peak_GR seqlevel:Chr5...
>> your Txdb seqlevel:Chr1 Chr2 Chr3 Chr4 Chr5 ChrM ChrC...
Good, your Chrs in peak_GR is all in Txdb
>> some scan range may cross Chr bound, trimming... 2025-11-13 23:41:41
Good, your two matrix colnames matchs
>> calculating cor and pvalue, which may be time consuming... 2025-11-13 23:41:43
>> merging all info together... 2025-11-13 23:41:43
>> done 2025-11-13 23:41:43
>> checking seqlevels match... 2025-11-13 23:41:43
>> your peak_GR seqlevel:Chr5...
>> your Txdb seqlevel:Chr1 Chr2 Chr3 Chr4 Chr5 ChrM ChrC...
Good, your Chrs in peak_GR is all in Txdb
>> using scanPromoter parameter to scan promoter for each gene... 2025-11-13 23:41:43
>> checking seqlevels match... 2025-11-13 23:41:43
>> your peak_GR seqlevel:Chr5...
>> your Txdb seqlevel:Chr1 Chr2 Chr3 Chr4 Chr5 ChrM ChrC...
Good, your Chrs in peak_GR is all in Txdb
>> some scan range may cross Chr bound, trimming... 2025-11-13 23:41:43
>> there are 85 gene have scaned promoter
>> using scanEnhancer parameter to scan Enhancer for each gene... 2025-11-13 23:41:44
>> checking seqlevels match... 2025-11-13 23:41:44
>> your peak_GR seqlevel:Chr5...
>> your Txdb seqlevel:Chr1 Chr2 Chr3 Chr4 Chr5 ChrM ChrC...
Good, your Chrs in peak_GR is all in Txdb
>> some scan range may cross Chr bound, trimming... 2025-11-13 23:41:45
>> calculating cor and pvalue, which may be time consuming... 2025-11-13 23:41:46
>> merging all info together... 2025-11-13 23:41:46
>> done 2025-11-13 23:41:46
Good, your two matrix colnames matchs
>> calculating cor and pvalue, which may be time consuming... 2025-11-13 23:41:46
>> merging all info together... 2025-11-13 23:41:46
>> done 2025-11-13 23:41:46
>> checking seqlevels match... 2025-11-13 23:41:46
>> your peak_GR seqlevel:Chr5...
>> your Txdb seqlevel:Chr1 Chr2 Chr3 Chr4 Chr5 ChrM ChrC...
Good, your Chrs in peak_GR is all in Txdb
------------
annotatePeak using geneScan mode begins
>> preparing gene features information and scan region... 2025-11-13 23:41:46
>> some scan range may cross Chr bound, trimming... 2025-11-13 23:41:47
>> finding overlap peak in gene scan region... 2025-11-13 23:41:47
>> dealing with left peak not your gene scan region... 2025-11-13 23:41:47
>> merging two set peaks... 2025-11-13 23:41:47
>> calculating distance and dealing with gene strand... 2025-11-13 23:41:47
>> merging all info together ... 2025-11-13 23:41:47
>> done 2025-11-13 23:41:47
Good, your two matrix colnames matchs
>> calculating cor and pvalue, which may be time consuming... 2025-11-13 23:41:48
>> merging all info together... 2025-11-13 23:41:48
>> done 2025-11-13 23:41:48
>> checking seqlevels match... 2025-11-13 23:41:48
>> your peak_GR seqlevel:Chr5...
>> your Txdb seqlevel:Chr1 Chr2 Chr3 Chr4 Chr5 ChrM ChrC...
Good, your Chrs in peak_GR is all in Txdb
>> using scanPromoter parameter to scan promoter for each gene... 2025-11-13 23:41:48
>> checking seqlevels match... 2025-11-13 23:41:48
>> your peak_GR seqlevel:Chr5...
>> your Txdb seqlevel:Chr1 Chr2 Chr3 Chr4 Chr5 ChrM ChrC...
Good, your Chrs in peak_GR is all in Txdb
>> some scan range may cross Chr bound, trimming... 2025-11-13 23:41:49
>> there are 85 gene have scaned promoter
>> using scanEnhancer parameter to scan Enhancer for each gene... 2025-11-13 23:41:49
>> checking seqlevels match... 2025-11-13 23:41:49
>> your peak_GR seqlevel:Chr5...
>> your Txdb seqlevel:Chr1 Chr2 Chr3 Chr4 Chr5 ChrM ChrC...
Good, your Chrs in peak_GR is all in Txdb
>> some scan range may cross Chr bound, trimming... 2025-11-13 23:41:50
>> calculating cor and pvalue, which may be time consuming... 2025-11-13 23:41:50
>> merging all info together... 2025-11-13 23:41:50
>> done 2025-11-13 23:41:50
Joining with `by = join_by(feature_id)`
Joining with `by = join_by(feature_id)`
`geom_smooth()` using formula = 'y ~ x'
Joining with `by = join_by(feature_id)`
Joining with `by = join_by(feature_id)`
`geom_smooth()` using formula = 'y ~ x'
[ FAIL 0 | WARN 0 | SKIP 0 | PASS 65 ]
>
> proc.time()
user system elapsed
59.191 2.277 61.469
FindIT2.Rcheck/FindIT2-Ex.timings
| name | user | system | elapsed | |
| TF_target_database | 0.001 | 0.000 | 0.001 | |
| calcRP_TFHit | 3.263 | 0.138 | 3.422 | |
| calcRP_coverage | 2.624 | 0.182 | 2.807 | |
| calcRP_region | 5.282 | 0.165 | 5.447 | |
| enhancerPromoterCor | 2.290 | 0.043 | 2.333 | |
| findIT_MARA | 0.426 | 0.006 | 0.432 | |
| findIT_TFHit | 0.786 | 0.027 | 0.814 | |
| findIT_TTPair | 0.066 | 0.001 | 0.067 | |
| findIT_enrichFisher | 0.144 | 0.003 | 0.146 | |
| findIT_enrichWilcox | 0.161 | 0.000 | 0.161 | |
| findIT_regionRP | 6.108 | 0.085 | 6.193 | |
| getAssocPairNumber | 1.024 | 0.014 | 1.038 | |
| integrate_ChIP_RNA | 1.841 | 0.008 | 1.848 | |
| integrate_replicates | 0.002 | 0.000 | 0.003 | |
| jaccard_findIT_TTpair | 0.091 | 0.001 | 0.093 | |
| jaccard_findIT_enrichFisher | 0.19 | 0.00 | 0.19 | |
| loadPeakFile | 0.056 | 0.002 | 0.058 | |
| mm_geneBound | 1.068 | 0.005 | 1.073 | |
| mm_geneScan | 1.092 | 0.009 | 1.101 | |
| mm_nearestGene | 0.986 | 0.006 | 0.992 | |
| peakGeneCor | 2.069 | 0.010 | 2.079 | |
| plot_annoDistance | 1.552 | 0.002 | 1.555 | |
| plot_peakGeneAlias_summary | 1.276 | 0.004 | 1.279 | |
| plot_peakGeneCor | 3.674 | 0.118 | 3.793 | |
| test_geneSet | 0.000 | 0.000 | 0.001 | |