Back to Build/check report for BioC 3.23:   simplified   long
ABCD[E]FGHIJKLMNOPQRSTUVWXYZ

This page was generated on 2025-11-13 11:32 -0500 (Thu, 13 Nov 2025).

HostnameOSArch (*)R versionInstalled pkgs
kjohnson3macOS 13.7.7 Venturaarm64R Under development (unstable) (2025-11-04 r88984) -- "Unsuffered Consequences" 4013
Click on any hostname to see more info about the system (e.g. compilers)      (*) as reported by 'uname -p', except on Windows and Mac OS X

Package 700/2325HostnameOS / ArchINSTALLBUILDCHECKBUILD BIN
ExploreModelMatrix 1.23.0  (landing page)
Charlotte Soneson
Snapshot Date: 2025-11-12 13:40 -0500 (Wed, 12 Nov 2025)
git_url: https://git.bioconductor.org/packages/ExploreModelMatrix
git_branch: devel
git_last_commit: e5a29c3
git_last_commit_date: 2025-10-29 10:58:12 -0500 (Wed, 29 Oct 2025)
kjohnson3macOS 13.7.7 Ventura / arm64  OK    OK    OK    OK  YES


BUILD results for ExploreModelMatrix on kjohnson3

To the developers/maintainers of the ExploreModelMatrix package:
- Allow up to 24 hours (and sometimes 48 hours) for your latest push to git@git.bioconductor.org:packages/ExploreModelMatrix.git to reflect on this report. See Troubleshooting Build Report for more information.
- Use the following Renviron settings to reproduce errors and warnings.
- If 'R CMD check' started to fail recently on the Linux builder(s) over a missing dependency, add the missing dependency to 'Suggests:' in your DESCRIPTION file. See Renviron.bioc for more information.

raw results


Summary

Package: ExploreModelMatrix
Version: 1.23.0
Command: /Library/Frameworks/R.framework/Resources/bin/R CMD build --keep-empty-dirs --no-resave-data ExploreModelMatrix
StartedAt: 2025-11-12 16:14:19 -0500 (Wed, 12 Nov 2025)
EndedAt: 2025-11-12 16:14:27 -0500 (Wed, 12 Nov 2025)
EllapsedTime: 8.1 seconds
RetCode: 0
Status:   OK  
PackageFile: ExploreModelMatrix_1.23.0.tar.gz
PackageFileSize: 2.61 MiB

Command output

##############################################################################
##############################################################################
###
### Running command:
###
###   /Library/Frameworks/R.framework/Resources/bin/R CMD build --keep-empty-dirs --no-resave-data ExploreModelMatrix
###
##############################################################################
##############################################################################


* checking for file ‘ExploreModelMatrix/DESCRIPTION’ ... OK
* preparing ‘ExploreModelMatrix’:
* checking DESCRIPTION meta-information ... OK
* installing the package (it is needed to build vignettes)
* creating vignettes ... OK
* checking for LF line-endings in source and make files and shell scripts
* checking for empty or unneeded directories
* building ‘ExploreModelMatrix_1.23.0.tar.gz’