Back to Build/check report for BioC 3.23:   simplified   long
ABC[D]EFGHIJKLMNOPQRSTUVWXYZ

This page was generated on 2025-11-13 11:32 -0500 (Thu, 13 Nov 2025).

HostnameOSArch (*)R versionInstalled pkgs
kjohnson3macOS 13.7.7 Venturaarm64R Under development (unstable) (2025-11-04 r88984) -- "Unsuffered Consequences" 4013
Click on any hostname to see more info about the system (e.g. compilers)      (*) as reported by 'uname -p', except on Windows and Mac OS X

Package 532/2325HostnameOS / ArchINSTALLBUILDCHECKBUILD BIN
DeeDeeExperiment 1.1.0  (landing page)
Najla Abassi
Snapshot Date: 2025-11-12 13:40 -0500 (Wed, 12 Nov 2025)
git_url: https://git.bioconductor.org/packages/DeeDeeExperiment
git_branch: devel
git_last_commit: 482df35
git_last_commit_date: 2025-10-29 11:37:21 -0500 (Wed, 29 Oct 2025)
kjohnson3macOS 13.7.7 Ventura / arm64  ERROR    ERROR  skippedskipped


BUILD results for DeeDeeExperiment on kjohnson3

To the developers/maintainers of the DeeDeeExperiment package:
- Allow up to 24 hours (and sometimes 48 hours) for your latest push to git@git.bioconductor.org:packages/DeeDeeExperiment.git to reflect on this report. See Troubleshooting Build Report for more information.
- Use the following Renviron settings to reproduce errors and warnings.
- If 'R CMD check' started to fail recently on the Linux builder(s) over a missing dependency, add the missing dependency to 'Suggests:' in your DESCRIPTION file. See Renviron.bioc for more information.

raw results


Summary

Package: DeeDeeExperiment
Version: 1.1.0
Command: /Library/Frameworks/R.framework/Resources/bin/R CMD build --keep-empty-dirs --no-resave-data DeeDeeExperiment
StartedAt: 2025-11-12 16:06:23 -0500 (Wed, 12 Nov 2025)
EndedAt: 2025-11-12 16:06:24 -0500 (Wed, 12 Nov 2025)
EllapsedTime: 1.0 seconds
RetCode: 1
Status:   ERROR  
PackageFile: None
PackageFileSize: NA

Command output

##############################################################################
##############################################################################
###
### Running command:
###
###   /Library/Frameworks/R.framework/Resources/bin/R CMD build --keep-empty-dirs --no-resave-data DeeDeeExperiment
###
##############################################################################
##############################################################################


* checking for file ‘DeeDeeExperiment/DESCRIPTION’ ... OK
* preparing ‘DeeDeeExperiment’:
* checking DESCRIPTION meta-information ... OK
* installing the package (it is needed to build vignettes)
      -----------------------------------
ERROR: dependency ‘edgeR’ is not available for package ‘DeeDeeExperiment’
Perhaps try a variation of:
install.packages('edgeR')
* removing ‘/private/var/folders/r0/l4fjk6cj5xj0j3brt4bplpl40000gt/T/RtmpqH0Jva/Rinst147161d7ee7b0/DeeDeeExperiment’
      -----------------------------------
ERROR: package installation failed