Back to Build/check report for BioC 3.23:   simplified   long
ABC[D]EFGHIJKLMNOPQRSTUVWXYZ

This page was generated on 2025-11-13 11:32 -0500 (Thu, 13 Nov 2025).

HostnameOSArch (*)R versionInstalled pkgs
kjohnson3macOS 13.7.7 Venturaarm64R Under development (unstable) (2025-11-04 r88984) -- "Unsuffered Consequences" 4013
Click on any hostname to see more info about the system (e.g. compilers)      (*) as reported by 'uname -p', except on Windows and Mac OS X

All results for package DSS


To the developers/maintainers of the DSS package:
- Allow up to 24 hours (and sometimes 48 hours) for your latest push to git@git.bioconductor.org:packages/DSS.git to reflect on this report. See Troubleshooting Build Report for more information.
- Use the following Renviron settings to reproduce errors and warnings.
- If 'R CMD check' started to fail recently on the Linux builder(s) over a missing dependency, add the missing dependency to 'Suggests:' in your DESCRIPTION file. See Renviron.bioc for more information.

raw results

Package 623/2325HostnameOS / ArchINSTALLBUILDCHECKBUILD BIN
DSS 2.59.0  (landing page)
Hao Wu , Hao Feng
Snapshot Date: 2025-11-12 13:40 -0500 (Wed, 12 Nov 2025)
git_url: https://git.bioconductor.org/packages/DSS
git_branch: devel
git_last_commit: 78fb7ed
git_last_commit_date: 2025-10-29 10:11:20 -0500 (Wed, 29 Oct 2025)
kjohnson3macOS 13.7.7 Ventura / arm64  ERROR    ERROR  skippedskipped



Results for Bioconductor software packages that depend directly on package DSS

QUICK STATSOS / ArchINSTALLBUILDCHECKBUILD BIN
kjohnson3macOS 13.7.7 Ventura / arm64
050
050
0000
000
Package 1/5HostnameOS / ArchINSTALLBUILDCHECKBUILD BIN
borealis 1.15.0  (landing page)
Garrett Jenkinson
git_last_commit: f928ff2
git_last_commit_date: 2025-10-29 11:16:27 -0500
kjohnson3macOS 13.7.7 Ventura / arm64  ERROR    ERROR  skippedskipped
Package 2/5HostnameOS / ArchINSTALLBUILDCHECKBUILD BIN
DeMixT 1.27.0  (landing page)
Ruonan Li
git_last_commit: 438eef5
git_last_commit_date: 2025-10-29 10:50:59 -0500
kjohnson3macOS 13.7.7 Ventura / arm64  ERROR    ERROR  skippedskipped
Package 3/5HostnameOS / ArchINSTALLBUILDCHECKBUILD BIN
kissDE 1.31.0  (landing page)
Aurélie Siberchicot
git_last_commit: ba36c2d
git_last_commit_date: 2025-10-29 10:43:14 -0500
kjohnson3macOS 13.7.7 Ventura / arm64  ERROR    ERROR  skippedskipped
Package 4/5HostnameOS / ArchINSTALLBUILDCHECKBUILD BIN
metaseqR2 1.23.0  (landing page)
Panagiotis Moulos
git_last_commit: 25b9df1
git_last_commit_date: 2025-10-29 10:59:18 -0500
kjohnson3macOS 13.7.7 Ventura / arm64  ERROR    ERROR  skippedskipped
Package 5/5HostnameOS / ArchINSTALLBUILDCHECKBUILD BIN
methylSig 1.23.0  (landing page)
Raymond G. Cavalcante
git_last_commit: cb92f7f
git_last_commit_date: 2025-10-29 10:58:51 -0500
kjohnson3macOS 13.7.7 Ventura / arm64  ERROR    ERROR  skippedskipped