Back to Multiple platform build/check report for BioC 3.23:   simplified   long
ABC[D]EFGHIJKLMNOPQRSTUVWXYZ

This page was generated on 2025-11-14 11:36 -0500 (Fri, 14 Nov 2025).

HostnameOSArch (*)R versionInstalled pkgs
nebbiolo1Linux (Ubuntu 24.04.3 LTS)x86_64R Under development (unstable) (2025-10-20 r88955) -- "Unsuffered Consequences" 4825
kjohnson3macOS 13.7.7 Venturaarm64R Under development (unstable) (2025-11-04 r88984) -- "Unsuffered Consequences" 4547
Click on any hostname to see more info about the system (e.g. compilers)      (*) as reported by 'uname -p', except on Windows and Mac OS X

Package 513/2325HostnameOS / ArchINSTALLBUILDCHECKBUILD BIN
DAPAR 1.43.0  (landing page)
Samuel Wieczorek
Snapshot Date: 2025-11-13 13:40 -0500 (Thu, 13 Nov 2025)
git_url: https://git.bioconductor.org/packages/DAPAR
git_branch: devel
git_last_commit: 47a1b73
git_last_commit_date: 2025-10-29 10:28:00 -0500 (Wed, 29 Oct 2025)
nebbiolo1Linux (Ubuntu 24.04.3 LTS) / x86_64  OK    OK    OK  UNNEEDED, same version is already published
kjohnson3macOS 13.7.7 Ventura / arm64  OK    OK    OK    OK  NO, package depends on 'MSnbase' which is only available as a source package that needs compilation


CHECK results for DAPAR on kjohnson3

To the developers/maintainers of the DAPAR package:
- Allow up to 24 hours (and sometimes 48 hours) for your latest push to git@git.bioconductor.org:packages/DAPAR.git to reflect on this report. See Troubleshooting Build Report for more information.
- Use the following Renviron settings to reproduce errors and warnings.
- If 'R CMD check' started to fail recently on the Linux builder(s) over a missing dependency, add the missing dependency to 'Suggests:' in your DESCRIPTION file. See Renviron.bioc for more information.

raw results


Summary

Package: DAPAR
Version: 1.43.0
Command: /Library/Frameworks/R.framework/Resources/bin/R CMD check --install=check:DAPAR.install-out.txt --library=/Library/Frameworks/R.framework/Resources/library --no-vignettes --timings DAPAR_1.43.0.tar.gz
StartedAt: 2025-11-13 19:27:40 -0500 (Thu, 13 Nov 2025)
EndedAt: 2025-11-13 19:33:18 -0500 (Thu, 13 Nov 2025)
EllapsedTime: 338.1 seconds
RetCode: 0
Status:   OK  
CheckDir: DAPAR.Rcheck
Warnings: 0

Command output

##############################################################################
##############################################################################
###
### Running command:
###
###   /Library/Frameworks/R.framework/Resources/bin/R CMD check --install=check:DAPAR.install-out.txt --library=/Library/Frameworks/R.framework/Resources/library --no-vignettes --timings DAPAR_1.43.0.tar.gz
###
##############################################################################
##############################################################################


* using log directory ‘/Users/biocbuild/bbs-3.23-bioc/meat/DAPAR.Rcheck’
* using R Under development (unstable) (2025-11-04 r88984)
* using platform: aarch64-apple-darwin20
* R was compiled by
    Apple clang version 16.0.0 (clang-1600.0.26.6)
    GNU Fortran (GCC) 14.2.0
* running under: macOS Ventura 13.7.8
* using session charset: UTF-8
* using option ‘--no-vignettes’
* checking for file ‘DAPAR/DESCRIPTION’ ... OK
* checking extension type ... Package
* this is package ‘DAPAR’ version ‘1.43.0’
* package encoding: UTF-8
* checking package namespace information ... OK
* checking package dependencies ... INFO
Vignette dependency required without any vignettes: ‘knitr’
* checking if this is a source package ... OK
* checking if there is a namespace ... OK
* checking for hidden files and directories ... OK
* checking for portable file names ... OK
* checking for sufficient/correct file permissions ... OK
* checking whether package ‘DAPAR’ can be installed ... OK
* checking installed package size ... OK
* checking package directory ... OK
* checking DESCRIPTION meta-information ... OK
* checking top-level files ... OK
* checking for left-over files ... OK
* checking index information ... OK
* checking package subdirectories ... OK
* checking code files for non-ASCII characters ... OK
* checking R files for syntax errors ... OK
* checking whether the package can be loaded ... OK
* checking whether the package can be loaded with stated dependencies ... OK
* checking whether the package can be unloaded cleanly ... OK
* checking whether the namespace can be loaded with stated dependencies ... OK
* checking whether the namespace can be unloaded cleanly ... OK
* checking whether startup messages can be suppressed ... OK
* checking dependencies in R code ... OK
* checking S3 generic/method consistency ... OK
* checking replacement functions ... OK
* checking foreign function calls ... OK
* checking R code for possible problems ... NOTE
Check_Dataset_Validity: no visible global function definition for
  ‘exprs’
OWAnova: no visible global function definition for ‘aov’
aggregateIterParallel: no visible binding for global variable ‘cond’
averageIntensities: no visible binding for global variable ‘condition’
averageIntensities: no visible binding for global variable ‘feature’
averageIntensities: no visible binding for global variable ‘intensity’
createMSnset: no visible global function definition for
  ‘installed.packages’
createMSnset: no visible binding for global variable ‘Prostar.loc’
createMSnset2: no visible global function definition for
  ‘installed.packages’
createMSnset2: no visible binding for global variable ‘Prostar.loc’
diffAnaVolcanoplot_rCharts: no visible binding for global variable ‘x’
diffAnaVolcanoplot_rCharts: no visible binding for global variable ‘y’
diffAnaVolcanoplot_rCharts: no visible binding for global variable ‘g’
display.CC.visNet: no visible binding for global variable
  ‘layout_nicely’
getTextForGOAnalysis: no visible binding for global variable
  ‘textGOParams’
getTextForGOAnalysis: no visible binding for global variable ‘input’
globalAdjPval: no visible global function definition for ‘stack’
heatmapForMissingValues: no visible binding for global variable ‘par’
limmaCompleteTest: no visible binding for global variable ‘A’
limmaCompleteTest: no visible binding for global variable ‘B’
limmaCompleteTest: no visible binding for global variable ‘P.Value’
pepa.test: no visible global function definition for ‘nodes<-’
testAnovaModels : <anonymous>: no visible global function definition
  for ‘TukeyHSD’
visualizeClusters: no visible binding for global variable
  ‘adjusted_pvalues’
visualizeClusters: no visible binding for global variable ‘Condition’
visualizeClusters: no visible binding for global variable ‘Intensity’
visualizeClusters: no visible binding for global variable
  ‘FDR_threshold’
visualizeClusters: no visible binding for global variable ‘feature’
wrapperClassic1wayAnova: no visible binding for global variable
  ‘Pr(>F)1’
wrapperRunClustering: no visible global function definition for ‘str_c’
Undefined global functions or variables:
  A B Condition FDR_threshold Intensity P.Value Pr(>F)1 Prostar.loc
  TukeyHSD adjusted_pvalues aov cond condition exprs feature g input
  installed.packages intensity layout_nicely nodes<- par stack str_c
  textGOParams x y
Consider adding
  importFrom("graphics", "par")
  importFrom("stats", "TukeyHSD", "aov")
  importFrom("utils", "installed.packages", "stack")
to your NAMESPACE file.
* checking Rd files ... OK
* checking Rd metadata ... OK
* checking Rd cross-references ... OK
* checking for missing documentation entries ... OK
* checking for code/documentation mismatches ... OK
* checking Rd \usage sections ... OK
* checking Rd contents ... OK
* checking for unstated dependencies in examples ... OK
* checking examples ... OK
Examples with CPU (user + system) or elapsed time > 5s
                                   user system elapsed
wrapper.compareNormalizationD_HC 18.192 12.672  95.728
wrapper.dapar.impute.mi           5.510  0.661   8.030
barplotEnrichGO_HC                3.809  0.710   7.792
* checking for unstated dependencies in ‘tests’ ... OK
* checking tests ...
  Running ‘testthat.R’
 OK
* checking PDF version of manual ... OK
* DONE

Status: 1 NOTE
See
  ‘/Users/biocbuild/bbs-3.23-bioc/meat/DAPAR.Rcheck/00check.log’
for details.


Installation output

DAPAR.Rcheck/00install.out

##############################################################################
##############################################################################
###
### Running command:
###
###   /Library/Frameworks/R.framework/Resources/bin/R CMD INSTALL DAPAR
###
##############################################################################
##############################################################################


* installing to library ‘/Library/Frameworks/R.framework/Versions/4.6-arm64/Resources/library’
* installing *source* package ‘DAPAR’ ...
** this is package ‘DAPAR’ version ‘1.43.0’
** using staged installation
** R
** inst
** byte-compile and prepare package for lazy loading
** help
*** installing help indices
** building package indices
** testing if installed package can be loaded from temporary location
** testing if installed package can be loaded from final location
** testing if installed package keeps a record of temporary installation path
* DONE (DAPAR)

Tests output

DAPAR.Rcheck/tests/testthat.Rout


R Under development (unstable) (2025-11-04 r88984) -- "Unsuffered Consequences"
Copyright (C) 2025 The R Foundation for Statistical Computing
Platform: aarch64-apple-darwin20

R is free software and comes with ABSOLUTELY NO WARRANTY.
You are welcome to redistribute it under certain conditions.
Type 'license()' or 'licence()' for distribution details.

R is a collaborative project with many contributors.
Type 'contributors()' for more information and
'citation()' on how to cite R or R packages in publications.

Type 'demo()' for some demos, 'help()' for on-line help, or
'help.start()' for an HTML browser interface to help.
Type 'q()' to quit R.

> library(testthat)
> library(DAPAR)

This is the 'DAPAR' version 1.43.0.

  To get started, visit
    http://www.prostar-proteomics.org/


> 
> test_check("DAPAR")

 Iterations: 

 1 / 1  - Imputation MNAR OK - 
Imputation MCAR in progress - 
3 % - 6 % - 9 % - 12 % - 15 % - 18 % - 21 % - 24 % - 27 % - 30 % - 33 % - 36 % - 39 % - 42 % - 45 % - 48 % - 51 % - 54 % - 57 % - 60 % - 63 % - 66 % - 69 % - 72 % - 75 % - 78 % - 81 % - 84 % - 87 % - 90 % - 93 % - 96 % - 99 % - 
 Iterations: 

 1 / 1  - Imputation MNAR OK - 
Imputation MCAR in progress - 
3 % - 6 % - 9 % - 12 % - 15 % - 18 % - 21 % - 24 % - 27 % - 30 % - 33 % - 36 % - 39 % - 42 % - 45 % - 48 % - 51 % - 54 % - 57 % - 60 % - 63 % - 66 % - 69 % - 72 % - 75 % - 78 % - 81 % - 84 % - 87 % - 90 % - 93 % - 96 % - 99 % - 
 Imputation in condition  1 ...
 In progress: 10 % - 20 % - 30 % - 40 % - 50 % - 60 % - 70 % - 80 % - 90 % - 100 % - 
 Imputation in condition  2 ...
 In progress: 10 % - 20 % - 30 % - 40 % - 50 % - 60 % - 70 % - 80 % - 90 % - 100 % - [ FAIL 0 | WARN 17 | SKIP 9 | PASS 66 ]

══ Skipped tests (9) ═══════════════════════════════════════════════════════════
• empty test (9): , , , , , , , ,

[ FAIL 0 | WARN 17 | SKIP 9 | PASS 66 ]
> 
> proc.time()
   user  system elapsed 
 13.783   0.755  15.442 

Example timings

DAPAR.Rcheck/DAPAR-Ex.timings

nameusersystemelapsed
AggregateMetacell0.2390.0050.253
BuildAdjacencyMatrix0.2080.0030.217
BuildColumnToProteinDataset0.2510.0030.258
BuildMetaCell0.7540.0100.772
CVDistD_HC0.7750.0470.862
Children0.0010.0000.002
CountPep0.2210.0010.228
ExtendPalette0.0080.0000.009
GOAnalysisSave000
GetCC1.1380.0101.191
GetColorsForConditions0.1850.0010.199
GetDetailedNbPeptides0.2030.0020.209
GetDetailedNbPeptidesUsed000
GetIndices_BasedOnConditions0.2000.0020.204
GetIndices_MetacellFiltering0.2060.0020.210
GetIndices_WholeLine0.2030.0020.208
GetIndices_WholeMatrix0.1970.0030.213
GetKeyId0.2040.0020.213
GetMatAdj0.2270.0020.237
GetMetacell000
GetMetacellTags0.2050.0030.208
GetNbPeptidesUsed0.2070.0020.211
GetNbTags000
GetSoftAvailables000
GetTypeofData0.2100.0030.214
Get_AllComparisons0.1240.0050.130
GlobalQuantileAlignment0.2160.0030.219
GraphPepProt0.2340.0040.242
LH0000
LH0.lm0.0000.0000.001
LH1000
LH1.lm000
LOESS0.5080.0070.531
MeanCentering0.2040.0040.216
MetaCellFiltering0.2460.0030.259
MetacellFilteringScope000
Metacell_DIA_NN0.2250.0050.245
Metacell_generic0.1660.0050.175
Metacell_maxquant0.1950.0060.223
Metacell_proline0.1790.0040.196
NumericalFiltering0.2150.0020.231
NumericalgetIndicesOfLinesToRemove0.2040.0020.207
OWAnova0.0020.0010.002
QuantileCentering0.2320.0050.239
SetCC1.1320.0051.198
SetMatAdj0.2050.0030.215
Set_POV_MEC_tags0.2410.0030.252
StringBasedFiltering0.2240.0030.228
StringBasedFiltering20.2110.0030.215
SumByColumns0.5860.0150.604
SymFilteringOperators000
UpdateMetacellAfterImputation0.2140.0020.220
aggregateIter0.2750.0040.281
aggregateIterParallel000
aggregateMean0.2730.0030.281
aggregateSum0.2230.0030.236
aggregateTopn0.2110.0020.231
applyAnovasOnProteins0.0620.0010.064
averageIntensities0.2440.0570.571
barplotEnrichGO_HC3.8090.7107.792
barplotGroupGO_HC2.4140.3953.070
boxPlotD_HC0.1820.0740.268
buildGraph0.8320.0230.902
check.conditions0.1840.0030.207
check.design0.2290.0050.244
checkClusterability2.2631.5973.942
classic1wayAnova000
compareNormalizationD_HC0.1160.0490.188
compute.selection.table0.5240.1080.665
compute_t_tests0.8670.1521.071
corrMatrixD_HC0.2840.0590.362
createMSnset0.9320.0691.211
createMSnset20.8550.0621.028
dapar_hc_ExportMenu0.0480.0620.429
dapar_hc_chart0.0190.0210.072
deleteLinesFromIndices0.2110.0090.300
densityPlotD_HC1.8770.9162.843
diffAnaComputeAdjustedPValues0.1250.0250.156
diffAnaComputeFDR000
diffAnaGetSignificant0.1860.0330.226
diffAnaSave0.1700.0300.207
diffAnaVolcanoplot0.1120.0120.129
diffAnaVolcanoplot_rCharts0.2530.0780.341
display.CC.visNet0.8760.0511.272
enrich_GO2.6090.4984.019
finalizeAggregation000
findMECBlock0.2650.0110.288
formatHSDResults000
formatLimmaResult0.1170.0160.143
formatPHResults000
formatPHTResults000
fudge2LRT000
get.pep.prot.cc0.8090.0160.855
getDesignLevel0.1870.0020.192
getIndicesConditions0.1920.0030.198
getIndicesOfLinesToRemove0.2280.0080.243
getListNbValuesInLines0.2110.0030.220
getNumberOf0.2270.0060.235
getNumberOfEmptyLines0.2410.0080.257
getPourcentageOfMV0.2340.0070.247
getProcessingInfo0.2040.0030.215
getProteinsStats0.2260.0070.240
getQuantile4Imp0.0600.0010.064
getTextForAggregation000
getTextForAnaDiff0.0010.0010.000
getTextForFiltering000
getTextForGOAnalysis0.0000.0000.001
getTextForHypothesisTest000
getTextForNewDataset0.0020.0010.002
getTextForNormalization0.0010.0000.000
getTextForpeptideImputation0.0000.0010.000
getTextForproteinImputation0.0010.0000.000
globalAdjPval0.1640.0200.320
group_GO2.5290.3963.224
hc_logFC_DensityPlot0.2430.1051.226
hc_mvTypePlot20.3460.1161.235
heatmapD0.3730.0330.427
heatmapForMissingValues0.1170.0110.129
histPValue_HC0.1750.0330.391
impute.pa20.2400.0120.272
inner.aggregate.iter0.2670.0120.284
inner.aggregate.topn0.2540.0070.262
inner.mean0.2620.0090.273
inner.sum0.2400.0080.248
is.subset000
limmaCompleteTest0.8970.0450.986
listSheets000
make.contrast0.2170.0030.223
make.design.10.2180.0030.224
make.design.20.2330.0040.239
make.design.30.2300.0030.239
make.design0.2450.0040.255
match.metacell0.2680.0090.286
metacell.def0.0050.0020.007
metacellHisto_HC0.3390.0340.386
metacellPerLinesHistoPerCondition_HC0.3470.0650.419
metacellPerLinesHisto_HC0.4150.1590.602
metacombine0.1220.0080.139
mvImage0.8850.0631.333
my_hc_ExportMenu0.0470.0550.452
my_hc_chart0.0420.0530.247
nonzero0.0090.0010.012
normalizeMethods.dapar0.0000.0000.001
pepa.test0.2190.0060.234
pkgs.require0.0000.0000.001
plotJitter0.9320.0270.994
plotJitter_rCharts0.7880.0350.976
plotPCA_Eigen0.2200.0130.280
plotPCA_Eigen_hc0.2000.0020.204
plotPCA_Ind0.2110.0040.214
plotPCA_Var0.2140.0030.219
postHocTest000
proportionConRev_HC0.0330.0290.067
rbindMSnset0.2950.0220.332
reIntroduceMEC0.2610.0140.279
readExcel000
removeLines0.2660.0120.280
samLRT000
saveParameters0.2170.0040.228
scatterplotEnrichGO_HC2.6600.2953.513
search.metacell.tags0.0030.0020.035
separateAdjPval0.0870.0060.154
splitAdjacencyMat0.2390.0060.248
test.design0.2950.0060.309
testAnovaModels0.0950.0080.106
thresholdpval4fdr000
translatedRandomBeta0.0010.0040.005
univ_AnnotDbPkg0.1530.0420.197
violinPlotD0.1410.0100.187
visualizeClusters0.4850.0911.620
vsn0.3870.0150.432
wrapper.CVDistD_HC1.0240.5254.058
wrapper.compareNormalizationD_HC18.19212.67295.728
wrapper.corrMatrixD_HC0.2260.0290.413
wrapper.dapar.impute.mi5.5100.6618.030
wrapper.heatmapD0.3060.0210.350
wrapper.impute.KNN0.2260.0090.243
wrapper.impute.detQuant0.2530.0160.270
wrapper.impute.fixedValue0.2600.0200.284
wrapper.impute.mle0.2400.0120.254
wrapper.impute.pa0.1010.0090.115
wrapper.impute.pa20.2630.0140.280
wrapper.impute.slsa0.3250.0260.362
wrapper.mvImage0.1050.0130.119
wrapper.normalizeD0.2270.0040.237
wrapper.pca0.0980.0090.107
wrapperCalibrationPlot0.1220.0160.141
wrapperClassic1wayAnova000
wrapperRunClustering1.4250.2451.735
write.excel0.3680.0700.687
writeMSnsetToCSV0.2080.0130.241
writeMSnsetToExcel0.5950.1300.742