Back to Build/check report for BioC 3.23:   simplified   long
AB[C]DEFGHIJKLMNOPQRSTUVWXYZ

This page was generated on 2025-11-13 11:32 -0500 (Thu, 13 Nov 2025).

HostnameOSArch (*)R versionInstalled pkgs
kjohnson3macOS 13.7.7 Venturaarm64R Under development (unstable) (2025-11-04 r88984) -- "Unsuffered Consequences" 4013
Click on any hostname to see more info about the system (e.g. compilers)      (*) as reported by 'uname -p', except on Windows and Mac OS X

Package 446/2325HostnameOS / ArchINSTALLBUILDCHECKBUILD BIN
CoSIA 1.11.1  (landing page)
Anthony B. Crumley
Snapshot Date: 2025-11-12 13:40 -0500 (Wed, 12 Nov 2025)
git_url: https://git.bioconductor.org/packages/CoSIA
git_branch: devel
git_last_commit: 3d2338a
git_last_commit_date: 2025-11-05 11:45:05 -0500 (Wed, 05 Nov 2025)
kjohnson3macOS 13.7.7 Ventura / arm64  OK    OK    OK    OK  YES


CHECK results for CoSIA on kjohnson3

To the developers/maintainers of the CoSIA package:
- Allow up to 24 hours (and sometimes 48 hours) for your latest push to git@git.bioconductor.org:packages/CoSIA.git to reflect on this report. See Troubleshooting Build Report for more information.
- Use the following Renviron settings to reproduce errors and warnings.
- If 'R CMD check' started to fail recently on the Linux builder(s) over a missing dependency, add the missing dependency to 'Suggests:' in your DESCRIPTION file. See Renviron.bioc for more information.

raw results


Summary

Package: CoSIA
Version: 1.11.1
Command: /Library/Frameworks/R.framework/Resources/bin/R CMD check --install=check:CoSIA.install-out.txt --library=/Library/Frameworks/R.framework/Resources/library --no-vignettes --timings CoSIA_1.11.1.tar.gz
StartedAt: 2025-11-12 18:26:14 -0500 (Wed, 12 Nov 2025)
EndedAt: 2025-11-12 18:57:13 -0500 (Wed, 12 Nov 2025)
EllapsedTime: 1859.3 seconds
RetCode: 0
Status:   OK  
CheckDir: CoSIA.Rcheck
Warnings: 0

Command output

##############################################################################
##############################################################################
###
### Running command:
###
###   /Library/Frameworks/R.framework/Resources/bin/R CMD check --install=check:CoSIA.install-out.txt --library=/Library/Frameworks/R.framework/Resources/library --no-vignettes --timings CoSIA_1.11.1.tar.gz
###
##############################################################################
##############################################################################


* using log directory ‘/Users/biocbuild/bbs-3.23-bioc/meat/CoSIA.Rcheck’
* using R Under development (unstable) (2025-11-04 r88984)
* using platform: aarch64-apple-darwin20
* R was compiled by
    Apple clang version 16.0.0 (clang-1600.0.26.6)
    GNU Fortran (GCC) 14.2.0
* running under: macOS Ventura 13.7.8
* using session charset: UTF-8
* using option ‘--no-vignettes’
* checking for file ‘CoSIA/DESCRIPTION’ ... OK
* checking extension type ... Package
* this is package ‘CoSIA’ version ‘1.11.1’
* package encoding: UTF-8
* checking package namespace information ... OK
* checking package dependencies ... OK
* checking if this is a source package ... OK
* checking if there is a namespace ... OK
* checking for hidden files and directories ... OK
* checking for portable file names ... OK
* checking for sufficient/correct file permissions ... OK
* checking whether package ‘CoSIA’ can be installed ... OK
* checking installed package size ... OK
* checking package directory ... OK
* checking ‘build’ directory ... OK
* checking DESCRIPTION meta-information ... NOTE
License stub is invalid DCF.
* checking top-level files ... OK
* checking for left-over files ... OK
* checking index information ... OK
* checking package subdirectories ... OK
* checking code files for non-ASCII characters ... OK
* checking R files for syntax errors ... OK
* checking whether the package can be loaded ... OK
* checking whether the package can be loaded with stated dependencies ... OK
* checking whether the package can be unloaded cleanly ... OK
* checking whether the namespace can be loaded with stated dependencies ... OK
* checking whether the namespace can be unloaded cleanly ... OK
* checking dependencies in R code ... OK
* checking S3 generic/method consistency ... OK
* checking replacement functions ... OK
* checking foreign function calls ... OK
* checking R code for possible problems ... OK
* checking Rd files ... OK
* checking Rd metadata ... OK
* checking Rd cross-references ... OK
* checking for missing documentation entries ... OK
* checking for code/documentation mismatches ... OK
* checking Rd \usage sections ... OK
* checking Rd contents ... OK
* checking for unstated dependencies in examples ... OK
* checking files in ‘vignettes’ ... OK
* checking examples ... OK
Examples with CPU (user + system) or elapsed time > 5s
                                user system elapsed
plotCVGEx-CoSIAn-method      387.562  7.147 413.953
plotCVGEx                    357.008  6.891 375.785
plotDSGEx-CoSIAn-method      134.955  3.594 151.622
getTissues                   133.366  1.742 138.796
plotSpeciesGEx-CoSIAn-method 125.363  1.519 129.365
plotTissueGEx-CoSIAn-method  124.408  1.288 127.835
plotDSGEx                    122.962  1.360 127.112
plotSpeciesGEx               118.228  0.944 120.918
plotTissueGEx                116.236  0.859 118.491
getGExMetrics                 25.121  0.438  26.531
getGEx-CoSIAn-method          24.802  0.319  26.372
getGExMetrics-CoSIAn-method   24.085  0.365  25.361
getGEx                        23.269  0.304  24.267
* checking for unstated dependencies in vignettes ... OK
* checking package vignettes ... OK
* checking running R code from vignettes ... SKIPPED
* checking re-building of vignette outputs ... SKIPPED
* checking PDF version of manual ... OK
* DONE

Status: 1 NOTE
See
  ‘/Users/biocbuild/bbs-3.23-bioc/meat/CoSIA.Rcheck/00check.log’
for details.


Installation output

CoSIA.Rcheck/00install.out

##############################################################################
##############################################################################
###
### Running command:
###
###   /Library/Frameworks/R.framework/Resources/bin/R CMD INSTALL CoSIA
###
##############################################################################
##############################################################################


* installing to library ‘/Library/Frameworks/R.framework/Versions/4.6-arm64/Resources/library’
* installing *source* package ‘CoSIA’ ...
** this is package ‘CoSIA’ version ‘1.11.1’
** using staged installation
** R
** inst
** byte-compile and prepare package for lazy loading
** help
*** installing help indices
** building package indices
** installing vignettes
** testing if installed package can be loaded from temporary location
** testing if installed package can be loaded from final location
** testing if installed package keeps a record of temporary installation path
* DONE (CoSIA)

Tests output


Example timings

CoSIA.Rcheck/CoSIA-Ex.timings

nameusersystemelapsed
CoSIA-constructor0.0010.0000.001
getConversion-CoSIAn-method2.0720.0462.257
getConversion1.0490.0231.112
getGEx-CoSIAn-method24.802 0.31926.372
getGEx23.269 0.30424.267
getGExMetrics-CoSIAn-method24.085 0.36525.361
getGExMetrics25.121 0.43826.531
getTissues133.366 1.742138.796
plotCVGEx-CoSIAn-method387.562 7.147413.953
plotCVGEx357.008 6.891375.785
plotDSGEx-CoSIAn-method134.955 3.594151.622
plotDSGEx122.962 1.360127.112
plotSpeciesGEx-CoSIAn-method125.363 1.519129.365
plotSpeciesGEx118.228 0.944120.918
plotTissueGEx-CoSIAn-method124.408 1.288127.835
plotTissueGEx116.236 0.859118.491
viewCoSIAn-CoSIAn-method0.0000.0000.001
viewCoSIAn0.0000.0000.001