Back to Build/check report for BioC 3.23:   simplified   long
AB[C]DEFGHIJKLMNOPQRSTUVWXYZ

This page was generated on 2025-11-13 11:32 -0500 (Thu, 13 Nov 2025).

HostnameOSArch (*)R versionInstalled pkgs
kjohnson3macOS 13.7.7 Venturaarm64R Under development (unstable) (2025-11-04 r88984) -- "Unsuffered Consequences" 4013
Click on any hostname to see more info about the system (e.g. compilers)      (*) as reported by 'uname -p', except on Windows and Mac OS X

Package 283/2325HostnameOS / ArchINSTALLBUILDCHECKBUILD BIN
CatsCradle 1.5.1  (landing page)
Michael Shapiro
Snapshot Date: 2025-11-12 13:40 -0500 (Wed, 12 Nov 2025)
git_url: https://git.bioconductor.org/packages/CatsCradle
git_branch: devel
git_last_commit: 032f58b
git_last_commit_date: 2025-11-04 07:21:19 -0500 (Tue, 04 Nov 2025)
kjohnson3macOS 13.7.7 Ventura / arm64  OK    OK    OK    OK  YES


CHECK results for CatsCradle on kjohnson3

To the developers/maintainers of the CatsCradle package:
- Allow up to 24 hours (and sometimes 48 hours) for your latest push to git@git.bioconductor.org:packages/CatsCradle.git to reflect on this report. See Troubleshooting Build Report for more information.
- Use the following Renviron settings to reproduce errors and warnings.
- If 'R CMD check' started to fail recently on the Linux builder(s) over a missing dependency, add the missing dependency to 'Suggests:' in your DESCRIPTION file. See Renviron.bioc for more information.

raw results


Summary

Package: CatsCradle
Version: 1.5.1
Command: /Library/Frameworks/R.framework/Resources/bin/R CMD check --install=check:CatsCradle.install-out.txt --library=/Library/Frameworks/R.framework/Resources/library --no-vignettes --timings CatsCradle_1.5.1.tar.gz
StartedAt: 2025-11-12 18:13:40 -0500 (Wed, 12 Nov 2025)
EndedAt: 2025-11-12 18:17:57 -0500 (Wed, 12 Nov 2025)
EllapsedTime: 257.3 seconds
RetCode: 0
Status:   OK  
CheckDir: CatsCradle.Rcheck
Warnings: 0

Command output

##############################################################################
##############################################################################
###
### Running command:
###
###   /Library/Frameworks/R.framework/Resources/bin/R CMD check --install=check:CatsCradle.install-out.txt --library=/Library/Frameworks/R.framework/Resources/library --no-vignettes --timings CatsCradle_1.5.1.tar.gz
###
##############################################################################
##############################################################################


* using log directory ‘/Users/biocbuild/bbs-3.23-bioc/meat/CatsCradle.Rcheck’
* using R Under development (unstable) (2025-11-04 r88984)
* using platform: aarch64-apple-darwin20
* R was compiled by
    Apple clang version 16.0.0 (clang-1600.0.26.6)
    GNU Fortran (GCC) 14.2.0
* running under: macOS Ventura 13.7.8
* using session charset: UTF-8
* using option ‘--no-vignettes’
* checking for file ‘CatsCradle/DESCRIPTION’ ... OK
* this is package ‘CatsCradle’ version ‘1.5.1’
* package encoding: UTF-8
* checking package namespace information ... OK
* checking package dependencies ... INFO
Imports includes 21 non-default packages.
Importing from so many packages makes the package vulnerable to any of
them becoming unavailable.  Move as many as possible to Suggests and
use conditionally.
* checking if this is a source package ... OK
* checking if there is a namespace ... OK
* checking for hidden files and directories ... OK
* checking for portable file names ... OK
* checking for sufficient/correct file permissions ... OK
* checking whether package ‘CatsCradle’ can be installed ... OK
* checking installed package size ... OK
* checking package directory ... OK
* checking ‘build’ directory ... OK
* checking DESCRIPTION meta-information ... OK
* checking top-level files ... OK
* checking for left-over files ... OK
* checking index information ... OK
* checking package subdirectories ... OK
* checking code files for non-ASCII characters ... OK
* checking R files for syntax errors ... OK
* checking whether the package can be loaded ... OK
* checking whether the package can be loaded with stated dependencies ... OK
* checking whether the package can be unloaded cleanly ... OK
* checking whether the namespace can be loaded with stated dependencies ... OK
* checking whether the namespace can be unloaded cleanly ... OK
* checking dependencies in R code ... OK
* checking S3 generic/method consistency ... OK
* checking replacement functions ... OK
* checking foreign function calls ... OK
* checking R code for possible problems ... NOTE
edgeLengthPlot: no visible binding for global variable ‘cellTypePair’
edgeLengthPlot: no visible binding for global variable ‘cutoff’
make.getExample : getExample: no visible binding for global variable
  ‘seuratGenes’
make.getExample : getExample: no visible binding for global variable
  ‘seuratCells’
make.getExample : getExample: no visible binding for global variable
  ‘xeniumCells’
make.getExample : getExample: no visible binding for global variable
  ‘moransI’
make.getExample : getExample: no visible binding for global variable
  ‘moransILigandReceptor’
make.getExample : getExample: no visible binding for global variable
  ‘humanLRN’
make.getExample : getExample: no visible binding for global variable
  ‘mouseLRN’
meanGeneClusterOnCellUMAP: no visible binding for global variable
  ‘UMAP_1’
meanGeneClusterOnCellUMAP: no visible binding for global variable
  ‘UMAP_2’
plotLRDotplot: no visible binding for global variable ‘sender’
plotLRDotplot: no visible binding for global variable ‘negLog10PValue’
plotLRDotplot: no visible binding for global variable ‘receiver’
Undefined global functions or variables:
  UMAP_1 UMAP_2 cellTypePair cutoff humanLRN moransI
  moransILigandReceptor mouseLRN negLog10PValue receiver sender
  seuratCells seuratGenes xeniumCells
* checking Rd files ... OK
* checking Rd metadata ... OK
* checking Rd cross-references ... OK
* checking for missing documentation entries ... OK
* checking for code/documentation mismatches ... OK
* checking Rd \usage sections ... OK
* checking Rd contents ... OK
* checking for unstated dependencies in examples ... OK
* checking contents of ‘data’ directory ... OK
* checking data for non-ASCII characters ... OK
* checking data for ASCII and uncompressed saves ... OK
* checking files in ‘vignettes’ ... OK
* checking examples ... OK
Examples with CPU (user + system) or elapsed time > 5s
                                  user system elapsed
annotateGeneAsVector            20.894  0.139  21.414
computeNBHDVsCTObject           10.129  0.076  10.483
randomiseNodeIndices             7.181  0.131   7.510
getObjectSubsetClusteringPValue  6.582  0.377   7.228
transposeObject                  5.236  0.060   5.566
computeGraphEmbedding            5.165  0.052   5.393
aggregateGeneExpression          5.102  0.109   5.547
* checking for unstated dependencies in vignettes ... OK
* checking package vignettes ... OK
* checking running R code from vignettes ... SKIPPED
* checking re-building of vignette outputs ... SKIPPED
* checking PDF version of manual ... OK
* DONE

Status: 1 NOTE
See
  ‘/Users/biocbuild/bbs-3.23-bioc/meat/CatsCradle.Rcheck/00check.log’
for details.


Installation output

CatsCradle.Rcheck/00install.out

##############################################################################
##############################################################################
###
### Running command:
###
###   /Library/Frameworks/R.framework/Resources/bin/R CMD INSTALL CatsCradle
###
##############################################################################
##############################################################################


* installing to library ‘/Library/Frameworks/R.framework/Versions/4.6-arm64/Resources/library’
* installing *source* package ‘CatsCradle’ ...
** this is package ‘CatsCradle’ version ‘1.5.1’
** using staged installation
** R
** data
** inst
** byte-compile and prepare package for lazy loading
** help
*** installing help indices
** building package indices
** installing vignettes
** testing if installed package can be loaded from temporary location
** testing if installed package can be loaded from final location
** testing if installed package keeps a record of temporary installation path
* DONE (CatsCradle)

Tests output


Example timings

CatsCradle.Rcheck/CatsCradle-Ex.timings

nameusersystemelapsed
aggregateGeneExpression5.1020.1095.547
annotateGeneAsVector20.894 0.13921.414
annotateGenesByGeneSet0.7640.0890.889
cellTypesPerCellTypeGraphFromCellMatrix0.1130.0270.147
collapseExtendedNBHDs1.0330.0201.123
combinatorialSpheres2.7770.0302.940
computeCellTypesPerCellTypeMatrix0.0500.0040.057
computeEdgeGraph0.0880.0070.092
computeEdgeObject0.3200.0250.365
computeGraphEmbedding5.1650.0525.393
computeNBHDByCTMatrix0.0480.0040.052
computeNBHDVsCTObject10.129 0.07610.483
computeNeighbourEnrichment0.0540.0060.060
computeNeighboursDelaunay0.0370.0040.043
computeNeighboursEuclidean0.2660.0340.330
cullEdges0.1990.0180.242
desymmetriseNN2.6540.0402.843
directedHausdorfDistance0.0000.0000.001
edgeCutoffsByClustering0.1300.0090.152
edgeCutoffsByPercentile0.1140.0100.132
edgeCutoffsByWatershed0.1660.0180.190
edgeCutoffsByZScore0.1120.0060.142
edgeLengthPlot0.1510.0070.167
edgeLengthsAndCellTypePairs0.1080.0040.122
exampleObjects000
geneSetsVsGeneClustersPValueMatrix2.8350.0573.035
getAverageExpressionDF2.7830.0403.036
getAverageExpressionMatrix2.8280.0463.035
getClusterOrder2.6990.0412.973
getExtendedNBHDs0.5030.0270.530
getFeatureZScores0.0850.0050.096
getGeneClusterAveragesPerCell2.6050.0312.817
getGeneNeighbors2.5950.0342.807
getLigandReceptorNetwork0.0090.0020.011
getLigandReceptorPairsInPanel0.0390.0040.049
getNearbyGenes2.7840.0453.035
getNearestNeighbourLists2.5740.0352.828
getObjectSubsetClusteringPValue6.5820.3777.228
getObjectSubsetClusteringStatistics2.8370.0483.014
make.getExample0.0390.0030.043
makeLRInteractionHeatmap0.0870.0090.110
makeSummedLRInteractionHeatmap0.0760.0050.098
meanGeneClusterOnCellUMAP2.7730.0512.964
meanZPerCluster2.6760.0232.765
meanZPerClusterOnUMAP2.7280.0302.811
medianComplementDistance0.0010.0000.000
medianComplementPValue2.8770.0393.012
nbhdsAsEdgesToNbhdsAsList0.3810.0860.490
neighbourhoodDiameter0.3520.0590.428
performLigandReceptorAnalysis0.4870.4760.994
performLigandReceptorAnalysisPermutation0.4900.5231.029
plotLRDotplot0.6460.0420.696
predictAnnotation3.9800.2334.421
predictAnnotationAllGenes3.5000.1563.868
predictGeneAnnotationImpl3.1820.1223.508
randomiseNodeIndices7.1810.1317.510
runGeometricClusteringTrials2.9230.0693.127
runMoransI0.4730.0840.590
sankeyFromMatrix0.0020.0000.001
symmetriseNN2.7210.0462.873
symmetryCheckNN2.7060.0272.889
tagRowAndColNames2.7400.0352.850
transposeObject5.2360.0605.566