Back to Multiple platform build/check report for BioC 3.23:   simplified   long
AB[C]DEFGHIJKLMNOPQRSTUVWXYZ

This page was generated on 2025-11-14 11:35 -0500 (Fri, 14 Nov 2025).

HostnameOSArch (*)R versionInstalled pkgs
nebbiolo1Linux (Ubuntu 24.04.3 LTS)x86_64R Under development (unstable) (2025-10-20 r88955) -- "Unsuffered Consequences" 4825
kjohnson3macOS 13.7.7 Venturaarm64R Under development (unstable) (2025-11-04 r88984) -- "Unsuffered Consequences" 4547
Click on any hostname to see more info about the system (e.g. compilers)      (*) as reported by 'uname -p', except on Windows and Mac OS X

Package 481/2325HostnameOS / ArchINSTALLBUILDCHECKBUILD BIN
CTexploreR 1.7.0  (landing page)
Axelle Loriot
Snapshot Date: 2025-11-13 13:40 -0500 (Thu, 13 Nov 2025)
git_url: https://git.bioconductor.org/packages/CTexploreR
git_branch: devel
git_last_commit: db48290
git_last_commit_date: 2025-10-29 11:26:51 -0500 (Wed, 29 Oct 2025)
nebbiolo1Linux (Ubuntu 24.04.3 LTS) / x86_64  OK    OK    OK  UNNEEDED, same version is already published
kjohnson3macOS 13.7.7 Ventura / arm64  OK    OK    OK    OK  NO, package depends on 'GenomicRanges' which is only available as a source package that needs compilation


CHECK results for CTexploreR on nebbiolo1

To the developers/maintainers of the CTexploreR package:
- Allow up to 24 hours (and sometimes 48 hours) for your latest push to git@git.bioconductor.org:packages/CTexploreR.git to reflect on this report. See Troubleshooting Build Report for more information.
- Use the following Renviron settings to reproduce errors and warnings.
- If 'R CMD check' started to fail recently on the Linux builder(s) over a missing dependency, add the missing dependency to 'Suggests:' in your DESCRIPTION file. See Renviron.bioc for more information.

raw results


Summary

Package: CTexploreR
Version: 1.7.0
Command: /home/biocbuild/bbs-3.23-bioc/R/bin/R CMD check --install=check:CTexploreR.install-out.txt --library=/home/biocbuild/bbs-3.23-bioc/R/site-library --timings CTexploreR_1.7.0.tar.gz
StartedAt: 2025-11-13 22:29:51 -0500 (Thu, 13 Nov 2025)
EndedAt: 2025-11-13 22:52:23 -0500 (Thu, 13 Nov 2025)
EllapsedTime: 1352.5 seconds
RetCode: 0
Status:   OK  
CheckDir: CTexploreR.Rcheck
Warnings: 0

Command output

##############################################################################
##############################################################################
###
### Running command:
###
###   /home/biocbuild/bbs-3.23-bioc/R/bin/R CMD check --install=check:CTexploreR.install-out.txt --library=/home/biocbuild/bbs-3.23-bioc/R/site-library --timings CTexploreR_1.7.0.tar.gz
###
##############################################################################
##############################################################################


* using log directory ‘/home/biocbuild/bbs-3.23-bioc/meat/CTexploreR.Rcheck’
* using R Under development (unstable) (2025-10-20 r88955)
* using platform: x86_64-pc-linux-gnu
* R was compiled by
    gcc (Ubuntu 13.3.0-6ubuntu2~24.04) 13.3.0
    GNU Fortran (Ubuntu 13.3.0-6ubuntu2~24.04) 13.3.0
* running under: Ubuntu 24.04.3 LTS
* using session charset: UTF-8
* checking for file ‘CTexploreR/DESCRIPTION’ ... OK
* this is package ‘CTexploreR’ version ‘1.7.0’
* package encoding: UTF-8
* checking package namespace information ... OK
* checking package dependencies ... OK
* checking if this is a source package ... OK
* checking if there is a namespace ... OK
* checking for hidden files and directories ... NOTE
Found the following hidden files and directories:
  .BBSoptions
These were most likely included in error. See section ‘Package
structure’ in the ‘Writing R Extensions’ manual.
* checking for portable file names ... OK
* checking for sufficient/correct file permissions ... OK
* checking whether package ‘CTexploreR’ can be installed ... OK
* checking installed package size ... OK
* checking package directory ... OK
* checking ‘build’ directory ... OK
* checking DESCRIPTION meta-information ... OK
* checking top-level files ... OK
* checking for left-over files ... OK
* checking index information ... OK
* checking package subdirectories ... OK
* checking code files for non-ASCII characters ... OK
* checking R files for syntax errors ... OK
* checking whether the package can be loaded ... OK
* checking whether the package can be loaded with stated dependencies ... OK
* checking whether the package can be unloaded cleanly ... OK
* checking whether the namespace can be loaded with stated dependencies ... OK
* checking whether the namespace can be unloaded cleanly ... OK
* checking loading without being on the library search path ... OK
* checking dependencies in R code ... OK
* checking S3 generic/method consistency ... OK
* checking replacement functions ... OK
* checking foreign function calls ... OK
* checking R code for possible problems ... OK
* checking Rd files ... OK
* checking Rd metadata ... OK
* checking Rd cross-references ... OK
* checking for missing documentation entries ... OK
* checking for code/documentation mismatches ... OK
* checking Rd \usage sections ... OK
* checking Rd contents ... OK
* checking for unstated dependencies in examples ... OK
* checking files in ‘vignettes’ ... OK
* checking examples ... OK
Examples with CPU (user + system) or elapsed time > 5s
                                   user system elapsed
embryos_mean_methylation         11.935  0.895  13.080
DAC_induction                    11.085  0.900  12.434
normal_tissues_methylation       10.136  0.832  11.186
normal_tissues_mean_methylation   7.740  0.571   8.686
fetal_germcells_mean_methylation  7.688  0.487   8.425
GTEX_expression                   5.486  0.583   6.320
HPA_cell_type_expression          5.317  0.405   6.040
* checking for unstated dependencies in ‘tests’ ... OK
* checking tests ...
  Running ‘testthat.R’
 OK
* checking for unstated dependencies in vignettes ... OK
* checking package vignettes ... OK
* checking re-building of vignette outputs ... OK
* checking PDF version of manual ... OK
* DONE

Status: 1 NOTE
See
  ‘/home/biocbuild/bbs-3.23-bioc/meat/CTexploreR.Rcheck/00check.log’
for details.


Installation output

CTexploreR.Rcheck/00install.out

##############################################################################
##############################################################################
###
### Running command:
###
###   /home/biocbuild/bbs-3.23-bioc/R/bin/R CMD INSTALL CTexploreR
###
##############################################################################
##############################################################################


* installing to library ‘/home/biocbuild/bbs-3.23-bioc/R/site-library’
* installing *source* package ‘CTexploreR’ ...
** this is package ‘CTexploreR’ version ‘1.7.0’
** using staged installation
** R
** inst
** byte-compile and prepare package for lazy loading
see ?CTdata and browseVignettes('CTdata') for documentation
loading from cache
see ?CTdata and browseVignettes('CTdata') for documentation
loading from cache
** help
*** installing help indices
** building package indices
** installing vignettes
** testing if installed package can be loaded from temporary location
** testing if installed package can be loaded from final location
** testing if installed package keeps a record of temporary installation path
* DONE (CTexploreR)

Tests output

CTexploreR.Rcheck/tests/testthat.Rout


R Under development (unstable) (2025-10-20 r88955) -- "Unsuffered Consequences"
Copyright (C) 2025 The R Foundation for Statistical Computing
Platform: x86_64-pc-linux-gnu

R is free software and comes with ABSOLUTELY NO WARRANTY.
You are welcome to redistribute it under certain conditions.
Type 'license()' or 'licence()' for distribution details.

R is a collaborative project with many contributors.
Type 'contributors()' for more information and
'citation()' on how to cite R or R packages in publications.

Type 'demo()' for some demos, 'help()' for on-line help, or
'help.start()' for an HTML browser interface to help.
Type 'q()' to quit R.

> # This file is part of the standard setup for testthat.
> # It is recommended that you do not modify it.
> #
> # Where should you do additional test configuration?
> # Learn more about the roles of various files in:
> # * https://r-pkgs.org/testing-design.html#sec-tests-files-overview
> # * https://testthat.r-lib.org/articles/special-files.html
> 
> library(testthat)
> library(CTexploreR)
Loading required package: CTdata
> 
> test_check("CTexploreR")
see ?CTdata and browseVignettes('CTdata') for documentation
loading from cache
see ?CTdata and browseVignettes('CTdata') for documentation
loading from cache
see ?CTdata and browseVignettes('CTdata') for documentation
loading from cache
see ?CTdata and browseVignettes('CTdata') for documentation
loading from cache
see ?CTdata and browseVignettes('CTdata') for documentation
loading from cache
see ?CTdata and browseVignettes('CTdata') for documentation
loading from cache
see ?CTdata and browseVignettes('CTdata') for documentation
loading from cache
see ?CTdata and browseVignettes('CTdata') for documentation
loading from cache
see ?CTdata and browseVignettes('CTdata') for documentation
loading from cache
see ?CTdata and browseVignettes('CTdata') for documentation
loading from cache
see ?CTdata and browseVignettes('CTdata') for documentation
loading from cache
see ?CTdata and browseVignettes('CTdata') for documentation
loading from cache
see ?CTdata and browseVignettes('CTdata') for documentation
loading from cache
see ?CTdata and browseVignettes('CTdata') for documentation
loading from cache
see ?CTdata and browseVignettes('CTdata') for documentation
loading from cache
see ?CTdata and browseVignettes('CTdata') for documentation
loading from cache
see ?CTdata and browseVignettes('CTdata') for documentation
loading from cache
see ?CTdata and browseVignettes('CTdata') for documentation
loading from cache
see ?CTdata and browseVignettes('CTdata') for documentation
loading from cache
see ?CTdata and browseVignettes('CTdata') for documentation
loading from cache
see ?CTdata and browseVignettes('CTdata') for documentation
loading from cache
see ?CTdata and browseVignettes('CTdata') for documentation
loading from cache
see ?CTdata and browseVignettes('CTdata') for documentation
loading from cache
see ?CTdata and browseVignettes('CTdata') for documentation
loading from cache
see ?CTdata and browseVignettes('CTdata') for documentation
loading from cache
see ?CTdata and browseVignettes('CTdata') for documentation
loading from cache
see ?CTdata and browseVignettes('CTdata') for documentation
loading from cache
see ?CTdata and browseVignettes('CTdata') for documentation
loading from cache
see ?CTdata and browseVignettes('CTdata') for documentation
loading from cache
see ?CTdata and browseVignettes('CTdata') for documentation
loading from cache
see ?CTdata and browseVignettes('CTdata') for documentation
loading from cache
see ?CTdata and browseVignettes('CTdata') for documentation
loading from cache
see ?CTdata and browseVignettes('CTdata') for documentation
loading from cache
see ?CTdata and browseVignettes('CTdata') for documentation
loading from cache
see ?CTdata and browseVignettes('CTdata') for documentation
loading from cache
see ?CTdata and browseVignettes('CTdata') for documentation
loading from cache
see ?CTdata and browseVignettes('CTdata') for documentation
loading from cache
see ?CTdata and browseVignettes('CTdata') for documentation
loading from cache
see ?CTdata and browseVignettes('CTdata') for documentation
loading from cache
see ?CTdata and browseVignettes('CTdata') for documentation
loading from cache
see ?CTdata and browseVignettes('CTdata') for documentation
loading from cache
see ?CTdata and browseVignettes('CTdata') for documentation
loading from cache
see ?CTdata and browseVignettes('CTdata') for documentation
loading from cache
see ?CTdata and browseVignettes('CTdata') for documentation
loading from cache
see ?CTdata and browseVignettes('CTdata') for documentation
loading from cache
see ?CTdata and browseVignettes('CTdata') for documentation
loading from cache
see ?CTdata and browseVignettes('CTdata') for documentation
loading from cache
see ?CTdata and browseVignettes('CTdata') for documentation
loading from cache
[ FAIL 0 | WARN 0 | SKIP 0 | PASS 127 ]
Deleting unused snapshots: 'GTEX_expression/gtex-expression-on-mage.svg'
> 
> proc.time()
   user  system elapsed 
315.919  31.166 354.036 

Example timings

CTexploreR.Rcheck/CTexploreR-Ex.timings

nameusersystemelapsed
CCLE_expression000
CT_correlated_genes000
CT_genes0.0520.0020.053
DAC_induction11.085 0.90012.434
GTEX_expression5.4860.5836.320
HPA_cell_type_expression5.3170.4056.040
TCGA_expression000
TCGA_methylation_expression_correlation000
all_genes0.0380.0020.039
embryo_expression000
embryos_mean_methylation11.935 0.89513.080
fetal_germcells_expression0.0000.0000.001
fetal_germcells_mean_methylation7.6880.4878.425
hESC_expression0.0010.0000.000
hESC_mean_methylation000
normal_tissue_expression_multimapping4.2890.2894.836
normal_tissues_mean_methylation7.7400.5718.686
normal_tissues_methylation10.136 0.83211.186
oocytes_expression0.0000.0000.001
set_fontsize0.0010.0000.000
testis_expression000