Back to Multiple platform build/check report for BioC 3.23:   simplified   long
AB[C]DEFGHIJKLMNOPQRSTUVWXYZ

This page was generated on 2025-11-14 11:35 -0500 (Fri, 14 Nov 2025).

HostnameOSArch (*)R versionInstalled pkgs
nebbiolo1Linux (Ubuntu 24.04.3 LTS)x86_64R Under development (unstable) (2025-10-20 r88955) -- "Unsuffered Consequences" 4825
kjohnson3macOS 13.7.7 Venturaarm64R Under development (unstable) (2025-11-04 r88984) -- "Unsuffered Consequences" 4547
Click on any hostname to see more info about the system (e.g. compilers)      (*) as reported by 'uname -p', except on Windows and Mac OS X

Package 312/2325HostnameOS / ArchINSTALLBUILDCHECKBUILD BIN
CEMiTool 1.35.0  (landing page)
Helder Nakaya
Snapshot Date: 2025-11-13 13:40 -0500 (Thu, 13 Nov 2025)
git_url: https://git.bioconductor.org/packages/CEMiTool
git_branch: devel
git_last_commit: b427585
git_last_commit_date: 2025-10-29 10:40:00 -0500 (Wed, 29 Oct 2025)
nebbiolo1Linux (Ubuntu 24.04.3 LTS) / x86_64  OK    OK    OK  UNNEEDED, same version is already published
kjohnson3macOS 13.7.7 Ventura / arm64  OK    OK    OK    OK  UNNEEDED, same version is already published


CHECK results for CEMiTool on nebbiolo1

To the developers/maintainers of the CEMiTool package:
- Allow up to 24 hours (and sometimes 48 hours) for your latest push to git@git.bioconductor.org:packages/CEMiTool.git to reflect on this report. See Troubleshooting Build Report for more information.
- Use the following Renviron settings to reproduce errors and warnings.
- If 'R CMD check' started to fail recently on the Linux builder(s) over a missing dependency, add the missing dependency to 'Suggests:' in your DESCRIPTION file. See Renviron.bioc for more information.

raw results


Summary

Package: CEMiTool
Version: 1.35.0
Command: /home/biocbuild/bbs-3.23-bioc/R/bin/R CMD check --install=check:CEMiTool.install-out.txt --library=/home/biocbuild/bbs-3.23-bioc/R/site-library --timings CEMiTool_1.35.0.tar.gz
StartedAt: 2025-11-13 21:54:12 -0500 (Thu, 13 Nov 2025)
EndedAt: 2025-11-13 21:59:49 -0500 (Thu, 13 Nov 2025)
EllapsedTime: 337.6 seconds
RetCode: 0
Status:   OK  
CheckDir: CEMiTool.Rcheck
Warnings: 0

Command output

##############################################################################
##############################################################################
###
### Running command:
###
###   /home/biocbuild/bbs-3.23-bioc/R/bin/R CMD check --install=check:CEMiTool.install-out.txt --library=/home/biocbuild/bbs-3.23-bioc/R/site-library --timings CEMiTool_1.35.0.tar.gz
###
##############################################################################
##############################################################################


* using log directory ‘/home/biocbuild/bbs-3.23-bioc/meat/CEMiTool.Rcheck’
* using R Under development (unstable) (2025-10-20 r88955)
* using platform: x86_64-pc-linux-gnu
* R was compiled by
    gcc (Ubuntu 13.3.0-6ubuntu2~24.04) 13.3.0
    GNU Fortran (Ubuntu 13.3.0-6ubuntu2~24.04) 13.3.0
* running under: Ubuntu 24.04.3 LTS
* using session charset: UTF-8
* checking for file ‘CEMiTool/DESCRIPTION’ ... OK
* this is package ‘CEMiTool’ version ‘1.35.0’
* package encoding: UTF-8
* checking package namespace information ... OK
* checking package dependencies ... INFO
Imports includes 25 non-default packages.
Importing from so many packages makes the package vulnerable to any of
them becoming unavailable.  Move as many as possible to Suggests and
use conditionally.
* checking if this is a source package ... OK
* checking if there is a namespace ... OK
* checking for hidden files and directories ... OK
* checking for portable file names ... OK
* checking for sufficient/correct file permissions ... OK
* checking whether package ‘CEMiTool’ can be installed ... OK
* checking installed package size ... INFO
  installed size is  5.2Mb
  sub-directories of 1Mb or more:
    data      3.1Mb
    extdata   1.6Mb
* checking package directory ... OK
* checking ‘build’ directory ... OK
* checking DESCRIPTION meta-information ... OK
* checking top-level files ... OK
* checking for left-over files ... OK
* checking index information ... OK
* checking package subdirectories ... OK
* checking code files for non-ASCII characters ... OK
* checking R files for syntax errors ... OK
* checking whether the package can be loaded ... OK
* checking whether the package can be loaded with stated dependencies ... OK
* checking whether the package can be unloaded cleanly ... OK
* checking whether the namespace can be loaded with stated dependencies ... OK
* checking whether the namespace can be unloaded cleanly ... OK
* checking loading without being on the library search path ... OK
* checking dependencies in R code ... OK
* checking S3 generic/method consistency ... OK
* checking replacement functions ... OK
* checking foreign function calls ... OK
* checking R code for possible problems ... NOTE
flip_vector: no visible global function definition for ‘setNames’
get_args: no visible global function definition for ‘is’
select_genes: no visible global function definition for ‘var’
get_hubs,CEMiTool : <anonymous>: no visible global function definition
  for ‘head’
get_merged_mods,CEMiTool: no visible global function definition for
  ‘as.dist’
get_mods,CEMiTool: no visible global function definition for ‘as.dist’
get_phi,CEMiTool: no visible global function definition for ‘tail’
get_phi,CEMiTool: no visible global function definition for ‘head’
mod_gene_num,CEMiTool: no visible binding for global variable ‘modules’
mod_gene_num,CEMiTool: no visible binding for global variable
  ‘num_genes’
mod_summary,CEMiTool: no visible global function definition for ‘:=’
plot_gsea,CEMiTool: no visible global function definition for ‘dist’
plot_mean_var,CEMiTool: no visible binding for global variable ‘var’
plot_mean_var,CEMiTool: no visible binding for global variable ‘Mean’
plot_mean_var,CEMiTool: no visible binding for global variable
  ‘Variance’
plot_mean_var,CEMiTool: no visible binding for global variable
  ‘..eq.label..’
plot_mean_var,CEMiTool: no visible binding for global variable
  ‘..rr.label..’
plot_ora,CEMiTool : <anonymous>: no visible global function definition
  for ‘head’
plot_qq,CEMiTool: no visible binding for global variable ‘data’
plot_sample_tree,CEMiTool: no visible global function definition for
  ‘dist’
plot_sample_tree,CEMiTool: no visible global function definition for
  ‘dev.off’
save_plots,CEMiTool : <anonymous>: no visible global function
  definition for ‘dev.off’
save_plots,CEMiTool: no visible global function definition for
  ‘dev.off’
Undefined global functions or variables:
  ..eq.label.. ..rr.label.. := Mean Variance as.dist data dev.off dist
  head is modules num_genes setNames tail var
Consider adding
  importFrom("grDevices", "dev.off")
  importFrom("methods", "is")
  importFrom("stats", "as.dist", "dist", "setNames", "var")
  importFrom("utils", "data", "head", "tail")
to your NAMESPACE file (and ensure that your DESCRIPTION Imports field
contains 'methods').
* checking Rd files ... OK
* checking Rd metadata ... OK
* checking Rd cross-references ... OK
* checking for missing documentation entries ... OK
* checking for code/documentation mismatches ... OK
* checking Rd \usage sections ... OK
* checking Rd contents ... OK
* checking for unstated dependencies in examples ... OK
* checking contents of ‘data’ directory ... OK
* checking data for non-ASCII characters ... OK
* checking LazyData ... OK
* checking data for ASCII and uncompressed saves ... OK
* checking files in ‘vignettes’ ... OK
* checking examples ... OK
Examples with CPU (user + system) or elapsed time > 5s
                    user system elapsed
cemitool          10.285  0.311  10.597
plot_interactions  9.224  0.119   9.344
* checking for unstated dependencies in ‘tests’ ... OK
* checking tests ...
  Running ‘testthat.R’
 OK
* checking for unstated dependencies in vignettes ... OK
* checking package vignettes ... OK
* checking re-building of vignette outputs ... OK
* checking PDF version of manual ... OK
* DONE

Status: 1 NOTE
See
  ‘/home/biocbuild/bbs-3.23-bioc/meat/CEMiTool.Rcheck/00check.log’
for details.


Installation output

CEMiTool.Rcheck/00install.out

##############################################################################
##############################################################################
###
### Running command:
###
###   /home/biocbuild/bbs-3.23-bioc/R/bin/R CMD INSTALL CEMiTool
###
##############################################################################
##############################################################################


* installing to library ‘/home/biocbuild/bbs-3.23-bioc/R/site-library’
* installing *source* package ‘CEMiTool’ ...
** this is package ‘CEMiTool’ version ‘1.35.0’
** using staged installation
** R
** data
*** moving datasets to lazyload DB
** exec
** inst
** byte-compile and prepare package for lazy loading
** help
*** installing help indices
** building package indices
** installing vignettes
** testing if installed package can be loaded from temporary location
** testing if installed package can be loaded from final location
** testing if installed package keeps a record of temporary installation path
* DONE (CEMiTool)

Tests output

CEMiTool.Rcheck/tests/testthat.Rout


R Under development (unstable) (2025-10-20 r88955) -- "Unsuffered Consequences"
Copyright (C) 2025 The R Foundation for Statistical Computing
Platform: x86_64-pc-linux-gnu

R is free software and comes with ABSOLUTELY NO WARRANTY.
You are welcome to redistribute it under certain conditions.
Type 'license()' or 'licence()' for distribution details.

R is a collaborative project with many contributors.
Type 'contributors()' for more information and
'citation()' on how to cite R or R packages in publications.

Type 'demo()' for some demos, 'help()' for on-line help, or
'help.start()' for an HTML browser interface to help.
Type 'q()' to quit R.

> library(testthat)
> library(CEMiTool)

> test_check('CEMiTool')
[ FAIL 0 | WARN 13 | SKIP 0 | PASS 105 ]

[ FAIL 0 | WARN 13 | SKIP 0 | PASS 105 ]
> 
> proc.time()
   user  system elapsed 
 27.898   1.051  28.899 

Example timings

CEMiTool.Rcheck/CEMiTool-Ex.timings

nameusersystemelapsed
CEMiTool-class0.0120.0020.013
adj_data0.7680.0220.789
cem0.0210.0070.029
cemitool10.285 0.31110.597
expr00.0000.0010.001
expr_data0.1090.0210.130
filter_expr0.1290.0150.144
find_modules1.7260.0141.741
fit_data1.8930.0031.897
generate_report000
get_adj0.0880.0010.090
get_beta_data0.8320.0010.833
get_cemitool_r2_beta1.7630.0011.765
get_connectivity1.7870.0701.858
get_hubs0.0140.0000.014
get_merged_mods0.9120.0010.913
get_mods0.7910.0010.792
get_phi1.6560.0471.703
gsea_data3.8670.0263.892
interactions_data0.2340.0300.265
mod_colors0.0130.0010.014
mod_gene_num0.0670.0040.071
mod_gsea1.5650.0181.583
mod_names0.0140.0000.013
mod_ora2.5780.0292.608
mod_summary0.1160.0030.111
module_genes0.0310.0080.039
new_cem0.0120.0010.013
nmodules0.0130.0030.016
ora_data3.2750.0063.282
plot_beta_r20.1930.0000.193
plot_gsea1.7800.0041.784
plot_hist0.4370.0020.439
plot_interactions9.2240.1199.344
plot_mean_k0.2320.0070.239
plot_mean_var0.4670.0210.490
plot_ora4.0170.0154.034
plot_profile2.0420.0362.078
plot_qq0.5270.0040.531
plot_sample_tree0.6940.0060.701
read_gmt0.4540.0010.455
sample_annot0.0020.0010.003
sample_annotation0.0150.0000.014
save_plots0.0390.0000.038
select_genes0.8220.0630.885
show_plot0.1840.0000.184
write_files0.3390.0020.324