Back to Multiple platform build/check report for BioC 3.23:   simplified   long
A[B]CDEFGHIJKLMNOPQRSTUVWXYZ

This page was generated on 2025-11-14 11:35 -0500 (Fri, 14 Nov 2025).

HostnameOSArch (*)R versionInstalled pkgs
nebbiolo1Linux (Ubuntu 24.04.3 LTS)x86_64R Under development (unstable) (2025-10-20 r88955) -- "Unsuffered Consequences" 4825
kjohnson3macOS 13.7.7 Venturaarm64R Under development (unstable) (2025-11-04 r88984) -- "Unsuffered Consequences" 4547
Click on any hostname to see more info about the system (e.g. compilers)      (*) as reported by 'uname -p', except on Windows and Mac OS X

Package 215/2325HostnameOS / ArchINSTALLBUILDCHECKBUILD BIN
BioNAR 1.13.0  (landing page)
Anatoly Sorokin
Snapshot Date: 2025-11-13 13:40 -0500 (Thu, 13 Nov 2025)
git_url: https://git.bioconductor.org/packages/BioNAR
git_branch: devel
git_last_commit: 77425df
git_last_commit_date: 2025-10-29 11:19:29 -0500 (Wed, 29 Oct 2025)
nebbiolo1Linux (Ubuntu 24.04.3 LTS) / x86_64  OK    OK    ERROR  
kjohnson3macOS 13.7.7 Ventura / arm64  OK    OK    ERROR    OK  


CHECK results for BioNAR on nebbiolo1

To the developers/maintainers of the BioNAR package:
- Allow up to 24 hours (and sometimes 48 hours) for your latest push to git@git.bioconductor.org:packages/BioNAR.git to reflect on this report. See Troubleshooting Build Report for more information.
- Use the following Renviron settings to reproduce errors and warnings.
- If 'R CMD check' started to fail recently on the Linux builder(s) over a missing dependency, add the missing dependency to 'Suggests:' in your DESCRIPTION file. See Renviron.bioc for more information.

raw results


Summary

Package: BioNAR
Version: 1.13.0
Command: /home/biocbuild/bbs-3.23-bioc/R/bin/R CMD check --install=check:BioNAR.install-out.txt --library=/home/biocbuild/bbs-3.23-bioc/R/site-library --timings BioNAR_1.13.0.tar.gz
StartedAt: 2025-11-13 21:30:19 -0500 (Thu, 13 Nov 2025)
EndedAt: 2025-11-13 21:38:37 -0500 (Thu, 13 Nov 2025)
EllapsedTime: 498.6 seconds
RetCode: 1
Status:   ERROR  
CheckDir: BioNAR.Rcheck
Warnings: NA

Command output

##############################################################################
##############################################################################
###
### Running command:
###
###   /home/biocbuild/bbs-3.23-bioc/R/bin/R CMD check --install=check:BioNAR.install-out.txt --library=/home/biocbuild/bbs-3.23-bioc/R/site-library --timings BioNAR_1.13.0.tar.gz
###
##############################################################################
##############################################################################


* using log directory ‘/home/biocbuild/bbs-3.23-bioc/meat/BioNAR.Rcheck’
* using R Under development (unstable) (2025-10-20 r88955)
* using platform: x86_64-pc-linux-gnu
* R was compiled by
    gcc (Ubuntu 13.3.0-6ubuntu2~24.04) 13.3.0
    GNU Fortran (Ubuntu 13.3.0-6ubuntu2~24.04) 13.3.0
* running under: Ubuntu 24.04.3 LTS
* using session charset: UTF-8
* checking for file ‘BioNAR/DESCRIPTION’ ... OK
* this is package ‘BioNAR’ version ‘1.13.0’
* package encoding: UTF-8
* checking package namespace information ... OK
* checking package dependencies ... OK
* checking if this is a source package ... OK
* checking if there is a namespace ... OK
* checking for hidden files and directories ... OK
* checking for portable file names ... OK
* checking for sufficient/correct file permissions ... OK
* checking whether package ‘BioNAR’ can be installed ... OK
* checking installed package size ... OK
* checking package directory ... OK
* checking ‘build’ directory ... OK
* checking DESCRIPTION meta-information ... OK
* checking top-level files ... OK
* checking for left-over files ... OK
* checking index information ... OK
* checking package subdirectories ... OK
* checking code files for non-ASCII characters ... OK
* checking R files for syntax errors ... OK
* checking whether the package can be loaded ... OK
* checking whether the package can be loaded with stated dependencies ... OK
* checking whether the package can be unloaded cleanly ... OK
* checking whether the namespace can be loaded with stated dependencies ... OK
* checking whether the namespace can be unloaded cleanly ... OK
* checking loading without being on the library search path ... OK
* checking dependencies in R code ... NOTE
Package in Depends field not imported from: ‘Rdpack’
  These packages need to be imported from (in the NAMESPACE file)
  for when this namespace is loaded but not attached.
There are ::: calls to the package's namespace in its code. A package
  almost never needs to use ::: for its own objects:
  ‘addNoise’ ‘gofs’ ‘highlightRate’ ‘plotSigmoid’
* checking S3 generic/method consistency ... OK
* checking replacement functions ... OK
* checking foreign function calls ... OK
* checking R code for possible problems ... OK
* checking Rd files ... OK
* checking Rd metadata ... OK
* checking Rd cross-references ... NOTE
Unknown package ‘clusterCons’ in Rd xrefs
* checking for missing documentation entries ... OK
* checking for code/documentation mismatches ... OK
* checking Rd \usage sections ... OK
* checking Rd contents ... OK
* checking for unstated dependencies in examples ... OK
* checking contents of ‘data’ directory ... OK
* checking data for non-ASCII characters ... OK
* checking LazyData ... OK
* checking data for ASCII and uncompressed saves ... OK
* checking files in ‘vignettes’ ... OK
* checking examples ... OK
Examples with CPU (user + system) or elapsed time > 5s
                           user system elapsed
clusteringSummary        11.689  0.033  11.723
plotEntropy               9.509  0.301   9.811
calcEntropy               9.138  0.052   9.191
addEdgeAtts               8.424  0.256   8.679
getEntropy                8.425  0.072   8.497
getCentralityMatrix       7.656  0.077   7.734
getGraphCentralityECDF    7.656  0.050   7.706
annotateTopOntoOVG        7.251  0.060   7.314
runPermDisease            5.974  0.124   6.100
getRandomGraphCentrality  0.594  0.044  10.175
* checking for unstated dependencies in ‘tests’ ... OK
* checking tests ...
  Running ‘testthat.R’
 ERROR
Running the tests in ‘tests/testthat.R’ failed.
Last 13 lines of output:
  ══ Skipped tests (2) ═══════════════════════════════════════════════════════════
  • On CRAN (2): 'test_bridgeness.R:12:1', 'test_bridgeness.R:66:1'
  
  ══ Failed tests ════════════════════════════════════════════════════════════════
  ── Failure ('test_bridgeness.R:101:5'): Norm Modularity ────────────────────────
  Expected `nm` to equal 0.009390085.
  Differences:
    `actual`: 0.0070
  `expected`: 0.0094
  
  
  [ FAIL 1 | WARN 0 | SKIP 2 | PASS 124 ]
  Error:
  ! Test failures.
  Execution halted
* checking for unstated dependencies in vignettes ... OK
* checking package vignettes ... OK
* checking re-building of vignette outputs ... OK
* checking PDF version of manual ... OK
* DONE

Status: 1 ERROR, 2 NOTEs
See
  ‘/home/biocbuild/bbs-3.23-bioc/meat/BioNAR.Rcheck/00check.log’
for details.


Installation output

BioNAR.Rcheck/00install.out

##############################################################################
##############################################################################
###
### Running command:
###
###   /home/biocbuild/bbs-3.23-bioc/R/bin/R CMD INSTALL BioNAR
###
##############################################################################
##############################################################################


* installing to library ‘/home/biocbuild/bbs-3.23-bioc/R/site-library’
* installing *source* package ‘BioNAR’ ...
** this is package ‘BioNAR’ version ‘1.13.0’
** using staged installation
** R
** data
*** moving datasets to lazyload DB
** inst
** byte-compile and prepare package for lazy loading
** help
*** installing help indices
** building package indices
** installing vignettes
** testing if installed package can be loaded from temporary location
** testing if installed package can be loaded from final location
** testing if installed package keeps a record of temporary installation path
* DONE (BioNAR)

Tests output

BioNAR.Rcheck/tests/testthat.Rout.fail


R Under development (unstable) (2025-10-20 r88955) -- "Unsuffered Consequences"
Copyright (C) 2025 The R Foundation for Statistical Computing
Platform: x86_64-pc-linux-gnu

R is free software and comes with ABSOLUTELY NO WARRANTY.
You are welcome to redistribute it under certain conditions.
Type 'license()' or 'licence()' for distribution details.

R is a collaborative project with many contributors.
Type 'contributors()' for more information and
'citation()' on how to cite R or R packages in publications.

Type 'demo()' for some demos, 'help()' for on-line help, or
'help.start()' for an HTML browser interface to help.
Type 'q()' to quit R.

> library(testthat)
> library(BioNAR)
Loading required package: igraph

Attaching package: 'igraph'

The following object is masked from 'package:testthat':

    compare

The following objects are masked from 'package:stats':

    decompose, spectrum

The following object is masked from 'package:base':

    union

Loading required package: poweRlaw
Loading required package: latex2exp
Loading required package: RSpectra
Loading required package: Rdpack



Attaching package: 'BioNAR'

The following object is masked from 'package:igraph':

    permute

> 
> test_check("BioNAR")
Saving _problems/test_bridgeness-101.R
[ FAIL 1 | WARN 0 | SKIP 2 | PASS 124 ]

══ Skipped tests (2) ═══════════════════════════════════════════════════════════
• On CRAN (2): 'test_bridgeness.R:12:1', 'test_bridgeness.R:66:1'

══ Failed tests ════════════════════════════════════════════════════════════════
── Failure ('test_bridgeness.R:101:5'): Norm Modularity ────────────────────────
Expected `nm` to equal 0.009390085.
Differences:
  `actual`: 0.0070
`expected`: 0.0094


[ FAIL 1 | WARN 0 | SKIP 2 | PASS 124 ]
Error:
! Test failures.
Execution halted

Example timings

BioNAR.Rcheck/BioNAR-Ex.timings

nameusersystemelapsed
FitDegree0.8660.0524.863
addEdgeAtts8.4240.2568.679
annotateGOont4.2080.1524.359
annotateGeneNames0.2350.0060.241
annotateGoBP4.5960.0604.672
annotateGoCC3.3120.0393.352
annotateGoMF3.6080.0053.631
annotatePresynaptic2.0450.0802.125
annotateSCHanno4.8240.0284.852
annotateTopOntoOVG7.2510.0607.314
annotateVertex0.0040.0010.005
applpMatrixToGraph0.0020.0000.002
buildNetwork0.0030.0000.002
calcAllClustering4.6880.0024.694
calcBridgeness0.0620.0020.064
calcCentrality0.0870.0010.088
calcCentralityExternalDistances0.5480.0590.608
calcCentralityInternalDistances0.5050.0020.507
calcClustering0.0040.0000.005
calcDiseasePairs0.4970.0050.502
calcEntropy9.1380.0529.191
calcMembership0.0040.0010.006
calcReclusterMatrix0.0350.0000.035
calcSparsness3.5610.0003.561
clusterORA0.3320.0130.346
clusteringSummary11.689 0.03311.723
degreeBinnedGDAs0.2420.0090.251
escapeAnnotation0.0010.0000.000
evalCentralitySignificance0.5360.0300.565
findLCC0.0050.0000.006
getAnnotationList0.0620.0000.063
getAnnotationVertexList0.0720.0060.079
getBridgeness0.0600.0010.060
getCentralityMatrix7.6560.0777.734
getClusterSubgraphByID0.020.000.02
getClustering0.0210.0000.021
getCommunityGraph0.0220.0000.022
getDType0.0000.0000.001
getDYNAMO0.0340.0020.035
getDiseases0.0010.0000.000
getEntropy8.4250.0728.497
getEntropyRate0.0050.0000.005
getGNP0.0180.0010.019
getGraphCentralityECDF7.6560.0507.706
getPA0.0190.0000.019
getRandomGraphCentrality 0.594 0.04410.175
getRobustness0.4710.0310.503
layoutByCluster0.1160.0010.118
layoutByRecluster0.0970.0010.099
makeConsensusMatrix0.4660.0290.495
makeMembership0.0030.0010.003
metlMatrix0.0100.0010.011
normModularity4.5250.2294.755
permute000
plotBridgeness0.4270.0070.435
plotEntropy9.5090.3019.811
prepareGDA0.2470.0080.255
recluster0.0320.0010.033
removeVertexTerm0.0040.0010.004
runPermDisease5.9740.1246.100
sampleDegBinnedGDA0.2940.0110.305
sampleGraphClust0.0250.0000.025
unescapeAnnotation0.0000.0010.001
zeroNA0.0000.0010.000