| Back to Multiple platform build/check report for BioC 3.23: simplified long |
|
This page was generated on 2025-11-14 11:35 -0500 (Fri, 14 Nov 2025).
| Hostname | OS | Arch (*) | R version | Installed pkgs |
|---|---|---|---|---|
| nebbiolo1 | Linux (Ubuntu 24.04.3 LTS) | x86_64 | R Under development (unstable) (2025-10-20 r88955) -- "Unsuffered Consequences" | 4825 |
| kjohnson3 | macOS 13.7.7 Ventura | arm64 | R Under development (unstable) (2025-11-04 r88984) -- "Unsuffered Consequences" | 4547 |
| Click on any hostname to see more info about the system (e.g. compilers) (*) as reported by 'uname -p', except on Windows and Mac OS X | ||||
| Package 147/2325 | Hostname | OS / Arch | INSTALL | BUILD | CHECK | BUILD BIN | ||||||||
| BatchQC 2.7.0 (landing page) Jessica Anderson
| nebbiolo1 | Linux (Ubuntu 24.04.3 LTS) / x86_64 | OK | OK | OK | |||||||||
| kjohnson3 | macOS 13.7.7 Ventura / arm64 | OK | OK | OK | OK | |||||||||
|
To the developers/maintainers of the BatchQC package: - Allow up to 24 hours (and sometimes 48 hours) for your latest push to git@git.bioconductor.org:packages/BatchQC.git to reflect on this report. See Troubleshooting Build Report for more information. - Use the following Renviron settings to reproduce errors and warnings. - If 'R CMD check' started to fail recently on the Linux builder(s) over a missing dependency, add the missing dependency to 'Suggests:' in your DESCRIPTION file. See Renviron.bioc for more information. |
| Package: BatchQC |
| Version: 2.7.0 |
| Command: /home/biocbuild/bbs-3.23-bioc/R/bin/R CMD check --install=check:BatchQC.install-out.txt --library=/home/biocbuild/bbs-3.23-bioc/R/site-library --timings BatchQC_2.7.0.tar.gz |
| StartedAt: 2025-11-13 21:17:30 -0500 (Thu, 13 Nov 2025) |
| EndedAt: 2025-11-13 21:31:45 -0500 (Thu, 13 Nov 2025) |
| EllapsedTime: 854.4 seconds |
| RetCode: 0 |
| Status: OK |
| CheckDir: BatchQC.Rcheck |
| Warnings: 0 |
##############################################################################
##############################################################################
###
### Running command:
###
### /home/biocbuild/bbs-3.23-bioc/R/bin/R CMD check --install=check:BatchQC.install-out.txt --library=/home/biocbuild/bbs-3.23-bioc/R/site-library --timings BatchQC_2.7.0.tar.gz
###
##############################################################################
##############################################################################
* using log directory ‘/home/biocbuild/bbs-3.23-bioc/meat/BatchQC.Rcheck’
* using R Under development (unstable) (2025-10-20 r88955)
* using platform: x86_64-pc-linux-gnu
* R was compiled by
gcc (Ubuntu 13.3.0-6ubuntu2~24.04) 13.3.0
GNU Fortran (Ubuntu 13.3.0-6ubuntu2~24.04) 13.3.0
* running under: Ubuntu 24.04.3 LTS
* using session charset: UTF-8
* checking for file ‘BatchQC/DESCRIPTION’ ... OK
* checking extension type ... Package
* this is package ‘BatchQC’ version ‘2.7.0’
* package encoding: UTF-8
* checking package namespace information ... OK
* checking package dependencies ... INFO
Imports includes 27 non-default packages.
Importing from so many packages makes the package vulnerable to any of
them becoming unavailable. Move as many as possible to Suggests and
use conditionally.
* checking if this is a source package ... OK
* checking if there is a namespace ... OK
* checking for hidden files and directories ... OK
* checking for portable file names ... OK
* checking for sufficient/correct file permissions ... OK
* checking whether package ‘BatchQC’ can be installed ... OK
* checking installed package size ... OK
* checking package directory ... OK
* checking ‘build’ directory ... OK
* checking DESCRIPTION meta-information ... OK
* checking top-level files ... OK
* checking for left-over files ... OK
* checking index information ... OK
* checking package subdirectories ... OK
* checking code files for non-ASCII characters ... OK
* checking R files for syntax errors ... OK
* checking whether the package can be loaded ... OK
* checking whether the package can be loaded with stated dependencies ... OK
* checking whether the package can be unloaded cleanly ... OK
* checking whether the namespace can be loaded with stated dependencies ... OK
* checking whether the namespace can be unloaded cleanly ... OK
* checking loading without being on the library search path ... OK
* checking dependencies in R code ... OK
* checking S3 generic/method consistency ... OK
* checking replacement functions ... OK
* checking foreign function calls ... OK
* checking R code for possible problems ... OK
* checking Rd files ... OK
* checking Rd metadata ... OK
* checking Rd cross-references ... OK
* checking for missing documentation entries ... OK
* checking for code/documentation mismatches ... OK
* checking Rd \usage sections ... OK
* checking Rd contents ... OK
* checking for unstated dependencies in examples ... OK
* checking contents of ‘data’ directory ... OK
* checking data for non-ASCII characters ... OK
* checking data for ASCII and uncompressed saves ... OK
* checking files in ‘vignettes’ ... OK
* checking examples ... OK
Examples with CPU (user + system) or elapsed time > 5s
user system elapsed
compute_aic 37.443 0.259 37.706
volcano_plot 27.457 0.935 28.396
tb_data_upload 20.780 1.621 23.343
DE_analyze 21.289 0.397 21.692
pval_plotter 18.150 0.141 18.291
pval_summary 16.608 0.092 16.700
batch_correct 14.490 0.133 14.623
PCA_plotter 11.943 0.063 12.006
* checking for unstated dependencies in ‘tests’ ... OK
* checking tests ...
Running ‘spelling.R’
Running ‘testthat.R’
OK
* checking for unstated dependencies in vignettes ... OK
* checking package vignettes ... OK
* checking re-building of vignette outputs ... OK
* checking PDF version of manual ... OK
* DONE
Status: OK
BatchQC.Rcheck/00install.out
############################################################################## ############################################################################## ### ### Running command: ### ### /home/biocbuild/bbs-3.23-bioc/R/bin/R CMD INSTALL BatchQC ### ############################################################################## ############################################################################## * installing to library ‘/home/biocbuild/bbs-3.23-bioc/R/site-library’ * installing *source* package ‘BatchQC’ ... ** this is package ‘BatchQC’ version ‘2.7.0’ ** using staged installation ** R ** data ** inst ** byte-compile and prepare package for lazy loading ** help *** installing help indices ** building package indices ** installing vignettes ** testing if installed package can be loaded from temporary location ** testing if installed package can be loaded from final location ** testing if installed package keeps a record of temporary installation path * DONE (BatchQC)
BatchQC.Rcheck/tests/spelling.Rout
R Under development (unstable) (2025-10-20 r88955) -- "Unsuffered Consequences"
Copyright (C) 2025 The R Foundation for Statistical Computing
Platform: x86_64-pc-linux-gnu
R is free software and comes with ABSOLUTELY NO WARRANTY.
You are welcome to redistribute it under certain conditions.
Type 'license()' or 'licence()' for distribution details.
R is a collaborative project with many contributors.
Type 'contributors()' for more information and
'citation()' on how to cite R or R packages in publications.
Type 'demo()' for some demos, 'help()' for on-line help, or
'help.start()' for an HTML browser interface to help.
Type 'q()' to quit R.
> if (requireNamespace('spelling', quietly = TRUE))
+ spelling::spell_check_test(vignettes = TRUE, error = FALSE,
+ skip_on_cran = TRUE)
All Done!
>
> proc.time()
user system elapsed
0.151 0.039 0.179
BatchQC.Rcheck/tests/testthat.Rout
R Under development (unstable) (2025-10-20 r88955) -- "Unsuffered Consequences"
Copyright (C) 2025 The R Foundation for Statistical Computing
Platform: x86_64-pc-linux-gnu
R is free software and comes with ABSOLUTELY NO WARRANTY.
You are welcome to redistribute it under certain conditions.
Type 'license()' or 'licence()' for distribution details.
R is a collaborative project with many contributors.
Type 'contributors()' for more information and
'citation()' on how to cite R or R packages in publications.
Type 'demo()' for some demos, 'help()' for on-line help, or
'help.start()' for an HTML browser interface to help.
Type 'q()' to quit R.
> library(testthat)
> library(BatchQC)
>
> test_check("BatchQC")
[ FAIL 0 | WARN 0 | SKIP 1 | PASS 0 ]
══ Skipped tests (1) ═══════════════════════════════════════════════════════════
• On CRAN (1): 'test-lintr.R:3:5'
[ FAIL 0 | WARN 0 | SKIP 1 | PASS 0 ]
>
> proc.time()
user system elapsed
12.855 0.919 13.779
BatchQC.Rcheck/BatchQC-Ex.timings
| name | user | system | elapsed | |
| BatchQC | 0.000 | 0.001 | 0.000 | |
| DE_analyze | 21.289 | 0.397 | 21.692 | |
| EV_plotter | 1.118 | 0.027 | 1.145 | |
| EV_table | 0.827 | 0.021 | 0.848 | |
| PCA_plotter | 11.943 | 0.063 | 12.006 | |
| batch_correct | 14.490 | 0.133 | 14.623 | |
| batch_design | 0.502 | 0.004 | 0.505 | |
| batchqc_explained_variation | 0.907 | 0.100 | 1.006 | |
| bisect | 0.003 | 0.001 | 0.005 | |
| bladder_data_upload | 0.251 | 0.037 | 0.288 | |
| color_palette | 0.280 | 0.004 | 0.283 | |
| compute_aic | 37.443 | 0.259 | 37.706 | |
| compute_lambda | 4.907 | 0.026 | 4.934 | |
| confound_metrics | 0.461 | 0.011 | 0.472 | |
| cor_props | 0.434 | 0.008 | 0.443 | |
| covariates_not_confounded | 0.452 | 0.004 | 0.456 | |
| cramers_v | 0.424 | 0.005 | 0.428 | |
| dendrogram_alpha_numeric_check | 0.389 | 0.008 | 0.398 | |
| dendrogram_color_palette | 0.687 | 0.010 | 0.697 | |
| dendrogram_plotter | 2.390 | 0.077 | 2.467 | |
| goodness_of_fit_DESeq2 | 3.848 | 0.011 | 3.860 | |
| heatmap_num_to_char_converter | 0.399 | 0.006 | 0.406 | |
| heatmap_plotter | 1.183 | 0.010 | 1.194 | |
| is_design_balanced | 0.469 | 0.006 | 0.475 | |
| kBET | 2.503 | 0.007 | 2.510 | |
| normalize_SE | 0.615 | 0.002 | 0.617 | |
| plot_kBET | 2.735 | 0.011 | 2.746 | |
| process_dendrogram | 0.625 | 0.036 | 0.662 | |
| pval_plotter | 18.150 | 0.141 | 18.291 | |
| pval_summary | 16.608 | 0.092 | 16.700 | |
| ratio_plotter | 1.021 | 0.010 | 1.031 | |
| run_kBET | 2.614 | 0.006 | 2.620 | |
| run_lambda | 0.479 | 0.004 | 0.483 | |
| std_pearson_corr_coef | 0.527 | 0.006 | 0.533 | |
| summarized_experiment | 0.017 | 0.000 | 0.016 | |
| tb_data_upload | 20.780 | 1.621 | 23.343 | |
| umap | 1.853 | 0.034 | 1.887 | |
| variation_ratios | 0.939 | 0.049 | 0.988 | |
| volcano_plot | 27.457 | 0.935 | 28.396 | |