Back to Build/check report for BioC 3.23:   simplified   long
[A]BCDEFGHIJKLMNOPQRSTUVWXYZ

This page was generated on 2025-11-13 11:32 -0500 (Thu, 13 Nov 2025).

HostnameOSArch (*)R versionInstalled pkgs
kjohnson3macOS 13.7.7 Venturaarm64R Under development (unstable) (2025-11-04 r88984) -- "Unsuffered Consequences" 4013
Click on any hostname to see more info about the system (e.g. compilers)      (*) as reported by 'uname -p', except on Windows and Mac OS X

Package 57/2325HostnameOS / ArchINSTALLBUILDCHECKBUILD BIN
AlphaBeta 1.25.0  (landing page)
Yadollah Shahryary Dizaji
Snapshot Date: 2025-11-12 13:40 -0500 (Wed, 12 Nov 2025)
git_url: https://git.bioconductor.org/packages/AlphaBeta
git_branch: devel
git_last_commit: 2602838
git_last_commit_date: 2025-10-29 10:53:31 -0500 (Wed, 29 Oct 2025)
kjohnson3macOS 13.7.7 Ventura / arm64  OK    OK    OK    OK  YES


BUILD BIN results for AlphaBeta on kjohnson3

To the developers/maintainers of the AlphaBeta package:
- Allow up to 24 hours (and sometimes 48 hours) for your latest push to git@git.bioconductor.org:packages/AlphaBeta.git to reflect on this report. See Troubleshooting Build Report for more information.
- Use the following Renviron settings to reproduce errors and warnings.
- If 'R CMD check' started to fail recently on the Linux builder(s) over a missing dependency, add the missing dependency to 'Suggests:' in your DESCRIPTION file. See Renviron.bioc for more information.

raw results


Summary

Package: AlphaBeta
Version: 1.25.0
Command: rm -rf AlphaBeta.buildbin-libdir && mkdir AlphaBeta.buildbin-libdir && /Users/biocbuild/BBS/utils/build-universal.sh AlphaBeta_1.25.0.tar.gz /Library/Frameworks/R.framework/Resources/bin/R AlphaBeta.buildbin-libdir
StartedAt: 2025-11-12 20:50:47 -0500 (Wed, 12 Nov 2025)
EndedAt: 2025-11-12 20:50:54 -0500 (Wed, 12 Nov 2025)
EllapsedTime: 7.2 seconds
RetCode: 0
Status:   OK  
PackageFile: AlphaBeta_1.25.0.tgz
PackageFileSize: 2.703 MiB

Command output

##############################################################################
##############################################################################
###
### Running command:
###
###   rm -rf AlphaBeta.buildbin-libdir && mkdir AlphaBeta.buildbin-libdir && /Users/biocbuild/BBS/utils/build-universal.sh AlphaBeta_1.25.0.tar.gz /Library/Frameworks/R.framework/Resources/bin/R AlphaBeta.buildbin-libdir
###
##############################################################################
##############################################################################


>>>>>>> 
>>>>>>> INSTALLATION WITH 'R CMD INSTALL --preclean --no-multiarch --library=AlphaBeta.buildbin-libdir AlphaBeta_1.25.0.tar.gz'
>>>>>>> 

* installing *source* package ‘AlphaBeta’ ...
** this is package ‘AlphaBeta’ version ‘1.25.0’
** using staged installation
** R
** inst
** byte-compile and prepare package for lazy loading
** help
*** installing help indices
** building package indices
** installing vignettes
** testing if installed package can be loaded from temporary location
** testing if installed package can be loaded from final location
** testing if installed package keeps a record of temporary installation path
* DONE (AlphaBeta)