Back to Multiple platform build/check report for BioC 3.23:   simplified   long
[A]BCDEFGHIJKLMNOPQRSTUVWXYZ

This page was generated on 2025-11-24 11:38 -0500 (Mon, 24 Nov 2025).

HostnameOSArch (*)R versionInstalled pkgs
nebbiolo1Linux (Ubuntu 24.04.3 LTS)x86_64R Under development (unstable) (2025-10-20 r88955) -- "Unsuffered Consequences" 4829
lconwaymacOS 12.7.6 Montereyx86_64R Under development (unstable) (2025-10-21 r88958) -- "Unsuffered Consequences" 4605
kjohnson3macOS 13.7.7 Venturaarm64R Under development (unstable) (2025-11-04 r88984) -- "Unsuffered Consequences" 4568
Click on any hostname to see more info about the system (e.g. compilers)      (*) as reported by 'uname -p', except on Windows and Mac OS X

Package 56/2327HostnameOS / ArchINSTALLBUILDCHECKBUILD BIN
AllelicImbalance 1.49.0  (landing page)
Jesper R Gadin
Snapshot Date: 2025-11-23 13:40 -0500 (Sun, 23 Nov 2025)
git_url: https://git.bioconductor.org/packages/AllelicImbalance
git_branch: devel
git_last_commit: d78bb64
git_last_commit_date: 2025-10-29 10:16:36 -0500 (Wed, 29 Oct 2025)
nebbiolo1Linux (Ubuntu 24.04.3 LTS) / x86_64  OK    OK    OK  UNNEEDED, same version is already published
lconwaymacOS 12.7.6 Monterey / x86_64  OK    OK    OK    OK  NO, package depends on 'GenomicRanges' which is only available as a source package that needs compilation
kjohnson3macOS 13.7.7 Ventura / arm64  OK    OK    OK    OK  NO, package depends on 'GenomicRanges' which is only available as a source package that needs compilation


CHECK results for AllelicImbalance on lconway

To the developers/maintainers of the AllelicImbalance package:
- Allow up to 24 hours (and sometimes 48 hours) for your latest push to git@git.bioconductor.org:packages/AllelicImbalance.git to reflect on this report. See Troubleshooting Build Report for more information.
- Use the following Renviron settings to reproduce errors and warnings.
- If 'R CMD check' started to fail recently on the Linux builder(s) over a missing dependency, add the missing dependency to 'Suggests:' in your DESCRIPTION file. See Renviron.bioc for more information.

raw results


Summary

Package: AllelicImbalance
Version: 1.49.0
Command: /Library/Frameworks/R.framework/Resources/bin/R CMD check --install=check:AllelicImbalance.install-out.txt --library=/Library/Frameworks/R.framework/Resources/library --no-vignettes --timings AllelicImbalance_1.49.0.tar.gz
StartedAt: 2025-11-23 19:27:17 -0500 (Sun, 23 Nov 2025)
EndedAt: 2025-11-23 19:36:30 -0500 (Sun, 23 Nov 2025)
EllapsedTime: 553.1 seconds
RetCode: 0
Status:   OK  
CheckDir: AllelicImbalance.Rcheck
Warnings: 0

Command output

##############################################################################
##############################################################################
###
### Running command:
###
###   /Library/Frameworks/R.framework/Resources/bin/R CMD check --install=check:AllelicImbalance.install-out.txt --library=/Library/Frameworks/R.framework/Resources/library --no-vignettes --timings AllelicImbalance_1.49.0.tar.gz
###
##############################################################################
##############################################################################


* using log directory ‘/Users/biocbuild/bbs-3.23-bioc/meat/AllelicImbalance.Rcheck’
* using R Under development (unstable) (2025-10-21 r88958)
* using platform: x86_64-apple-darwin20
* R was compiled by
    Apple clang version 14.0.0 (clang-1400.0.29.202)
    GNU Fortran (GCC) 14.2.0
* running under: macOS Ventura 13.7.8
* using session charset: UTF-8
* using option ‘--no-vignettes’
* checking for file ‘AllelicImbalance/DESCRIPTION’ ... OK
* checking extension type ... Package
* this is package ‘AllelicImbalance’ version ‘1.49.0’
* package encoding: UTF-8
* checking package namespace information ... OK
* checking package dependencies ... OK
* checking if this is a source package ... OK
* checking if there is a namespace ... OK
* checking for hidden files and directories ... OK
* checking for portable file names ... OK
* checking for sufficient/correct file permissions ... OK
* checking whether package ‘AllelicImbalance’ can be installed ... OK
* checking installed package size ... OK
* checking package directory ... OK
* checking ‘build’ directory ... OK
* checking DESCRIPTION meta-information ... OK
* checking top-level files ... OK
* checking for left-over files ... OK
* checking index information ... OK
* checking package subdirectories ... NOTE
Problems with news in ‘NEWS’:
  Cannot process chunk/lines:
    CHANGES IN VERSION 1.12.0
* checking code files for non-ASCII characters ... OK
* checking R files for syntax errors ... OK
* checking whether the package can be loaded ... OK
* checking whether the package can be loaded with stated dependencies ... OK
* checking whether the package can be unloaded cleanly ... OK
* checking whether the namespace can be loaded with stated dependencies ... OK
* checking whether the namespace can be unloaded cleanly ... OK
* checking dependencies in R code ... OK
* checking S3 generic/method consistency ... OK
* checking replacement functions ... OK
* checking foreign function calls ... OK
* checking R code for possible problems ... OK
* checking Rd files ... OK
* checking Rd metadata ... OK
* checking Rd cross-references ... OK
* checking for missing documentation entries ... OK
* checking for code/documentation mismatches ... OK
* checking Rd \usage sections ... OK
* checking Rd contents ... OK
* checking for unstated dependencies in examples ... OK
* checking contents of ‘data’ directory ... OK
* checking data for non-ASCII characters ... OK
* checking LazyData ... OK
* checking data for ASCII and uncompressed saves ... OK
* checking sizes of PDF files under ‘inst/doc’ ... OK
* checking files in ‘vignettes’ ... OK
* checking examples ... OK
Examples with CPU (user + system) or elapsed time > 5s
                           user system elapsed
import-bam               26.627  0.387  27.231
getSnpIdFromLocation     23.680  1.402  25.263
annotation-wrappers      11.178  0.575  11.833
lva                      10.264  0.086  10.426
scanForHeterozygotes-old  6.176  0.059   6.278
ASEset-glocationplot      5.993  0.109   6.140
* checking for unstated dependencies in ‘tests’ ... OK
* checking tests ...
  Running ‘test-all.R’
 OK
* checking for unstated dependencies in vignettes ... OK
* checking package vignettes ... OK
* checking running R code from vignettes ... SKIPPED
* checking re-building of vignette outputs ... SKIPPED
* checking PDF version of manual ... OK
* DONE

Status: 1 NOTE
See
  ‘/Users/biocbuild/bbs-3.23-bioc/meat/AllelicImbalance.Rcheck/00check.log’
for details.


Installation output

AllelicImbalance.Rcheck/00install.out

##############################################################################
##############################################################################
###
### Running command:
###
###   /Library/Frameworks/R.framework/Resources/bin/R CMD INSTALL AllelicImbalance
###
##############################################################################
##############################################################################


* installing to library ‘/Library/Frameworks/R.framework/Versions/4.6-x86_64/Resources/library’
* installing *source* package ‘AllelicImbalance’ ...
** this is package ‘AllelicImbalance’ version ‘1.49.0’
** using staged installation
** R
** data
*** moving datasets to lazyload DB
** inst
** byte-compile and prepare package for lazy loading
Creating a generic function for 'chisq.test' from package 'stats' in package 'AllelicImbalance'
Creating a generic function for 'binom.test' from package 'stats' in package 'AllelicImbalance'
** help
*** installing help indices
** building package indices
** installing vignettes
** testing if installed package can be loaded from temporary location
** testing if installed package can be loaded from final location
** testing if installed package keeps a record of temporary installation path
* DONE (AllelicImbalance)

Tests output

AllelicImbalance.Rcheck/tests/test-all.Rout


R Under development (unstable) (2025-10-21 r88958) -- "Unsuffered Consequences"
Copyright (C) 2025 The R Foundation for Statistical Computing
Platform: x86_64-apple-darwin20

R is free software and comes with ABSOLUTELY NO WARRANTY.
You are welcome to redistribute it under certain conditions.
Type 'license()' or 'licence()' for distribution details.

R is a collaborative project with many contributors.
Type 'contributors()' for more information and
'citation()' on how to cite R or R packages in publications.

Type 'demo()' for some demos, 'help()' for on-line help, or
'help.start()' for an HTML browser interface to help.
Type 'q()' to quit R.

> library(testthat)
> test_check("AllelicImbalance")
Loading required package: AllelicImbalance
Loading required package: grid
Loading required package: GenomicRanges
Loading required package: stats4
Loading required package: BiocGenerics
Loading required package: generics

Attaching package: 'generics'

The following objects are masked from 'package:base':

    as.difftime, as.factor, as.ordered, intersect, is.element, setdiff,
    setequal, union


Attaching package: 'BiocGenerics'

The following objects are masked from 'package:stats':

    IQR, mad, sd, var, xtabs

The following objects are masked from 'package:base':

    Filter, Find, Map, Position, Reduce, anyDuplicated, aperm, append,
    as.data.frame, basename, cbind, colnames, dirname, do.call,
    duplicated, eval, evalq, get, grep, grepl, is.unsorted, lapply,
    mapply, match, mget, order, paste, pmax, pmax.int, pmin, pmin.int,
    rank, rbind, rownames, sapply, saveRDS, table, tapply, unique,
    unsplit, which.max, which.min

Loading required package: S4Vectors

Attaching package: 'S4Vectors'

The following object is masked from 'package:utils':

    findMatches

The following objects are masked from 'package:base':

    I, expand.grid, unname

Loading required package: IRanges
Loading required package: Seqinfo
Loading required package: SummarizedExperiment
Loading required package: MatrixGenerics
Loading required package: matrixStats

Attaching package: 'MatrixGenerics'

The following objects are masked from 'package:matrixStats':

    colAlls, colAnyNAs, colAnys, colAvgsPerRowSet, colCollapse,
    colCounts, colCummaxs, colCummins, colCumprods, colCumsums,
    colDiffs, colIQRDiffs, colIQRs, colLogSumExps, colMadDiffs,
    colMads, colMaxs, colMeans2, colMedians, colMins, colOrderStats,
    colProds, colQuantiles, colRanges, colRanks, colSdDiffs, colSds,
    colSums2, colTabulates, colVarDiffs, colVars, colWeightedMads,
    colWeightedMeans, colWeightedMedians, colWeightedSds,
    colWeightedVars, rowAlls, rowAnyNAs, rowAnys, rowAvgsPerColSet,
    rowCollapse, rowCounts, rowCummaxs, rowCummins, rowCumprods,
    rowCumsums, rowDiffs, rowIQRDiffs, rowIQRs, rowLogSumExps,
    rowMadDiffs, rowMads, rowMaxs, rowMeans2, rowMedians, rowMins,
    rowOrderStats, rowProds, rowQuantiles, rowRanges, rowRanks,
    rowSdDiffs, rowSds, rowSums2, rowTabulates, rowVarDiffs, rowVars,
    rowWeightedMads, rowWeightedMeans, rowWeightedMedians,
    rowWeightedSds, rowWeightedVars

Loading required package: Biobase
Welcome to Bioconductor

    Vignettes contain introductory material; view with
    'browseVignettes()'. To cite Bioconductor, see
    'citation("Biobase")', and for packages 'citation("pkgname")'.


Attaching package: 'Biobase'

The following object is masked from 'package:MatrixGenerics':

    rowMedians

The following objects are masked from 'package:matrixStats':

    anyMissing, rowMedians

Loading required package: GenomicAlignments
Loading required package: Biostrings
Loading required package: XVector

Attaching package: 'Biostrings'

The following object is masked from 'package:base':

    strsplit

Loading required package: Rsamtools
[ FAIL 0 | WARN 3 | SKIP 2 | PASS 96 ]

══ Skipped tests (2) ═══════════════════════════════════════════════════════════
• empty test (2): , 'test_utils.R:3:1'

[ FAIL 0 | WARN 3 | SKIP 2 | PASS 96 ]
> 
> 
> 
> proc.time()
   user  system elapsed 
 20.900   1.380  22.444 

Example timings

AllelicImbalance.Rcheck/AllelicImbalance-Ex.timings

nameusersystemelapsed
ASEset-barplot0.2730.0130.287
ASEset-class0.4230.0160.442
ASEset-filters0.0690.0100.080
ASEset-gbarplot0.0480.0080.056
ASEset-glocationplot5.9930.1096.140
ASEset-gviztrack0.6360.0560.695
ASEset-scanForHeterozygotes1.9980.0232.034
ASEset.old0.0000.0010.000
ASEset.sim0.0000.0000.001
ASEsetFromBam0.0020.0040.006
DetectedAI-class0.1460.0050.154
DetectedAI-plot1.4400.0221.472
DetectedAI-summary0.1350.0090.146
GRvariants0.0010.0020.003
GlobalAnalysis-class0.0010.0030.004
LinkVariantAlmlof-class000
LinkVariantAlmlof-plot2.1960.0212.225
RegionSummary-class000
RiskVariant-class0.0000.0000.001
annotation-wrappers11.178 0.57511.833
annotationBarplot0.0000.0010.000
barplot-lattice-support0.1180.0020.122
binom.test0.0610.0030.063
chisq.test0.1560.0040.160
cigar-utilities0.0150.0010.016
countAllelesFromBam0.0010.0030.004
coverageMatrixListFromGAL0.8500.0220.876
decorateWithExons0.0010.0040.005
decorateWithGenes0.0010.0020.003
defaultMapBias0.0410.0070.049
defaultPhase0.0010.0000.000
detectAI0.1040.0040.108
fractionPlotDf0.0390.0020.042
gba000
genomatrix000
genotype2phase0.0250.0060.032
getAlleleCounts4.4490.0324.497
getAlleleQuality4.1400.0314.193
getAreaFromGeneNames0.7680.0320.805
getDefaultMapBiasExpMean0.0330.0030.036
getSnpIdFromLocation23.680 1.40225.263
histplot000
implodeList-old0.0050.0000.005
import-bam-20.0110.0000.012
import-bam26.627 0.38727.231
import-bcf1.3160.0231.349
inferAlleles0.0130.0040.017
inferAltAllele0.0230.0030.026
inferGenotypes0.0330.0020.037
initialize-ASEset0.0850.0010.086
initialize-DetectedAI0.0970.0040.102
initialize-GlobalAnalysis0.0010.0030.004
initialize-RiskVariant0.0010.0020.004
legendBarplot0.0010.0000.000
locationplot1.6710.0411.725
lva10.264 0.08610.426
lva.internal0.4000.0080.413
makeMaskedFasta1.3110.0181.344
mapBiasRef0.0170.0030.021
minCountFilt0.0780.0050.085
minFreqFilt0.0730.0040.077
multiAllelicFilt0.0110.0030.015
phase2genotype0.0320.0080.040
phaseArray2phaseMatrix0.0050.0040.010
phaseMatrix2Array0.0040.0040.009
randomRef0.0210.0040.025
reads000
refAllele0.0160.0040.020
regionSummary0.5840.0080.596
scanForHeterozygotes-old6.1760.0596.278