| Back to Workflows build report for BioC 3.22 |
This page was generated on 2025-10-21 16:30 -0400 (Tue, 21 Oct 2025).
| Hostname | OS | Arch (*) | R version | Installed pkgs |
|---|---|---|---|---|
| nebbiolo2 | Linux (Ubuntu 24.04.3 LTS) | x86_64 | 4.5.1 Patched (2025-08-23 r88802) -- "Great Square Root" | 4888 |
| lconway | macOS 12.7.6 Monterey | x86_64 | 4.5.1 Patched (2025-09-10 r88807) -- "Great Square Root" | 4677 |
| Click on any hostname to see more info about the system (e.g. compilers) (*) as reported by 'uname -p', except on Windows and Mac OS X | ||||
| Package 28/29 | Hostname | OS / Arch | INSTALL | BUILD | ||||||||
| TCGAWorkflow 1.33.0 (landing page) Tiago Chedraoui Silva
| nebbiolo2 | Linux (Ubuntu 24.04.3 LTS) / x86_64 | ERROR | ERROR | ||||||||
| lconway | macOS 12.7.6 Monterey / x86_64 | OK | ERROR | |||||||||
|
To the developers/maintainers of the TCGAWorkflow package: - Use the following Renviron settings to reproduce errors and warnings. - If 'R CMD check' started to fail recently on the Linux builder(s) over a missing dependency, add the missing dependency to 'Suggests:' in your DESCRIPTION file. See Renviron.bioc for more information. |
| Package: TCGAWorkflow |
| Version: 1.33.0 |
| Command: /home/biocbuild/bbs-3.22-bioc/R/bin/R CMD INSTALL TCGAWorkflow |
| StartedAt: 2025-10-21 13:04:35 -0400 (Tue, 21 Oct 2025) |
| EndedAt: 2025-10-21 13:04:35 -0400 (Tue, 21 Oct 2025) |
| EllapsedTime: 0.2 seconds |
| RetCode: 1 |
| Status: ERROR |
##############################################################################
##############################################################################
###
### Running command:
###
### /home/biocbuild/bbs-3.22-bioc/R/bin/R CMD INSTALL TCGAWorkflow
###
##############################################################################
##############################################################################
* installing to library ‘/home/biocbuild/bbs-3.22-bioc/R/site-library’
ERROR: dependency ‘rGADEM’ is not available for package ‘TCGAWorkflow’
Perhaps try a variation of:
install.packages('rGADEM')
* removing ‘/home/biocbuild/bbs-3.22-bioc/R/site-library/TCGAWorkflow’