Back to Build/check report for BioC 3.22 experimental data
ABCDEFGHIJKLMNOPQR[S]TUVWXYZ

This page was generated on 2025-11-06 15:41 -0500 (Thu, 06 Nov 2025).

HostnameOSArch (*)R versionInstalled pkgs
nebbiolo2Linux (Ubuntu 24.04.3 LTS)x86_644.5.1 Patched (2025-08-23 r88802) -- "Great Square Root" 4902
Click on any hostname to see more info about the system (e.g. compilers)      (*) as reported by 'uname -p', except on Windows and Mac OS X

Package 360/435HostnameOS / ArchINSTALLBUILDCHECK
scRNAseq 2.24.0  (landing page)
Aaron Lun
Snapshot Date: 2025-11-06 07:30 -0500 (Thu, 06 Nov 2025)
git_url: https://git.bioconductor.org/packages/scRNAseq
git_branch: RELEASE_3_22
git_last_commit: 111920c
git_last_commit_date: 2025-10-29 09:58:50 -0500 (Wed, 29 Oct 2025)
nebbiolo2Linux (Ubuntu 24.04.3 LTS) / x86_64  OK    OK    OK  UNNEEDED, same version is already published


CHECK results for scRNAseq on nebbiolo2

To the developers/maintainers of the scRNAseq package:
- Use the following Renviron settings to reproduce errors and warnings.
- If 'R CMD check' started to fail recently on the Linux builder(s) over a missing dependency, add the missing dependency to 'Suggests:' in your DESCRIPTION file. See Renviron.bioc for more information.

raw results


Summary

Package: scRNAseq
Version: 2.24.0
Command: /home/biocbuild/bbs-3.22-bioc/R/bin/R CMD check --install=check:scRNAseq.install-out.txt --library=/home/biocbuild/bbs-3.22-bioc/R/site-library --timings scRNAseq_2.24.0.tar.gz
StartedAt: 2025-11-06 13:00:54 -0500 (Thu, 06 Nov 2025)
EndedAt: 2025-11-06 13:15:54 -0500 (Thu, 06 Nov 2025)
EllapsedTime: 900.0 seconds
RetCode: 0
Status:   OK  
CheckDir: scRNAseq.Rcheck
Warnings: 0

Command output

##############################################################################
##############################################################################
###
### Running command:
###
###   /home/biocbuild/bbs-3.22-bioc/R/bin/R CMD check --install=check:scRNAseq.install-out.txt --library=/home/biocbuild/bbs-3.22-bioc/R/site-library --timings scRNAseq_2.24.0.tar.gz
###
##############################################################################
##############################################################################


* using log directory ‘/home/biocbuild/bbs-3.22-data-experiment/meat/scRNAseq.Rcheck’
* using R version 4.5.1 Patched (2025-08-23 r88802)
* using platform: x86_64-pc-linux-gnu
* R was compiled by
    gcc (Ubuntu 13.3.0-6ubuntu2~24.04) 13.3.0
    GNU Fortran (Ubuntu 13.3.0-6ubuntu2~24.04) 13.3.0
* running under: Ubuntu 24.04.3 LTS
* using session charset: UTF-8
* checking for file ‘scRNAseq/DESCRIPTION’ ... OK
* this is package ‘scRNAseq’ version ‘2.24.0’
* package encoding: UTF-8
* checking package namespace information ... OK
* checking package dependencies ... OK
* checking if this is a source package ... OK
* checking if there is a namespace ... OK
* checking for hidden files and directories ... NOTE
Found the following hidden files and directories:
  .BBSoptions
These were most likely included in error. See section ‘Package
structure’ in the ‘Writing R Extensions’ manual.
* checking for portable file names ... OK
* checking for sufficient/correct file permissions ... OK
* checking whether package ‘scRNAseq’ can be installed ... OK
* checking installed package size ... OK
* checking package directory ... OK
* checking ‘build’ directory ... OK
* checking DESCRIPTION meta-information ... OK
* checking top-level files ... OK
* checking for left-over files ... OK
* checking index information ... OK
* checking package subdirectories ... OK
* checking code files for non-ASCII characters ... OK
* checking R files for syntax errors ... OK
* checking whether the package can be loaded ... OK
* checking whether the package can be loaded with stated dependencies ... OK
* checking whether the package can be unloaded cleanly ... OK
* checking whether the namespace can be loaded with stated dependencies ... OK
* checking whether the namespace can be unloaded cleanly ... OK
* checking loading without being on the library search path ... OK
* checking dependencies in R code ... OK
* checking S3 generic/method consistency ... OK
* checking replacement functions ... OK
* checking foreign function calls ... OK
* checking R code for possible problems ... OK
* checking Rd files ... OK
* checking Rd metadata ... OK
* checking Rd cross-references ... OK
* checking for missing documentation entries ... OK
* checking for code/documentation mismatches ... OK
* checking Rd \usage sections ... OK
* checking Rd contents ... OK
* checking for unstated dependencies in examples ... OK
* checking files in ‘vignettes’ ... OK
* checking examples ... OK
Examples with CPU (user + system) or elapsed time > 5s
                           user system elapsed
BhaduriOrganoidData      23.972  8.720  33.920
BacherTCellData          17.610  4.738  23.142
HeOrganAtlasData         12.577  7.552  20.836
ZeiselNervousData        14.368  5.333  20.411
JessaBrainData            9.620  3.895  14.108
ErnstSpermatogenesisData  9.988  2.889  13.336
StoeckiusHashingData      8.843  0.779  10.587
ZhaoImmuneLiverData       6.359  2.548   9.007
BachMammaryData           7.130  0.666   9.630
AztekinTailData           6.559  0.675   7.268
GiladiHSCData             4.793  1.994   6.880
LunSpikeInData            5.852  0.293   6.749
KolodziejczykESCData      4.188  0.452   5.063
* checking for unstated dependencies in ‘tests’ ... OK
* checking tests ...
  Running ‘testthat.R’
 OK
* checking for unstated dependencies in vignettes ... OK
* checking package vignettes ... OK
* checking re-building of vignette outputs ... OK
* checking PDF version of manual ... OK
* DONE

Status: 1 NOTE
See
  ‘/home/biocbuild/bbs-3.22-data-experiment/meat/scRNAseq.Rcheck/00check.log’
for details.


Installation output

scRNAseq.Rcheck/00install.out

##############################################################################
##############################################################################
###
### Running command:
###
###   /home/biocbuild/bbs-3.22-bioc/R/bin/R CMD INSTALL scRNAseq
###
##############################################################################
##############################################################################


* installing to library ‘/home/biocbuild/bbs-3.22-bioc/R/site-library’
* installing *source* package ‘scRNAseq’ ...
** this is package ‘scRNAseq’ version ‘2.24.0’
** using staged installation
** R
** inst
** byte-compile and prepare package for lazy loading
** help
*** installing help indices
** building package indices
** installing vignettes
** testing if installed package can be loaded from temporary location
** testing if installed package can be loaded from final location
** testing if installed package keeps a record of temporary installation path
* DONE (scRNAseq)

Tests output

scRNAseq.Rcheck/tests/testthat.Rout


R version 4.5.1 Patched (2025-08-23 r88802) -- "Great Square Root"
Copyright (C) 2025 The R Foundation for Statistical Computing
Platform: x86_64-pc-linux-gnu

R is free software and comes with ABSOLUTELY NO WARRANTY.
You are welcome to redistribute it under certain conditions.
Type 'license()' or 'licence()' for distribution details.

R is a collaborative project with many contributors.
Type 'contributors()' for more information and
'citation()' on how to cite R or R packages in publications.

Type 'demo()' for some demos, 'help()' for on-line help, or
'help.start()' for an HTML browser interface to help.
Type 'q()' to quit R.

> library(testthat)
> library(scRNAseq)
Loading required package: SingleCellExperiment
Loading required package: SummarizedExperiment
Loading required package: MatrixGenerics
Loading required package: matrixStats

Attaching package: 'MatrixGenerics'

The following objects are masked from 'package:matrixStats':

    colAlls, colAnyNAs, colAnys, colAvgsPerRowSet, colCollapse,
    colCounts, colCummaxs, colCummins, colCumprods, colCumsums,
    colDiffs, colIQRDiffs, colIQRs, colLogSumExps, colMadDiffs,
    colMads, colMaxs, colMeans2, colMedians, colMins, colOrderStats,
    colProds, colQuantiles, colRanges, colRanks, colSdDiffs, colSds,
    colSums2, colTabulates, colVarDiffs, colVars, colWeightedMads,
    colWeightedMeans, colWeightedMedians, colWeightedSds,
    colWeightedVars, rowAlls, rowAnyNAs, rowAnys, rowAvgsPerColSet,
    rowCollapse, rowCounts, rowCummaxs, rowCummins, rowCumprods,
    rowCumsums, rowDiffs, rowIQRDiffs, rowIQRs, rowLogSumExps,
    rowMadDiffs, rowMads, rowMaxs, rowMeans2, rowMedians, rowMins,
    rowOrderStats, rowProds, rowQuantiles, rowRanges, rowRanks,
    rowSdDiffs, rowSds, rowSums2, rowTabulates, rowVarDiffs, rowVars,
    rowWeightedMads, rowWeightedMeans, rowWeightedMedians,
    rowWeightedSds, rowWeightedVars

Loading required package: GenomicRanges
Loading required package: stats4
Loading required package: BiocGenerics
Loading required package: generics

Attaching package: 'generics'

The following objects are masked from 'package:base':

    as.difftime, as.factor, as.ordered, intersect, is.element, setdiff,
    setequal, union


Attaching package: 'BiocGenerics'

The following objects are masked from 'package:stats':

    IQR, mad, sd, var, xtabs

The following objects are masked from 'package:base':

    Filter, Find, Map, Position, Reduce, anyDuplicated, aperm, append,
    as.data.frame, basename, cbind, colnames, dirname, do.call,
    duplicated, eval, evalq, get, grep, grepl, is.unsorted, lapply,
    mapply, match, mget, order, paste, pmax, pmax.int, pmin, pmin.int,
    rank, rbind, rownames, sapply, saveRDS, table, tapply, unique,
    unsplit, which.max, which.min

Loading required package: S4Vectors

Attaching package: 'S4Vectors'

The following object is masked from 'package:utils':

    findMatches

The following objects are masked from 'package:base':

    I, expand.grid, unname

Loading required package: IRanges
Loading required package: Seqinfo
Loading required package: Biobase
Welcome to Bioconductor

    Vignettes contain introductory material; view with
    'browseVignettes()'. To cite Bioconductor, see
    'citation("Biobase")', and for packages 'citation("pkgname")'.


Attaching package: 'Biobase'

The following object is masked from 'package:MatrixGenerics':

    rowMedians

The following objects are masked from 'package:matrixStats':

    anyMissing, rowMedians

> test_check("scRNAseq")
[ FAIL 0 | WARN 35 | SKIP 1 | PASS 186 ]

══ Skipped tests (1) ═══════════════════════════════════════════════════════════
• is.null(gh_token) is TRUE (1): 'test-uploadDirectory.R:59:5'

[ FAIL 0 | WARN 35 | SKIP 1 | PASS 186 ]
Warning message:
call dbDisconnect() when finished working with a connection 
> 
> proc.time()
   user  system elapsed 
281.548  35.721 340.962 

Example timings

scRNAseq.Rcheck/scRNAseq-Ex.timings

nameusersystemelapsed
AztekinTailData6.5590.6757.268
BachMammaryData7.1300.6669.630
BacherTCellData17.610 4.73823.142
BaronPancreasData1.0110.1521.180
BhaduriOrganoidData23.972 8.72033.920
BuettnerESCData2.9720.2743.556
BunisHSPCData0.9680.4271.413
CampbellBrainData1.7170.8802.630
ChenBrainData0.9210.3421.282
DarmanisBrainData0.2920.0220.486
ERCCSpikeInConcentrations0.0190.0000.022
ErnstSpermatogenesisData 9.988 2.88913.336
FletcherOlfactoryData0.7790.1910.977
GiladiHSCData4.7931.9946.880
GrunHSCData0.2220.0140.242
GrunPancreasData0.5800.2700.858
HeOrganAtlasData12.577 7.55220.836
HermannSpermatogenesisData0.7770.2061.000
HuCortexData0.4940.2370.743
JessaBrainData 9.620 3.89514.108
KolodziejczykESCData4.1880.4525.063
KotliarovPBMCData2.3200.0962.474
LaMannoBrainData1.5230.0491.601
LawlorPancreasData0.7920.0480.871
LedergorMyelomaData1.3810.0451.490
LengESCData0.5280.0410.602
LunSpikeInData5.8520.2936.749
MacoskoRetinaData1.6130.0611.714
MairPBMCData0.4630.0090.483
MarquesBrainData0.7740.0240.808
MessmerESCData3.6770.2164.307
MuraroPancreasData0.9030.0320.946
NestorowaHSCData4.1620.2894.731
NowakowskiCortexData1.5100.0831.606
PaulHSCData2.8590.1903.067
PollenGliaData0.2180.0270.249
ReprocessedData1.9520.1642.186
RichardTCellData2.9610.2183.522
RomanovBrainData0.4940.0360.539
SegerstolpePancreasData1.2690.1101.398
ShekharRetinaData1.9730.5432.602
StoeckiusHashingData 8.843 0.77910.587
TasicBrainData1.8480.3242.249
UsoskinBrainData0.5030.0160.527
WuKidneyData0.3500.0270.386
XinPancreasData0.8060.1720.990
ZeiselBrainData1.0310.1231.232
ZeiselNervousData14.368 5.33320.411
ZhaoImmuneLiverData6.3592.5489.007
ZhongPrefrontalData0.6060.0900.711
ZilionisLungData3.9460.7604.834
countErccMolecules0.0330.0020.034
fetchDataset0.4260.0070.433
listDatasets0.010.000.01
listPaths0.6720.0971.584
listVersions0.0110.0000.265
polishDataset0.1080.0050.113
saveDataset0.7520.0580.826
searchDatasets1.6710.0291.872
surveyDatasets0.8560.0100.865