Back to Build/check report for BioC 3.22 experimental data
ABCDEF[G]HIJKLMNOPQRSTUVWXYZ

This page was generated on 2025-11-06 15:41 -0500 (Thu, 06 Nov 2025).

HostnameOSArch (*)R versionInstalled pkgs
nebbiolo2Linux (Ubuntu 24.04.3 LTS)x86_644.5.1 Patched (2025-08-23 r88802) -- "Great Square Root" 4902
Click on any hostname to see more info about the system (e.g. compilers)      (*) as reported by 'uname -p', except on Windows and Mac OS X

Package 150/435HostnameOS / ArchINSTALLBUILDCHECK
geneLenDataBase 1.46.0  (landing page)
Federico Marini
Snapshot Date: 2025-11-06 07:30 -0500 (Thu, 06 Nov 2025)
git_url: https://git.bioconductor.org/packages/geneLenDataBase
git_branch: RELEASE_3_22
git_last_commit: 0bae7f6
git_last_commit_date: 2025-10-29 09:31:54 -0500 (Wed, 29 Oct 2025)
nebbiolo2Linux (Ubuntu 24.04.3 LTS) / x86_64  OK    OK    OK  UNNEEDED, same version is already published


CHECK results for geneLenDataBase on nebbiolo2

To the developers/maintainers of the geneLenDataBase package:
- Use the following Renviron settings to reproduce errors and warnings.
- If 'R CMD check' started to fail recently on the Linux builder(s) over a missing dependency, add the missing dependency to 'Suggests:' in your DESCRIPTION file. See Renviron.bioc for more information.

raw results


Summary

Package: geneLenDataBase
Version: 1.46.0
Command: /home/biocbuild/bbs-3.22-bioc/R/bin/R CMD check --install=check:geneLenDataBase.install-out.txt --library=/home/biocbuild/bbs-3.22-bioc/R/site-library --timings geneLenDataBase_1.46.0.tar.gz
StartedAt: 2025-11-06 12:23:25 -0500 (Thu, 06 Nov 2025)
EndedAt: 2025-11-06 12:32:30 -0500 (Thu, 06 Nov 2025)
EllapsedTime: 545.3 seconds
RetCode: 0
Status:   OK  
CheckDir: geneLenDataBase.Rcheck
Warnings: 0

Command output

##############################################################################
##############################################################################
###
### Running command:
###
###   /home/biocbuild/bbs-3.22-bioc/R/bin/R CMD check --install=check:geneLenDataBase.install-out.txt --library=/home/biocbuild/bbs-3.22-bioc/R/site-library --timings geneLenDataBase_1.46.0.tar.gz
###
##############################################################################
##############################################################################


* using log directory ‘/home/biocbuild/bbs-3.22-data-experiment/meat/geneLenDataBase.Rcheck’
* using R version 4.5.1 Patched (2025-08-23 r88802)
* using platform: x86_64-pc-linux-gnu
* R was compiled by
    gcc (Ubuntu 13.3.0-6ubuntu2~24.04) 13.3.0
    GNU Fortran (Ubuntu 13.3.0-6ubuntu2~24.04) 13.3.0
* running under: Ubuntu 24.04.3 LTS
* using session charset: UTF-8
* checking for file ‘geneLenDataBase/DESCRIPTION’ ... OK
* this is package ‘geneLenDataBase’ version ‘1.46.0’
* package encoding: UTF-8
* checking package namespace information ... OK
* checking package dependencies ... OK
* checking if this is a source package ... OK
* checking if there is a namespace ... OK
* checking for hidden files and directories ... OK
* checking for portable file names ... OK
* checking for sufficient/correct file permissions ... OK
* checking whether package ‘geneLenDataBase’ can be installed ... OK
* checking installed package size ... INFO
  installed size is 100.3Mb
  sub-directories of 1Mb or more:
    data  99.7Mb
* checking package directory ... OK
* checking DESCRIPTION meta-information ... OK
* checking top-level files ... OK
* checking for left-over files ... OK
* checking index information ... OK
* checking package subdirectories ... OK
* checking code files for non-ASCII characters ... OK
* checking R files for syntax errors ... OK
* checking whether the package can be loaded ... OK
* checking whether the package can be loaded with stated dependencies ... OK
* checking whether the package can be unloaded cleanly ... OK
* checking whether the namespace can be loaded with stated dependencies ... OK
* checking whether the namespace can be unloaded cleanly ... OK
* checking loading without being on the library search path ... OK
* checking dependencies in R code ... NOTE
Unexported object imported by a ':::' call: ‘txdbmaker:::.UCSC_TXNAME2GENEID_MAPDEFS’
  See the note in ?`:::` about the use of this operator.
* checking S3 generic/method consistency ... OK
* checking replacement functions ... OK
* checking foreign function calls ... OK
* checking R code for possible problems ... OK
* checking Rd files ... OK
* checking Rd metadata ... OK
* checking Rd cross-references ... OK
* checking for missing documentation entries ... OK
* checking for code/documentation mismatches ... OK
* checking Rd \usage sections ... OK
* checking Rd contents ... OK
* checking for unstated dependencies in examples ... OK
* checking contents of ‘data’ directory ... OK
* checking data for non-ASCII characters ... OK
* checking data for ASCII and uncompressed saves ... OK
* checking examples ... OK
Examples with CPU (user + system) or elapsed time > 5s
                 user system elapsed
supportedGeneIDs 3.18  0.062    5.25
* checking PDF version of manual ... OK
* DONE

Status: 1 NOTE
See
  ‘/home/biocbuild/bbs-3.22-data-experiment/meat/geneLenDataBase.Rcheck/00check.log’
for details.


Installation output

geneLenDataBase.Rcheck/00install.out

##############################################################################
##############################################################################
###
### Running command:
###
###   /home/biocbuild/bbs-3.22-bioc/R/bin/R CMD INSTALL geneLenDataBase
###
##############################################################################
##############################################################################


* installing to library ‘/home/biocbuild/bbs-3.22-bioc/R/site-library’
* installing *source* package ‘geneLenDataBase’ ...
** this is package ‘geneLenDataBase’ version ‘1.46.0’
** using staged installation
** R
** data
** byte-compile and prepare package for lazy loading
** help
*** installing help indices
** building package indices
** testing if installed package can be loaded from temporary location
** testing if installed package can be loaded from final location
** testing if installed package keeps a record of temporary installation path
* DONE (geneLenDataBase)

Tests output


Example timings

geneLenDataBase.Rcheck/geneLenDataBase-Ex.timings

nameusersystemelapsed
anoCar1.ensGene.LENGTH0.0750.0020.077
anoCar1.genscan.LENGTH0.0430.0030.046
anoCar1.xenoRefGene.LENGTH0.7730.0100.784
anoGam1.ensGene.LENGTH0.0580.0010.059
anoGam1.geneid.LENGTH0.0420.0020.043
anoGam1.genscan.LENGTH0.0410.0000.041
apiMel1.genscan.LENGTH0.0340.0030.037
apiMel2.ensGene.LENGTH0.0860.0000.086
apiMel2.geneid.LENGTH0.1150.0040.118
apiMel2.genscan.LENGTH0.0310.0000.030
aplCal1.xenoRefGene.LENGTH0.4210.0000.421
bosTau2.geneSymbol.LENGTH0.0390.0000.039
bosTau2.geneid.LENGTH0.2310.0100.241
bosTau2.genscan.LENGTH0.0850.0020.087
bosTau2.refGene.LENGTH0.0420.0000.041
bosTau2.sgpGene.LENGTH0.0960.0040.100
bosTau3.ensGene.LENGTH0.1000.0020.102
bosTau3.geneSymbol.LENGTH0.0360.0010.036
bosTau3.geneid.LENGTH0.1520.0090.162
bosTau3.genscan.LENGTH0.0640.0000.065
bosTau3.refGene.LENGTH0.0320.0000.032
bosTau3.sgpGene.LENGTH0.0850.0000.084
bosTau4.ensGene.LENGTH0.0940.0000.094
bosTau4.geneSymbol.LENGTH0.0310.0000.031
bosTau4.genscan.LENGTH0.0630.0000.063
bosTau4.nscanGene.LENGTH0.0270.0000.027
bosTau4.refGene.LENGTH0.0290.0000.030
braFlo1.xenoRefGene.LENGTH0.3540.0000.354
caeJap1.xenoRefGene.LENGTH0.3200.0070.327
caePb1.xenoRefGene.LENGTH0.4250.0020.428
caePb2.xenoRefGene.LENGTH0.4190.0010.420
caeRem2.xenoRefGene.LENGTH0.3790.0020.381
caeRem3.xenoRefGene.LENGTH0.3440.0010.345
calJac1.genscan.LENGTH0.0850.0020.087
calJac1.nscanGene.LENGTH0.1060.0010.106
calJac1.xenoRefGene.LENGTH0.7620.0030.765
canFam1.ensGene.LENGTH0.1030.0010.105
canFam1.geneSymbol.LENGTH0.0050.0000.005
canFam1.genscan.LENGTH0.0620.0000.062
canFam1.nscanGene.LENGTH0.0620.0010.063
canFam1.refGene.LENGTH0.0050.0000.005
canFam1.xenoRefGene.LENGTH0.5560.0040.560
canFam2.ensGene.LENGTH0.0930.0010.093
canFam2.geneSymbol.LENGTH0.0050.0000.005
canFam2.genscan.LENGTH0.0540.0010.055
canFam2.nscanGene.LENGTH0.060.000.06
canFam2.refGene.LENGTH0.0050.0000.005
canFam2.xenoRefGene.LENGTH0.5840.0020.586
cavPor3.ensGene.LENGTH0.3050.0010.307
cavPor3.genscan.LENGTH0.0910.0000.091
cavPor3.nscanGene.LENGTH0.0610.0010.063
cavPor3.xenoRefGene.LENGTH0.5420.0010.543
cb1.xenoRefGene.LENGTH0.3650.0010.366
cb3.xenoRefGene.LENGTH0.3240.0000.324
ce2.geneSymbol.LENGTH0.0640.0010.066
ce2.geneid.LENGTH0.0530.0000.053
ce2.refGene.LENGTH0.0620.0000.062
ce4.geneSymbol.LENGTH0.0660.0000.066
ce4.refGene.LENGTH0.0570.0010.058
ce4.xenoRefGene.LENGTH0.0780.0000.077
ce6.ensGene.LENGTH0.0870.0000.087
ce6.geneSymbol.LENGTH0.0650.0000.065
ce6.refGene.LENGTH0.0610.0000.061
ce6.xenoRefGene.LENGTH0.0780.0010.078
ci1.geneSymbol.LENGTH0.0050.0000.005
ci1.refGene.LENGTH0.0040.0000.005
ci1.xenoRefGene.LENGTH0.1590.0000.159
ci2.ensGene.LENGTH0.0610.0000.061
ci2.geneSymbol.LENGTH0.0040.0000.005
ci2.refGene.LENGTH0.0030.0010.004
ci2.xenoRefGene.LENGTH0.9860.0811.066
danRer3.ensGene.LENGTH0.0890.0000.088
danRer3.geneSymbol.LENGTH0.0520.0060.057
danRer3.refGene.LENGTH0.0460.0000.045
danRer4.ensGene.LENGTH0.1050.0000.105
danRer4.geneSymbol.LENGTH0.0490.0000.049
danRer4.genscan.LENGTH0.0530.0010.055
danRer4.nscanGene.LENGTH0.0780.0000.078
danRer4.refGene.LENGTH0.0440.0010.046
danRer5.ensGene.LENGTH0.1040.0000.104
danRer5.geneSymbol.LENGTH0.0460.0000.045
danRer5.refGene.LENGTH0.0410.0010.042
danRer5.vegaGene.LENGTH0.0430.0010.044
danRer5.vegaPseudoGene.LENGTH0.0030.0000.002
danRer6.ensGene.LENGTH0.1000.0010.101
danRer6.geneSymbol.LENGTH0.0480.0000.048
danRer6.refGene.LENGTH0.0420.0010.044
danRer6.xenoRefGene.LENGTH0.4560.0030.459
dm1.geneSymbol.LENGTH0.060.000.06
dm1.genscan.LENGTH0.0210.0010.022
dm1.refGene.LENGTH0.0550.0000.055
dm2.geneSymbol.LENGTH0.0600.0000.061
dm2.geneid.LENGTH0.0320.0010.033
dm2.genscan.LENGTH0.0220.0000.022
dm2.nscanGene.LENGTH0.0460.0010.046
dm2.refGene.LENGTH0.0550.0000.054
dm3.geneSymbol.LENGTH0.0660.0000.066
dm3.nscanPasaGene.LENGTH0.0470.0010.049
dm3.refGene.LENGTH0.0620.0000.062
downloadLengthFromUCSC000
dp2.genscan.LENGTH0.030.000.03
dp2.xenoRefGene.LENGTH0.1820.0010.184
dp3.geneid.LENGTH0.0360.0000.036
dp3.genscan.LENGTH0.0230.0010.024
dp3.xenoRefGene.LENGTH0.1020.0010.103
droAna1.geneid.LENGTH0.0630.0010.064
droAna1.genscan.LENGTH0.0200.0010.022
droAna1.xenoRefGene.LENGTH0.1970.0010.198
droAna2.genscan.LENGTH0.0460.0000.046
droAna2.xenoRefGene.LENGTH0.2470.0000.247
droEre1.genscan.LENGTH0.0270.0000.027
droEre1.xenoRefGene.LENGTH0.2540.0000.255
droGri1.genscan.LENGTH0.0350.0010.037
droGri1.xenoRefGene.LENGTH0.2630.0020.265
droMoj1.geneid.LENGTH0.1170.0010.119
droMoj1.genscan.LENGTH0.0530.0000.053
droMoj1.xenoRefGene.LENGTH0.2080.0050.212
droMoj2.genscan.LENGTH0.0350.0000.035
droMoj2.xenoRefGene.LENGTH0.2520.0020.255
droPer1.genscan.LENGTH0.0360.0020.039
droPer1.xenoRefGene.LENGTH0.2660.0010.268
droSec1.genscan.LENGTH0.0270.0000.028
droSec1.xenoRefGene.LENGTH0.2730.0000.273
droSim1.geneid.LENGTH0.0340.0010.035
droSim1.genscan.LENGTH0.0230.0000.024
droSim1.xenoRefGene.LENGTH0.3400.0090.349
droVir1.geneid.LENGTH0.0960.0010.097
droVir1.genscan.LENGTH0.0400.0000.039
droVir1.xenoRefGene.LENGTH0.2200.0010.221
droVir2.genscan.LENGTH0.0330.0010.034
droVir2.xenoRefGene.LENGTH0.2530.0000.252
droYak1.geneid.LENGTH0.0420.0000.041
droYak1.genscan.LENGTH0.0270.0010.027
droYak1.xenoRefGene.LENGTH0.2110.0000.211
droYak2.genscan.LENGTH0.0240.0020.025
droYak2.xenoRefGene.LENGTH0.2550.0000.254
equCab1.geneSymbol.LENGTH0.0050.0000.005
equCab1.geneid.LENGTH0.0820.0010.083
equCab1.nscanGene.LENGTH0.0390.0000.038
equCab1.refGene.LENGTH0.0040.0010.004
equCab1.sgpGene.LENGTH0.0660.0000.066
equCab2.ensGene.LENGTH0.0950.0000.095
equCab2.geneSymbol.LENGTH0.0070.0000.006
equCab2.nscanGene.LENGTH0.0460.0020.048
equCab2.refGene.LENGTH0.0050.0010.006
equCab2.xenoRefGene.LENGTH0.5580.0070.565
felCat3.ensGene.LENGTH0.0980.0010.099
felCat3.geneSymbol.LENGTH0.0030.0010.003
felCat3.geneid.LENGTH0.5070.0010.508
felCat3.genscan.LENGTH0.1120.0010.114
felCat3.nscanGene.LENGTH0.2610.0020.263
felCat3.refGene.LENGTH0.0040.0000.003
felCat3.sgpGene.LENGTH0.1410.0010.142
felCat3.xenoRefGene.LENGTH1.0750.0051.080
fr1.ensGene.LENGTH0.0740.0000.075
fr1.genscan.LENGTH0.0560.0010.057
fr2.ensGene.LENGTH0.6050.0110.617
galGal2.ensGene.LENGTH0.0510.0010.052
galGal2.geneSymbol.LENGTH0.0140.0010.015
galGal2.geneid.LENGTH0.0350.0000.034
galGal2.genscan.LENGTH0.0450.0010.046
galGal2.refGene.LENGTH0.0140.0000.014
galGal2.sgpGene.LENGTH0.0400.0010.041
galGal3.ensGene.LENGTH0.0660.0000.066
galGal3.geneSymbol.LENGTH0.0130.0010.015
galGal3.genscan.LENGTH0.0450.0000.046
galGal3.nscanGene.LENGTH0.0640.0010.065
galGal3.refGene.LENGTH0.0130.0010.014
galGal3.xenoRefGene.LENGTH0.4270.0000.426
gasAcu1.ensGene.LENGTH0.0790.0010.079
gasAcu1.nscanGene.LENGTH0.080.000.08
hg16.acembly.LENGTH0.3180.0010.319
hg16.ensGene.LENGTH0.0620.0010.063
hg16.exoniphy.LENGTH0.2150.0000.214
hg16.geneSymbol.LENGTH0.0940.0000.094
hg16.geneid.LENGTH0.0450.0000.044
hg16.genscan.LENGTH0.0570.0000.057
hg16.knownGene.LENGTH0.1070.0020.109
hg16.refGene.LENGTH0.0880.0010.089
hg16.sgpGene.LENGTH0.0530.0000.053
hg17.acembly.LENGTH0.3790.0000.378
hg17.acescan.LENGTH0.0080.0020.010
hg17.ccdsGene.LENGTH0.0210.0010.021
hg17.ensGene.LENGTH0.0990.0000.098
hg17.exoniphy.LENGTH0.3620.0000.362
hg17.geneSymbol.LENGTH0.0930.0000.093
hg17.geneid.LENGTH0.0700.0010.071
hg17.genscan.LENGTH0.0550.0000.054
hg17.knownGene.LENGTH0.1040.0000.104
hg17.refGene.LENGTH0.0890.0020.091
hg17.sgpGene.LENGTH0.0660.0010.068
hg17.vegaGene.LENGTH0.0380.0010.039
hg17.vegaPseudoGene.LENGTH0.0160.0010.017
hg17.xenoRefGene.LENGTH0.4280.0010.429
hg18.acembly.LENGTH0.4150.0010.416
hg18.acescan.LENGTH0.0090.0000.009
hg18.ccdsGene.LENGTH0.0310.0000.031
hg18.ensGene.LENGTH0.1770.0010.179
hg18.exoniphy.LENGTH0.4170.0010.418
hg18.geneSymbol.LENGTH0.0960.0010.098
hg18.geneid.LENGTH0.0710.0000.071
hg18.genscan.LENGTH0.0560.0010.058
hg18.knownGene.LENGTH0.1440.0000.145
hg18.knownGeneOld3.LENGTH0.0630.0010.065
hg18.refGene.LENGTH0.0940.0000.094
hg18.sgpGene.LENGTH0.0740.0000.073
hg18.sibGene.LENGTH0.6950.0080.703
hg18.xenoRefGene.LENGTH0.3050.0010.307
hg19.ccdsGene.LENGTH0.0380.0000.039
hg19.ensGene.LENGTH0.2730.0000.273
hg19.exoniphy.LENGTH0.4090.0010.409
hg19.geneSymbol.LENGTH0.0960.0010.097
hg19.knownGene.LENGTH0.1720.0000.172
hg19.nscanGene.LENGTH0.1440.0000.144
hg19.refGene.LENGTH0.0930.0000.093
hg19.xenoRefGene.LENGTH0.3400.0020.343
loxAfr3.xenoRefGene.LENGTH0.7390.0050.744
mm7.ensGene.LENGTH0.1060.0000.106
mm7.geneSymbol.LENGTH0.0840.0000.085
mm7.geneid.LENGTH0.0750.0020.078
mm7.genscan.LENGTH0.0610.0020.063
mm7.knownGene.LENGTH0.0910.0000.090
mm7.refGene.LENGTH0.0860.0000.085
mm7.sgpGene.LENGTH0.0770.0000.077
mm7.xenoRefGene.LENGTH0.2860.0030.289
mm8.ccdsGene.LENGTH0.0220.0000.022
mm8.ensGene.LENGTH0.0730.0020.075
mm8.geneSymbol.LENGTH0.0850.0010.086
mm8.geneid.LENGTH0.0750.0010.076
mm8.genscan.LENGTH0.0600.0010.061
mm8.knownGene.LENGTH0.0900.0020.091
mm8.nscanGene.LENGTH0.0630.0000.063
mm8.refGene.LENGTH0.3210.0000.321
mm8.sgpGene.LENGTH0.0770.0000.077
mm8.sibGene.LENGTH0.2420.0010.244
mm8.xenoRefGene.LENGTH0.3430.0010.345
mm9.acembly.LENGTH0.3130.0000.312
mm9.ccdsGene.LENGTH0.0310.0000.030
mm9.ensGene.LENGTH0.1440.0000.144
mm9.exoniphy.LENGTH0.4170.0010.419
mm9.geneSymbol.LENGTH0.0860.0020.089
mm9.geneid.LENGTH0.0930.0010.094
mm9.genscan.LENGTH0.0880.0010.088
mm9.knownGene.LENGTH0.1090.0000.109
mm9.nscanGene.LENGTH0.0610.0010.063
mm9.refGene.LENGTH0.0860.0000.085
mm9.sgpGene.LENGTH0.0850.0000.084
mm9.xenoRefGene.LENGTH0.7650.0010.766
monDom1.genscan.LENGTH0.0630.0000.063
monDom4.ensGene.LENGTH0.0710.0010.073
monDom4.geneSymbol.LENGTH0.0030.0010.004
monDom4.genscan.LENGTH0.0530.0000.053
monDom4.nscanGene.LENGTH0.0550.0000.055
monDom4.refGene.LENGTH0.0040.0000.003
monDom4.xenoRefGene.LENGTH0.3290.0000.328
monDom5.ensGene.LENGTH0.1090.0000.109
monDom5.geneSymbol.LENGTH0.0020.0010.004
monDom5.genscan.LENGTH0.0540.0010.055
monDom5.nscanGene.LENGTH0.1110.0010.112
monDom5.refGene.LENGTH0.0040.0000.003
monDom5.xenoRefGene.LENGTH0.5710.0000.571
ornAna1.ensGene.LENGTH0.0910.0010.093
ornAna1.geneSymbol.LENGTH0.0020.0010.002
ornAna1.refGene.LENGTH0.0010.0000.002
ornAna1.xenoRefGene.LENGTH0.5660.0030.570
oryLat2.ensGene.LENGTH1.2290.1321.361
oryLat2.geneSymbol.LENGTH0.0020.0010.004
oryLat2.refGene.LENGTH0.0040.0000.003
oryLat2.xenoRefGene.LENGTH0.4610.0000.461
panTro1.ensGene.LENGTH0.0930.0000.092
panTro1.geneid.LENGTH0.0440.0000.044
panTro1.genscan.LENGTH0.0530.0010.054
panTro1.xenoRefGene.LENGTH0.1060.0000.106
panTro2.ensGene.LENGTH0.1020.0000.103
panTro2.geneSymbol.LENGTH0.0920.0010.093
panTro2.genscan.LENGTH0.0540.0000.055
panTro2.nscanGene.LENGTH0.0560.0000.057
panTro2.refGene.LENGTH0.0940.0000.094
panTro2.xenoRefGene.LENGTH0.4790.0000.479
petMar1.xenoRefGene.LENGTH0.2510.0010.253
ponAbe2.ensGene.LENGTH0.0760.0010.077
ponAbe2.geneSymbol.LENGTH0.0120.0000.012
ponAbe2.genscan.LENGTH0.0570.0000.057
ponAbe2.nscanGene.LENGTH0.0560.0000.055
ponAbe2.refGene.LENGTH0.0110.0000.011
ponAbe2.xenoRefGene.LENGTH0.6160.0030.619
priPac1.xenoRefGene.LENGTH0.3470.0010.348
rheMac2.ensGene.LENGTH0.1190.0010.121
rheMac2.geneSymbol.LENGTH0.0040.0000.005
rheMac2.geneid.LENGTH0.0650.0020.067
rheMac2.nscanGene.LENGTH0.0580.0010.059
rheMac2.refGene.LENGTH0.0040.0000.004
rheMac2.sgpGene.LENGTH0.0670.0000.067
rheMac2.xenoRefGene.LENGTH0.4490.0020.451
rn3.ensGene.LENGTH0.0920.0020.094
rn3.geneSymbol.LENGTH0.0500.0010.051
rn3.geneid.LENGTH0.0490.0020.051
rn3.genscan.LENGTH0.0560.0010.058
rn3.knownGene.LENGTH0.0220.0000.022
rn3.nscanGene.LENGTH0.0560.0010.057
rn3.refGene.LENGTH0.0460.0010.047
rn3.sgpGene.LENGTH0.0510.0010.053
rn3.xenoRefGene.LENGTH0.5250.0000.525
rn4.ensGene.LENGTH0.1250.0000.126
rn4.geneSymbol.LENGTH0.0500.0010.052
rn4.geneid.LENGTH0.0810.0000.081
rn4.genscan.LENGTH0.0590.0000.060
rn4.knownGene.LENGTH0.0230.0010.024
rn4.nscanGene.LENGTH0.0520.0000.054
rn4.refGene.LENGTH0.0470.0000.047
rn4.sgpGene.LENGTH0.0740.0010.075
rn4.xenoRefGene.LENGTH0.3310.0030.334
sacCer1.ensGene.LENGTH0.0160.0010.017
sacCer2.ensGene.LENGTH0.0160.0000.015
strPur1.geneSymbol.LENGTH0.0040.0000.004
strPur1.genscan.LENGTH0.0590.0030.063
strPur1.refGene.LENGTH0.0040.0000.004
strPur1.xenoRefGene.LENGTH0.4620.0030.465
strPur2.geneSymbol.LENGTH0.0040.0000.003
strPur2.genscan.LENGTH0.1010.0000.100
strPur2.refGene.LENGTH0.0030.0010.004
strPur2.xenoRefGene.LENGTH0.6580.0040.662
supportedGeneIDs3.1800.0625.250
supportedGenomes0.2360.0010.969
taeGut1.ensGene.LENGTH0.0580.0000.059
taeGut1.geneSymbol.LENGTH0.0020.0000.002
taeGut1.genscan.LENGTH0.0290.0010.030
taeGut1.nscanGene.LENGTH0.0230.0000.023
taeGut1.refGene.LENGTH0.0020.0000.002
taeGut1.xenoRefGene.LENGTH0.4320.0000.432
tetNig1.ensGene.LENGTH0.0830.0010.084
tetNig1.geneid.LENGTH0.0600.0000.061
tetNig1.genscan.LENGTH0.0460.0010.047
tetNig1.nscanGene.LENGTH0.0640.0000.064
tetNig2.ensGene.LENGTH0.0650.0010.066
unfactor0.0030.0000.003
xenTro1.genscan.LENGTH0.0760.0010.077
xenTro2.ensGene.LENGTH0.0840.0000.084
xenTro2.geneSymbol.LENGTH0.0280.0010.029
xenTro2.genscan.LENGTH0.0660.0010.066
xenTro2.refGene.LENGTH0.0270.0000.027