| Back to Rapid builds (Linux only) of a subset of BioC 3.22 Report updated every 6 hours |
This page was generated on 2025-06-17 22:14 -0400 (Tue, 17 Jun 2025).
| Hostname | OS | Arch (*) | R version | Installed pkgs |
|---|---|---|---|---|
| teran2 | Linux (Ubuntu 24.04.1 LTS) | x86_64 | 4.5.0 (2025-04-11) -- "How About a Twenty-Six" | 886 |
| Click on any hostname to see more info about the system (e.g. compilers) (*) as reported by 'uname -p', except on Windows and Mac OS X | ||||
| Package 11/221 | Hostname | OS / Arch | INSTALL | BUILD | CHECK | |||||||
| annotate 1.87.0 (landing page) Bioconductor Package Maintainer
| teran2 | Linux (Ubuntu 24.04.1 LTS) / x86_64 | OK | OK | OK | |||||||
|
To the developers/maintainers of the annotate package: - Use the following Renviron settings to reproduce errors and warnings. - If 'R CMD check' started to fail recently on the Linux builder(s) over a missing dependency, add the missing dependency to 'Suggests:' in your DESCRIPTION file. See Renviron.bioc for more information. |
| Package: annotate |
| Version: 1.87.0 |
| Command: /home/rapidbuild/bbs-3.22-bioc-rapid/R/bin/R CMD check --install=check:annotate.install-out.txt --library=/home/rapidbuild/bbs-3.22-bioc-rapid/R/site-library --timings annotate_1.87.0.tar.gz |
| StartedAt: 2025-06-17 19:51:58 -0400 (Tue, 17 Jun 2025) |
| EndedAt: 2025-06-17 19:55:30 -0400 (Tue, 17 Jun 2025) |
| EllapsedTime: 212.0 seconds |
| RetCode: 0 |
| Status: OK |
| CheckDir: annotate.Rcheck |
| Warnings: 0 |
##############################################################################
##############################################################################
###
### Running command:
###
### /home/rapidbuild/bbs-3.22-bioc-rapid/R/bin/R CMD check --install=check:annotate.install-out.txt --library=/home/rapidbuild/bbs-3.22-bioc-rapid/R/site-library --timings annotate_1.87.0.tar.gz
###
##############################################################################
##############################################################################
* using log directory ‘/media/volume/teran2_disk/rapidbuild/bbs-3.22-bioc-rapid/meat/annotate.Rcheck’
* using R version 4.5.0 (2025-04-11)
* using platform: x86_64-pc-linux-gnu
* R was compiled by
gcc (Ubuntu 13.3.0-6ubuntu2~24.04) 13.3.0
GNU Fortran (Ubuntu 13.3.0-6ubuntu2~24.04) 13.3.0
* running under: Ubuntu 24.04.2 LTS
* using session charset: UTF-8
* checking for file ‘annotate/DESCRIPTION’ ... OK
* this is package ‘annotate’ version ‘1.87.0’
* checking package namespace information ... OK
* checking package dependencies ... OK
* checking if this is a source package ... OK
* checking if there is a namespace ... OK
* checking for hidden files and directories ... OK
* checking for portable file names ... OK
* checking for sufficient/correct file permissions ... OK
* checking whether package ‘annotate’ can be installed ... OK
* checking installed package size ... OK
* checking package directory ... OK
* checking ‘build’ directory ... OK
* checking DESCRIPTION meta-information ... OK
* checking top-level files ... OK
* checking for left-over files ... OK
* checking index information ... OK
* checking package subdirectories ... OK
* checking code files for non-ASCII characters ... OK
* checking R files for syntax errors ... OK
* checking whether the package can be loaded ... OK
* checking whether the package can be loaded with stated dependencies ... OK
* checking whether the package can be unloaded cleanly ... OK
* checking whether the namespace can be loaded with stated dependencies ... OK
* checking whether the namespace can be unloaded cleanly ... OK
* checking loading without being on the library search path ... OK
* checking whether startup messages can be suppressed ... OK
* checking dependencies in R code ... NOTE
Unexported object imported by a ':::' call: ‘BiocGenerics:::testPackage’
See the note in ?`:::` about the use of this operator.
* checking S3 generic/method consistency ... OK
* checking replacement functions ... OK
* checking foreign function calls ... OK
* checking R code for possible problems ... OK
* checking Rd files ... NOTE
checkRd: (-1) chrCats.Rd:13: Escaped LaTeX specials: \_
checkRd: (-1) chrCats.Rd:14: Escaped LaTeX specials: \_
checkRd: (-1) chrCats.Rd:47: Escaped LaTeX specials: \_
checkRd: (-1) chrCats.Rd:53: Escaped LaTeX specials: \_
checkRd: (-1) chrCats.Rd:60: Escaped LaTeX specials: \_
checkRd: (-1) chrCats.Rd:69: Escaped LaTeX specials: \_ \_
checkRd: (-1) chrCats.Rd:77: Escaped LaTeX specials: \_
checkRd: (-1) htmlpage.Rd:56: Escaped LaTeX specials: \_
checkRd: (-1) htmlpage.Rd:57: Escaped LaTeX specials: \_
* checking Rd metadata ... OK
* checking Rd cross-references ... NOTE
Non-topic package-anchored link(s) in Rd file 'pmid2MIAME.Rd':
‘[Biobase:class.MIAME]{MIAME}’
See section 'Cross-references' in the 'Writing R Extensions' manual.
* checking for missing documentation entries ... OK
* checking for code/documentation mismatches ... OK
* checking Rd \usage sections ... OK
* checking Rd contents ... OK
* checking for unstated dependencies in examples ... OK
* checking contents of ‘data’ directory ... OK
* checking data for non-ASCII characters ... OK
* checking data for ASCII and uncompressed saves ... OK
* checking files in ‘vignettes’ ... OK
* checking examples ... OK
Examples with CPU (user + system) or elapsed time > 5s
user system elapsed
chrCats 6.698 0.065 6.999
blastSequences 0.163 0.003 31.967
* checking for unstated dependencies in ‘tests’ ... OK
* checking tests ...
Running ‘annotate_unit_tests.R’
OK
* checking for unstated dependencies in vignettes ... OK
* checking package vignettes ... OK
* checking re-building of vignette outputs ... OK
* checking PDF version of manual ... OK
* DONE
Status: 3 NOTEs
See
‘/media/volume/teran2_disk/rapidbuild/bbs-3.22-bioc-rapid/meat/annotate.Rcheck/00check.log’
for details.
annotate.Rcheck/00install.out
############################################################################## ############################################################################## ### ### Running command: ### ### /home/rapidbuild/bbs-3.22-bioc-rapid/R/bin/R CMD INSTALL annotate ### ############################################################################## ############################################################################## * installing to library ‘/media/volume/teran2_disk/rapidbuild/bbs-3.22-bioc-rapid/R/site-library’ * installing *source* package ‘annotate’ ... ** this is package ‘annotate’ version ‘1.87.0’ ** using staged installation ** R ** data ** inst ** byte-compile and prepare package for lazy loading ** help *** installing help indices ** building package indices ** installing vignettes ** testing if installed package can be loaded from temporary location ** testing if installed package can be loaded from final location ** testing if installed package keeps a record of temporary installation path * DONE (annotate)
annotate.Rcheck/tests/annotate_unit_tests.Rout
R version 4.5.0 (2025-04-11) -- "How About a Twenty-Six"
Copyright (C) 2025 The R Foundation for Statistical Computing
Platform: x86_64-pc-linux-gnu
R is free software and comes with ABSOLUTELY NO WARRANTY.
You are welcome to redistribute it under certain conditions.
Type 'license()' or 'licence()' for distribution details.
R is a collaborative project with many contributors.
Type 'contributors()' for more information and
'citation()' on how to cite R or R packages in publications.
Type 'demo()' for some demos, 'help()' for on-line help, or
'help.start()' for an HTML browser interface to help.
Type 'q()' to quit R.
> BiocGenerics:::testPackage("annotate")
Attaching package: 'generics'
The following objects are masked from 'package:base':
as.difftime, as.factor, as.ordered, intersect, is.element, setdiff,
setequal, union
Attaching package: 'BiocGenerics'
The following objects are masked from 'package:stats':
IQR, mad, sd, var, xtabs
The following objects are masked from 'package:base':
Filter, Find, Map, Position, Reduce, anyDuplicated, aperm, append,
as.data.frame, basename, cbind, colnames, dirname, do.call,
duplicated, eval, evalq, get, grep, grepl, is.unsorted, lapply,
mapply, match, mget, order, paste, pmax, pmax.int, pmin, pmin.int,
rank, rbind, rownames, sapply, saveRDS, table, tapply, unique,
unsplit, which.max, which.min
Welcome to Bioconductor
Vignettes contain introductory material; view with
'browseVignettes()'. To cite Bioconductor, see
'citation("Biobase")', and for packages 'citation("pkgname")'.
Attaching package: 'S4Vectors'
The following object is masked from 'package:utils':
findMatches
The following objects are masked from 'package:base':
I, expand.grid, unname
Loading required package: org.Hs.eg.db
'select()' returned 1:many mapping between keys and columns
RUNIT TEST PROTOCOL -- Tue Jun 17 19:54:18 2025
***********************************************
Number of test functions: 1
Number of errors: 0
Number of failures: 0
1 Test Suite :
annotate RUnit Tests - 1 test function, 0 errors, 0 failures
Number of test functions: 1
Number of errors: 0
Number of failures: 0
>
> proc.time()
user system elapsed
6.340 0.538 7.365
annotate.Rcheck/annotate-Ex.timings
| name | user | system | elapsed | |
| ACCNUMStats | 0.964 | 0.049 | 1.013 | |
| GO2heatmap | 0.091 | 0.007 | 0.098 | |
| GOmnplot | 0.033 | 0.001 | 0.042 | |
| HTMLPage-class | 0 | 0 | 0 | |
| LL2homology | 0.000 | 0.000 | 0.001 | |
| PMIDAmat | 0.057 | 0.003 | 0.103 | |
| PWAmat | 0.974 | 0.034 | 1.026 | |
| UniGeneQuery | 0.002 | 0.000 | 0.002 | |
| accessionToUID | 0.293 | 0.009 | 1.817 | |
| annPkgName | 0.000 | 0.001 | 0.000 | |
| aqListGOIDs | 0.083 | 0.009 | 0.195 | |
| blastSequences | 0.163 | 0.003 | 31.967 | |
| buildChromLocation | 0.469 | 0.017 | 0.706 | |
| buildPubMedAbst | 0.052 | 0.000 | 0.484 | |
| chrCats | 6.698 | 0.065 | 6.999 | |
| chromLocation-class | 0.401 | 0.025 | 0.427 | |
| compatibleVersions | 0.016 | 0.002 | 0.019 | |
| dropECode | 0.023 | 0.000 | 0.041 | |
| entrezGeneByID | 0.000 | 0.000 | 0.001 | |
| entrezGeneQuery | 0.001 | 0.000 | 0.001 | |
| filterGOByOntology | 0.030 | 0.002 | 0.038 | |
| findNeighbors | 0.013 | 0.001 | 0.023 | |
| genbank | 0.135 | 0.002 | 0.664 | |
| getAnnMap | 0.015 | 0.000 | 0.017 | |
| getEvidence | 0.029 | 0.000 | 0.044 | |
| getGOTerm | 0.104 | 0.003 | 0.144 | |
| getOntology | 0.039 | 0.000 | 0.039 | |
| getPMInfo | 0.221 | 0.000 | 0.534 | |
| getSYMBOL | 0.066 | 0.006 | 0.122 | |
| getSeq4Acc | 0.033 | 0.000 | 0.308 | |
| hasGOannote | 0.015 | 0.000 | 0.027 | |
| hgByChroms | 0.014 | 0.000 | 0.019 | |
| hgCLengths | 0.000 | 0.001 | 0.001 | |
| hgu95Achroloc | 0.040 | 0.003 | 0.068 | |
| hgu95Achrom | 0.029 | 0.003 | 0.042 | |
| hgu95All | 0.033 | 0.002 | 0.036 | |
| hgu95Asym | 0.044 | 0.004 | 0.049 | |
| homoData-class | 0.002 | 0.000 | 0.002 | |
| htmlpage | 0.011 | 0.000 | 0.012 | |
| isValidkey | 0.001 | 0.000 | 0.000 | |
| makeAnchor | 0.000 | 0.000 | 0.001 | |
| organism | 0.401 | 0.002 | 0.404 | |
| p2LL | 0 | 0 | 0 | |
| pm.abstGrep | 0.610 | 0.014 | 1.341 | |
| pm.getabst | 0.658 | 0.024 | 1.488 | |
| pm.titles | 0.628 | 0.009 | 1.489 | |
| pmAbst2HTML | 0.051 | 0.000 | 0.350 | |
| pmid2MIAME | 0 | 0 | 0 | |
| pmidQuery | 0 | 0 | 0 | |
| pubMedAbst-class | 0.122 | 0.000 | 0.595 | |
| pubmed | 0.042 | 0.002 | 0.472 | |
| readGEOAnn | 0 | 0 | 0 | |
| serializeEnv | 0.000 | 0.001 | 0.001 | |
| setRepository | 0.000 | 0.001 | 0.000 | |
| updateSymbolsToValidKeys | 0 | 0 | 0 | |
| usedChromGenes | 0.063 | 0.005 | 0.108 | |