| Back to Multiple platform build/check report for BioC 3.22: simplified long |
|
This page was generated on 2025-10-24 12:04 -0400 (Fri, 24 Oct 2025).
| Hostname | OS | Arch (*) | R version | Installed pkgs |
|---|---|---|---|---|
| nebbiolo2 | Linux (Ubuntu 24.04.3 LTS) | x86_64 | 4.5.1 Patched (2025-08-23 r88802) -- "Great Square Root" | 4898 |
| lconway | macOS 12.7.6 Monterey | x86_64 | 4.5.1 Patched (2025-09-10 r88807) -- "Great Square Root" | 4688 |
| kjohnson3 | macOS 13.7.7 Ventura | arm64 | 4.5.1 Patched (2025-09-10 r88807) -- "Great Square Root" | 4634 |
| taishan | Linux (openEuler 24.03 LTS) | aarch64 | 4.5.0 (2025-04-11) -- "How About a Twenty-Six" | 4658 |
| Click on any hostname to see more info about the system (e.g. compilers) (*) as reported by 'uname -p', except on Windows and Mac OS X | ||||
| Package 2328/2359 | Hostname | OS / Arch | INSTALL | BUILD | CHECK | BUILD BIN | ||||||||
| waddR 1.23.0 (landing page) Julian Flesch
| nebbiolo2 | Linux (Ubuntu 24.04.3 LTS) / x86_64 | OK | OK | OK | |||||||||
| lconway | macOS 12.7.6 Monterey / x86_64 | OK | ERROR | skipped | skipped | |||||||||
| kjohnson3 | macOS 13.7.7 Ventura / arm64 | OK | ERROR | skipped | skipped | |||||||||
| taishan | Linux (openEuler 24.03 LTS) / aarch64 | OK | OK | NA | ||||||||||
|
To the developers/maintainers of the waddR package: - Allow up to 24 hours (and sometimes 48 hours) for your latest push to git@git.bioconductor.org:packages/waddR.git to reflect on this report. See Troubleshooting Build Report for more information. - Use the following Renviron settings to reproduce errors and warnings. - If 'R CMD check' started to fail recently on the Linux builder(s) over a missing dependency, add the missing dependency to 'Suggests:' in your DESCRIPTION file. See Renviron.bioc for more information. |
| Package: waddR |
| Version: 1.23.0 |
| Command: /home/biocbuild/bbs-3.22-bioc/R/bin/R CMD INSTALL waddR |
| StartedAt: 2025-10-23 15:22:31 -0400 (Thu, 23 Oct 2025) |
| EndedAt: 2025-10-23 15:23:16 -0400 (Thu, 23 Oct 2025) |
| EllapsedTime: 44.7 seconds |
| RetCode: 0 |
| Status: OK |
##############################################################################
##############################################################################
###
### Running command:
###
### /home/biocbuild/bbs-3.22-bioc/R/bin/R CMD INSTALL waddR
###
##############################################################################
##############################################################################
* installing to library ‘/home/biocbuild/bbs-3.22-bioc/R/site-library’
* installing *source* package ‘waddR’ ...
** this is package ‘waddR’ version ‘1.23.0’
** using staged installation
** libs
using C++ compiler: ‘g++ (Ubuntu 13.3.0-6ubuntu2~24.04) 13.3.0’
using C++11
g++ -std=gnu++11 -I"/home/biocbuild/bbs-3.22-bioc/R/include" -DNDEBUG -I'/home/biocbuild/bbs-3.22-bioc/R/site-library/Rcpp/include' -I'/home/biocbuild/bbs-3.22-bioc/R/site-library/RcppArmadillo/include' -I/usr/local/include -fpic -g -O2 -Wall -Werror=format-security -c RcppExports.cpp -o RcppExports.o
In file included from /home/biocbuild/bbs-3.22-bioc/R/site-library/RcppArmadillo/include/RcppArmadillo.h:29,
from RcppExports.cpp:4:
/home/biocbuild/bbs-3.22-bioc/R/site-library/RcppArmadillo/include/RcppArmadillo/version/arma.h:66:199: note: ‘#pragma message: Using fallback compilation with Armadillo 14.6.3. Please consider defining -DARMA_USE_CURRENT and also removing C++11 compilation directive. See GitHub issue #475 for more.’
66 | #pragma message("Using fallback compilation with Armadillo 14.6.3. Please consider defining -DARMA_USE_CURRENT and also removing C++11 compilation directive. See GitHub issue #475 for more.")
| ^
g++ -std=gnu++11 -I"/home/biocbuild/bbs-3.22-bioc/R/include" -DNDEBUG -I'/home/biocbuild/bbs-3.22-bioc/R/site-library/Rcpp/include' -I'/home/biocbuild/bbs-3.22-bioc/R/site-library/RcppArmadillo/include' -I/usr/local/include -fpic -g -O2 -Wall -Werror=format-security -c wasserstein.cpp -o wasserstein.o
In file included from /home/biocbuild/bbs-3.22-bioc/R/site-library/RcppArmadillo/include/RcppArmadillo.h:29,
from wasserstein.cpp:6:
/home/biocbuild/bbs-3.22-bioc/R/site-library/RcppArmadillo/include/RcppArmadillo/version/arma.h:66:199: note: ‘#pragma message: Using fallback compilation with Armadillo 14.6.3. Please consider defining -DARMA_USE_CURRENT and also removing C++11 compilation directive. See GitHub issue #475 for more.’
66 | #pragma message("Using fallback compilation with Armadillo 14.6.3. Please consider defining -DARMA_USE_CURRENT and also removing C++11 compilation directive. See GitHub issue #475 for more.")
| ^
wasserstein.cpp: In function ‘std::vector<double> rep_weighted(std::vector<double>, std::vector<int, std::allocator<int> >)’:
wasserstein.cpp:348:23: warning: comparison of integer expressions of different signedness: ‘int’ and ‘std::vector<double>::size_type’ {aka ‘long unsigned int’} [-Wsign-compare]
348 | for(int i=0; i<x.size(); i++) {
| ~^~~~~~~~~
wasserstein.cpp: In function ‘std::vector<double> concat(std::vector<double>&, std::vector<double>&)’:
wasserstein.cpp:386:34: warning: variable ‘out_it_end’ set but not used [-Wunused-but-set-variable]
386 | vector<double>::iterator out_it_end = out.end();
| ^~~~~~~~~~
wasserstein.cpp: In function ‘std::vector<int, std::allocator<int> > interval_table(const std::vector<double>&, const std::vector<double>&, int)’:
wasserstein.cpp:584:39: warning: comparison of integer expressions of different signedness: ‘int’ and ‘std::vector<double>::size_type’ {aka ‘long unsigned int’} [-Wsign-compare]
584 | while (data_i < datavec.size()) {
| ~~~~~~~^~~~~~~~~~~~~~~~
wasserstein.cpp: In function ‘double cor_test_export(Rcpp::NumericVector, Rcpp::NumericVector)’:
wasserstein.cpp:1088:24: warning: comparison of integer expressions of different signedness: ‘int’ and ‘std::vector<double>::size_type’ {aka ‘long unsigned int’} [-Wsign-compare]
1088 | for (int i=0; i<x.size(); i++) { x[i] = x_[i];}
| ~^~~~~~~~~
wasserstein.cpp:1089:24: warning: comparison of integer expressions of different signedness: ‘int’ and ‘std::vector<double>::size_type’ {aka ‘long unsigned int’} [-Wsign-compare]
1089 | for (int j=0; j<y.size(); j++) { y[j] = y_[j];}
| ~^~~~~~~~~
wasserstein.cpp: In instantiation of ‘double cor(const std::vector<T>&, const std::vector<T>&, double, double) [with T = double]’:
wasserstein.cpp:716:24: required from here
wasserstein.cpp:439:24: warning: comparison of integer expressions of different signedness: ‘int’ and ‘std::vector<double>::size_type’ {aka ‘long unsigned int’} [-Wsign-compare]
439 | for (int i=0; i<x.size(); i++){
| ~^~~~~~~~~
wasserstein.cpp: In instantiation of ‘std::vector<T> operator-(const std::vector<T>&, const std::vector<T>&) [with T = double]’:
wasserstein.cpp:778:44: required from here
wasserstein.cpp:121:20: warning: comparison of integer expressions of different signedness: ‘int’ and ‘std::vector<double>::size_type’ {aka ‘long unsigned int’} [-Wsign-compare]
121 | for (int i=0; i<x.size(); i++) {
| ~^~~~~~~~~
wasserstein.cpp: In instantiation of ‘std::vector<T> cumSum(const std::vector<T>&, int) [with T = double]’:
wasserstein.cpp:884:14: required from here
wasserstein.cpp:472:54: warning: comparison of integer expressions of different signedness: ‘const int’ and ‘std::vector<double>::size_type’ {aka ‘long unsigned int’} [-Wsign-compare]
472 | int upper = ((last_index > 0) && (last_index <= x.size())
| ~~~~~~~~~~~~^~~~~~~~~~~~
wasserstein.cpp: In instantiation of ‘std::vector<T> operator*(const std::vector<T>&, const std::vector<T>&) [with T = double]’:
wasserstein.cpp:912:62: required from here
wasserstein.cpp:101:20: warning: comparison of integer expressions of different signedness: ‘int’ and ‘std::vector<double>::size_type’ {aka ‘long unsigned int’} [-Wsign-compare]
101 | for (int i=0; i<x.size(); i++) {
| ~^~~~~~~~~
wasserstein.cpp: In instantiation of ‘std::vector<T> operator+(std::vector<T>, std::vector<T>) [with T = double]’:
wasserstein.cpp:933:15: required from here
wasserstein.cpp:53:32: warning: comparison of integer expressions of different signedness: ‘int’ and ‘std::vector<double>::size_type’ {aka ‘long unsigned int’} [-Wsign-compare]
53 | for (int i=0; i<x.size(); i++) {
| ~^~~~~~~~~
wasserstein.cpp: In instantiation of ‘std::vector<T> operator/(const std::vector<T>&, const std::vector<T>&) [with T = double]’:
wasserstein.cpp:1046:15: required from here
wasserstein.cpp:169:20: warning: comparison of integer expressions of different signedness: ‘int’ and ‘std::vector<double>::size_type’ {aka ‘long unsigned int’} [-Wsign-compare]
169 | for (int i=0; i<x.size(); i++) {
| ~^~~~~~~~~
wasserstein.cpp: In instantiation of ‘std::vector<T> quantile(const std::vector<T>&, std::vector<double>, int) [with T = double]’:
wasserstein.cpp:1162:16: required from here
wasserstein.cpp:501:11: warning: unused variable ‘max_x’ [-Wunused-variable]
501 | T max_x = x_sorted[n-1];
| ^~~~~
g++ -std=gnu++11 -shared -L/home/biocbuild/bbs-3.22-bioc/R/lib -L/usr/local/lib -o waddR.so RcppExports.o wasserstein.o -L/home/biocbuild/bbs-3.22-bioc/R/lib -lR
installing to /home/biocbuild/bbs-3.22-bioc/R/site-library/00LOCK-waddR/00new/waddR/libs
** R
** inst
** byte-compile and prepare package for lazy loading
** help
*** installing help indices
** building package indices
** installing vignettes
** testing if installed package can be loaded from temporary location
** checking absolute paths in shared objects and dynamic libraries
** testing if installed package can be loaded from final location
** testing if installed package keeps a record of temporary installation path
* DONE (waddR)