| Back to Multiple platform build/check report for BioC 3.22: simplified long |
|
This page was generated on 2025-10-24 12:04 -0400 (Fri, 24 Oct 2025).
| Hostname | OS | Arch (*) | R version | Installed pkgs |
|---|---|---|---|---|
| nebbiolo2 | Linux (Ubuntu 24.04.3 LTS) | x86_64 | 4.5.1 Patched (2025-08-23 r88802) -- "Great Square Root" | 4898 |
| lconway | macOS 12.7.6 Monterey | x86_64 | 4.5.1 Patched (2025-09-10 r88807) -- "Great Square Root" | 4688 |
| kjohnson3 | macOS 13.7.7 Ventura | arm64 | 4.5.1 Patched (2025-09-10 r88807) -- "Great Square Root" | 4634 |
| taishan | Linux (openEuler 24.03 LTS) | aarch64 | 4.5.0 (2025-04-11) -- "How About a Twenty-Six" | 4658 |
| Click on any hostname to see more info about the system (e.g. compilers) (*) as reported by 'uname -p', except on Windows and Mac OS X | ||||
| Package 2324/2359 | Hostname | OS / Arch | INSTALL | BUILD | CHECK | BUILD BIN | ||||||||
| vsclust 1.11.2 (landing page) Veit Schwammle
| nebbiolo2 | Linux (Ubuntu 24.04.3 LTS) / x86_64 | OK | OK | OK | |||||||||
| lconway | macOS 12.7.6 Monterey / x86_64 | OK | OK | OK | OK | |||||||||
| kjohnson3 | macOS 13.7.7 Ventura / arm64 | OK | OK | OK | OK | |||||||||
| taishan | Linux (openEuler 24.03 LTS) / aarch64 | OK | OK | NA | ||||||||||
|
To the developers/maintainers of the vsclust package: - Allow up to 24 hours (and sometimes 48 hours) for your latest push to git@git.bioconductor.org:packages/vsclust.git to reflect on this report. See Troubleshooting Build Report for more information. - Use the following Renviron settings to reproduce errors and warnings. - If 'R CMD check' started to fail recently on the Linux builder(s) over a missing dependency, add the missing dependency to 'Suggests:' in your DESCRIPTION file. See Renviron.bioc for more information. |
| Package: vsclust |
| Version: 1.11.2 |
| Command: /home/biocbuild/bbs-3.22-bioc/R/bin/R CMD check --install=check:vsclust.install-out.txt --library=/home/biocbuild/bbs-3.22-bioc/R/site-library --timings vsclust_1.11.2.tar.gz |
| StartedAt: 2025-10-24 05:08:35 -0400 (Fri, 24 Oct 2025) |
| EndedAt: 2025-10-24 05:18:59 -0400 (Fri, 24 Oct 2025) |
| EllapsedTime: 623.6 seconds |
| RetCode: 0 |
| Status: OK |
| CheckDir: vsclust.Rcheck |
| Warnings: 0 |
##############################################################################
##############################################################################
###
### Running command:
###
### /home/biocbuild/bbs-3.22-bioc/R/bin/R CMD check --install=check:vsclust.install-out.txt --library=/home/biocbuild/bbs-3.22-bioc/R/site-library --timings vsclust_1.11.2.tar.gz
###
##############################################################################
##############################################################################
* using log directory ‘/home/biocbuild/bbs-3.22-bioc/meat/vsclust.Rcheck’
* using R version 4.5.1 Patched (2025-08-23 r88802)
* using platform: x86_64-pc-linux-gnu
* R was compiled by
gcc (Ubuntu 13.3.0-6ubuntu2~24.04) 13.3.0
GNU Fortran (Ubuntu 13.3.0-6ubuntu2~24.04) 13.3.0
* running under: Ubuntu 24.04.3 LTS
* using session charset: UTF-8
* checking for file ‘vsclust/DESCRIPTION’ ... OK
* checking extension type ... Package
* this is package ‘vsclust’ version ‘1.11.2’
* package encoding: UTF-8
* checking package namespace information ... OK
* checking package dependencies ... OK
* checking if this is a source package ... OK
* checking if there is a namespace ... OK
* checking for hidden files and directories ... OK
* checking for portable file names ... OK
* checking for sufficient/correct file permissions ... OK
* checking whether package ‘vsclust’ can be installed ... OK
* used C++ compiler: ‘g++ (Ubuntu 13.3.0-6ubuntu2~24.04) 13.3.0’
* checking installed package size ... OK
* checking package directory ... OK
* checking ‘build’ directory ... OK
* checking DESCRIPTION meta-information ... NOTE
Package listed in more than one of Depends, Imports, Suggests, Enhances:
‘httr’
A package should be listed in only one of these fields.
* checking top-level files ... NOTE
File
LICENSE
is not mentioned in the DESCRIPTION file.
* checking for left-over files ... OK
* checking index information ... OK
* checking package subdirectories ... OK
* checking code files for non-ASCII characters ... OK
* checking R files for syntax errors ... OK
* checking whether the package can be loaded ... OK
* checking whether the package can be loaded with stated dependencies ... OK
* checking whether the package can be unloaded cleanly ... OK
* checking whether the namespace can be loaded with stated dependencies ... OK
* checking whether the namespace can be unloaded cleanly ... OK
* checking loading without being on the library search path ... OK
* checking dependencies in R code ... OK
* checking S3 generic/method consistency ... OK
* checking replacement functions ... OK
* checking foreign function calls ... OK
* checking R code for possible problems ... NOTE
enrichSTRING_API: no visible global function definition for ‘new’
runFuncEnrich: no visible global function definition for ‘new’
Undefined global functions or variables:
new
Consider adding
importFrom("methods", "new")
to your NAMESPACE file (and ensure that your DESCRIPTION Imports field
contains 'methods').
* checking Rd files ... NOTE
prepare_Rd: vsclust-package.Rd:29-31: Dropping empty section \seealso
prepare_Rd: vsclust-package.Rd:32-33: Dropping empty section \examples
* checking Rd metadata ... OK
* checking Rd cross-references ... NOTE
Found the following Rd file(s) with Rd \link{} targets missing package
anchors:
enrichSTRING_API.Rd: clusterProfiler
runFuncEnrich.Rd: compareCluster
Please provide package anchors for all Rd \link{} targets not in the
package itself and the base packages.
* checking for missing documentation entries ... OK
* checking for code/documentation mismatches ... OK
* checking Rd \usage sections ... OK
* checking Rd contents ... OK
* checking for unstated dependencies in examples ... OK
* checking contents of ‘data’ directory ... OK
* checking data for non-ASCII characters ... OK
* checking data for ASCII and uncompressed saves ... OK
* checking line endings in C/C++/Fortran sources/headers ... OK
* checking compiled code ... NOTE
Note: information on .o files is not available
* checking files in ‘vignettes’ ... OK
* checking examples ... OK
Examples with CPU (user + system) or elapsed time > 5s
user system elapsed
calcBHI 4.889 0.078 13.132
estimClust.plot 0.156 0.024 16.539
optimalClustNum 0.127 0.025 16.768
estimClustNum 0.085 0.020 14.692
runClustWrapper 0.049 0.008 11.364
ClustComp 0.021 0.004 11.654
* checking for unstated dependencies in ‘tests’ ... OK
* checking tests ...
Running ‘testthat.R’
OK
* checking for unstated dependencies in vignettes ... OK
* checking package vignettes ... OK
* checking re-building of vignette outputs ... OK
* checking PDF version of manual ... OK
* DONE
Status: 6 NOTEs
See
‘/home/biocbuild/bbs-3.22-bioc/meat/vsclust.Rcheck/00check.log’
for details.
vsclust.Rcheck/00install.out
##############################################################################
##############################################################################
###
### Running command:
###
### /home/biocbuild/bbs-3.22-bioc/R/bin/R CMD INSTALL vsclust
###
##############################################################################
##############################################################################
* installing to library ‘/home/biocbuild/bbs-3.22-bioc/R/site-library’
* installing *source* package ‘vsclust’ ...
** this is package ‘vsclust’ version ‘1.11.2’
** using staged installation
** libs
using C++ compiler: ‘g++ (Ubuntu 13.3.0-6ubuntu2~24.04) 13.3.0’
g++ -std=gnu++17 -I"/home/biocbuild/bbs-3.22-bioc/R/include" -DNDEBUG -I'/home/biocbuild/bbs-3.22-bioc/R/site-library/Rcpp/include' -I/usr/local/include -fpic -g -O2 -Wall -Werror=format-security -c RcppExports.cpp -o RcppExports.o
g++ -std=gnu++17 -I"/home/biocbuild/bbs-3.22-bioc/R/include" -DNDEBUG -I'/home/biocbuild/bbs-3.22-bioc/R/site-library/Rcpp/include' -I/usr/local/include -fpic -g -O2 -Wall -Werror=format-security -c vsclust_algo.cpp -o vsclust_algo.o
vsclust_algo.cpp: In function ‘double c_plusplus_means(const Rcpp::NumericMatrix&, Rcpp::NumericMatrix&, Rcpp::NumericVector&, Rcpp::NumericVector&, int, int, double, int, Rcpp::NumericMatrix&, double, Rcpp::IntegerVector&, double, double)’:
vsclust_algo.cpp:380:7: warning: this ‘if’ clause does not guard... [-Wmisleading-indentation]
380 | if(verbose)
| ^~
vsclust_algo.cpp:383:9: note: ...this statement, but the latter is misleadingly indented as if it were guarded by the ‘if’
383 | ermin = new_fitness;
| ^~~~~
g++ -std=gnu++17 -shared -L/home/biocbuild/bbs-3.22-bioc/R/lib -L/usr/local/lib -o vsclust.so RcppExports.o vsclust_algo.o -L/home/biocbuild/bbs-3.22-bioc/R/lib -lR
installing to /home/biocbuild/bbs-3.22-bioc/R/site-library/00LOCK-vsclust/00new/vsclust/libs
** R
** data
** inst
** byte-compile and prepare package for lazy loading
** help
*** installing help indices
** building package indices
** installing vignettes
** testing if installed package can be loaded from temporary location
** checking absolute paths in shared objects and dynamic libraries
** testing if installed package can be loaded from final location
** testing if installed package keeps a record of temporary installation path
* DONE (vsclust)
vsclust.Rcheck/tests/testthat.Rout
R version 4.5.1 Patched (2025-08-23 r88802) -- "Great Square Root"
Copyright (C) 2025 The R Foundation for Statistical Computing
Platform: x86_64-pc-linux-gnu
R is free software and comes with ABSOLUTELY NO WARRANTY.
You are welcome to redistribute it under certain conditions.
Type 'license()' or 'licence()' for distribution details.
R is a collaborative project with many contributors.
Type 'contributors()' for more information and
'citation()' on how to cite R or R packages in publications.
Type 'demo()' for some demos, 'help()' for on-line help, or
'help.start()' for an HTML browser interface to help.
Type 'q()' to quit R.
> # This file is part of the standard setup for testthat.
> # It is recommended that you do not modify it.
> #
> # Where should you do additional test configuration?
> # Learn more about the roles of various files in:
> # * https://r-pkgs.org/tests.html
> # * https://testthat.r-lib.org/reference/test_package.html#special-files
>
> library(testthat)
> library(vsclust)
>
> test_check("vsclust")
Running cluster number 3
Running cluster number 4
Running cluster number 5
Running cluster number 6
Running cluster number 7
Running cluster number 8
Running cluster number 9
Running cluster number 10
[ FAIL 0 | WARN 0 | SKIP 0 | PASS 6 ]
Warning message:
In for (i in seq_len(ncenters - 1)) { :
closing unused connection 5 (<-localhost:11170)
>
> proc.time()
user system elapsed
11.622 0.766 57.330
vsclust.Rcheck/vsclust-Ex.timings
| name | user | system | elapsed | |
| ClustComp | 0.021 | 0.004 | 11.654 | |
| PrepareForVSClust | 0.047 | 0.001 | 0.048 | |
| PrepareSEForVSClust | 0.286 | 0.001 | 0.287 | |
| SignAnalysis | 0.016 | 0.000 | 0.015 | |
| SignAnalysisPaired | 0.016 | 0.000 | 0.015 | |
| SwitchOrder | 0.008 | 0.000 | 0.008 | |
| averageCond | 0.000 | 0.000 | 0.001 | |
| calcBHI | 4.889 | 0.078 | 13.132 | |
| cvalidate.xiebeni | 0.007 | 0.000 | 0.006 | |
| determine_fuzz | 0.005 | 0.000 | 0.005 | |
| enrichSTRING_API | 0.115 | 0.008 | 1.115 | |
| estimClust.plot | 0.156 | 0.024 | 16.539 | |
| estimClustNum | 0.085 | 0.020 | 14.692 | |
| mfuzz.plot | 0.072 | 0.012 | 0.085 | |
| optimalClustNum | 0.127 | 0.025 | 16.768 | |
| pcaWithVar | 0.011 | 0.000 | 0.011 | |
| runClustWrapper | 0.049 | 0.008 | 11.364 | |
| runFuncEnrich | 0 | 0 | 0 | |
| runVSClustApp | 0 | 0 | 0 | |
| vsclust_algorithm | 0.007 | 0.000 | 0.008 | |