| Back to Multiple platform build/check report for BioC 3.22: simplified long |
|
This page was generated on 2025-10-24 12:04 -0400 (Fri, 24 Oct 2025).
| Hostname | OS | Arch (*) | R version | Installed pkgs |
|---|---|---|---|---|
| nebbiolo2 | Linux (Ubuntu 24.04.3 LTS) | x86_64 | 4.5.1 Patched (2025-08-23 r88802) -- "Great Square Root" | 4898 |
| lconway | macOS 12.7.6 Monterey | x86_64 | 4.5.1 Patched (2025-09-10 r88807) -- "Great Square Root" | 4688 |
| kjohnson3 | macOS 13.7.7 Ventura | arm64 | 4.5.1 Patched (2025-09-10 r88807) -- "Great Square Root" | 4634 |
| taishan | Linux (openEuler 24.03 LTS) | aarch64 | 4.5.0 (2025-04-11) -- "How About a Twenty-Six" | 4658 |
| Click on any hostname to see more info about the system (e.g. compilers) (*) as reported by 'uname -p', except on Windows and Mac OS X | ||||
| Package 2214/2359 | Hostname | OS / Arch | INSTALL | BUILD | CHECK | BUILD BIN | ||||||||
| tidytof 1.3.0 (landing page) Timothy Keyes
| nebbiolo2 | Linux (Ubuntu 24.04.3 LTS) / x86_64 | OK | OK | ERROR | |||||||||
| lconway | macOS 12.7.6 Monterey / x86_64 | OK | OK | ERROR | OK | |||||||||
| kjohnson3 | macOS 13.7.7 Ventura / arm64 | OK | OK | ERROR | OK | |||||||||
| taishan | Linux (openEuler 24.03 LTS) / aarch64 | OK | OK | NA | ||||||||||
|
To the developers/maintainers of the tidytof package: - Allow up to 24 hours (and sometimes 48 hours) for your latest push to git@git.bioconductor.org:packages/tidytof.git to reflect on this report. See Troubleshooting Build Report for more information. - Use the following Renviron settings to reproduce errors and warnings. - If 'R CMD check' started to fail recently on the Linux builder(s) over a missing dependency, add the missing dependency to 'Suggests:' in your DESCRIPTION file. See Renviron.bioc for more information. |
| Package: tidytof |
| Version: 1.3.0 |
| Command: /home/biocbuild/bbs-3.22-bioc/R/bin/R CMD check --install=check:tidytof.install-out.txt --library=/home/biocbuild/bbs-3.22-bioc/R/site-library --timings tidytof_1.3.0.tar.gz |
| StartedAt: 2025-10-24 04:45:38 -0400 (Fri, 24 Oct 2025) |
| EndedAt: 2025-10-24 04:57:46 -0400 (Fri, 24 Oct 2025) |
| EllapsedTime: 727.8 seconds |
| RetCode: 1 |
| Status: ERROR |
| CheckDir: tidytof.Rcheck |
| Warnings: NA |
##############################################################################
##############################################################################
###
### Running command:
###
### /home/biocbuild/bbs-3.22-bioc/R/bin/R CMD check --install=check:tidytof.install-out.txt --library=/home/biocbuild/bbs-3.22-bioc/R/site-library --timings tidytof_1.3.0.tar.gz
###
##############################################################################
##############################################################################
* using log directory ‘/home/biocbuild/bbs-3.22-bioc/meat/tidytof.Rcheck’
* using R version 4.5.1 Patched (2025-08-23 r88802)
* using platform: x86_64-pc-linux-gnu
* R was compiled by
gcc (Ubuntu 13.3.0-6ubuntu2~24.04) 13.3.0
GNU Fortran (Ubuntu 13.3.0-6ubuntu2~24.04) 13.3.0
* running under: Ubuntu 24.04.3 LTS
* using session charset: UTF-8
* checking for file ‘tidytof/DESCRIPTION’ ... OK
* checking extension type ... Package
* this is package ‘tidytof’ version ‘1.3.0’
* package encoding: UTF-8
* checking package namespace information ... OK
* checking package dependencies ... OK
* checking if this is a source package ... OK
* checking if there is a namespace ... OK
* checking for hidden files and directories ... OK
* checking for portable file names ... OK
* checking for sufficient/correct file permissions ... OK
* checking whether package ‘tidytof’ can be installed ... OK
* used C++ compiler: ‘g++ (Ubuntu 13.3.0-6ubuntu2~24.04) 13.3.0’
* checking installed package size ... INFO
installed size is 5.2Mb
sub-directories of 1Mb or more:
help 2.2Mb
libs 1.2Mb
* checking package directory ... OK
* checking ‘build’ directory ... OK
* checking DESCRIPTION meta-information ... OK
* checking top-level files ... OK
* checking for left-over files ... OK
* checking index information ... OK
* checking package subdirectories ... OK
* checking code files for non-ASCII characters ... OK
* checking R files for syntax errors ... OK
* checking whether the package can be loaded ... OK
* checking whether the package can be loaded with stated dependencies ... OK
* checking whether the package can be unloaded cleanly ... OK
* checking whether the namespace can be loaded with stated dependencies ... OK
* checking whether the namespace can be unloaded cleanly ... OK
* checking loading without being on the library search path ... OK
* checking dependencies in R code ... OK
* checking S3 generic/method consistency ... OK
* checking replacement functions ... OK
* checking foreign function calls ... OK
* checking R code for possible problems ... OK
* checking Rd files ... OK
* checking Rd metadata ... OK
* checking Rd cross-references ... OK
* checking for missing documentation entries ... OK
* checking for code/documentation mismatches ... OK
* checking Rd \usage sections ... OK
* checking Rd contents ... OK
* checking for unstated dependencies in examples ... OK
* checking contents of ‘data’ directory ... OK
* checking data for non-ASCII characters ... OK
* checking data for ASCII and uncompressed saves ... OK
* checking R/sysdata.rda ... OK
* checking line endings in C/C++/Fortran sources/headers ... OK
* checking compiled code ... NOTE
Note: information on .o files is not available
* checking files in ‘vignettes’ ... OK
* checking examples ... OK
Examples with CPU (user + system) or elapsed time > 5s
user system elapsed
tof_assess_clusters_knn 7.227 0.103 7.331
* checking for unstated dependencies in ‘tests’ ... OK
* checking tests ...
Running ‘spelling.R’
Running ‘testthat.R’
ERROR
Running the tests in ‘tests/testthat.R’ failed.
Last 13 lines of output:
9. └─yardstick::curve_metric_summarizer(...)
10. └─yardstick:::yardstick_eval_select_dots(..., data = data, error_call = error_call)
11. └─tidyselect::eval_select(...)
12. └─tidyselect:::eval_select_impl(...)
13. ├─tidyselect:::with_subscript_errors(...)
14. │ └─base::withCallingHandlers(...)
15. └─tidyselect:::vars_select_eval(...)
16. └─tidyselect:::ensure_named(...)
17. └─tidyselect:::check_empty(pos, allow_empty, call = call)
18. └─cli::cli_abort("Must select at least one item.", call = call)
19. └─rlang::abort(...)
[ FAIL 2 | WARN 1 | SKIP 0 | PASS 684 ]
Error: Test failures
Execution halted
* checking for unstated dependencies in vignettes ... OK
* checking package vignettes ... OK
* checking re-building of vignette outputs ... OK
* checking PDF version of manual ... OK
* DONE
Status: 1 ERROR, 1 NOTE
See
‘/home/biocbuild/bbs-3.22-bioc/meat/tidytof.Rcheck/00check.log’
for details.
tidytof.Rcheck/00install.out
############################################################################## ############################################################################## ### ### Running command: ### ### /home/biocbuild/bbs-3.22-bioc/R/bin/R CMD INSTALL tidytof ### ############################################################################## ############################################################################## * installing to library ‘/home/biocbuild/bbs-3.22-bioc/R/site-library’ * installing *source* package ‘tidytof’ ... ** this is package ‘tidytof’ version ‘1.3.0’ ** using staged installation ** libs using C++ compiler: ‘g++ (Ubuntu 13.3.0-6ubuntu2~24.04) 13.3.0’ g++ -std=gnu++17 -I"/home/biocbuild/bbs-3.22-bioc/R/include" -DNDEBUG -I'/home/biocbuild/bbs-3.22-bioc/R/site-library/Rcpp/include' -I/usr/local/include -fpic -g -O2 -Wall -Werror=format-security -c RcppExports.cpp -o RcppExports.o g++ -std=gnu++17 -I"/home/biocbuild/bbs-3.22-bioc/R/include" -DNDEBUG -I'/home/biocbuild/bbs-3.22-bioc/R/site-library/Rcpp/include' -I/usr/local/include -fpic -g -O2 -Wall -Werror=format-security -c code.cpp -o code.o g++ -std=gnu++17 -shared -L/home/biocbuild/bbs-3.22-bioc/R/lib -L/usr/local/lib -o tidytof.so RcppExports.o code.o -L/home/biocbuild/bbs-3.22-bioc/R/lib -lR installing to /home/biocbuild/bbs-3.22-bioc/R/site-library/00LOCK-tidytof/00new/tidytof/libs ** R ** data ** inst ** byte-compile and prepare package for lazy loading ** help *** installing help indices *** copying figures ** building package indices ** installing vignettes ** testing if installed package can be loaded from temporary location ** checking absolute paths in shared objects and dynamic libraries ** testing if installed package can be loaded from final location ** testing if installed package keeps a record of temporary installation path * DONE (tidytof)
tidytof.Rcheck/tests/spelling.Rout
R version 4.5.1 Patched (2025-08-23 r88802) -- "Great Square Root"
Copyright (C) 2025 The R Foundation for Statistical Computing
Platform: x86_64-pc-linux-gnu
R is free software and comes with ABSOLUTELY NO WARRANTY.
You are welcome to redistribute it under certain conditions.
Type 'license()' or 'licence()' for distribution details.
R is a collaborative project with many contributors.
Type 'contributors()' for more information and
'citation()' on how to cite R or R packages in publications.
Type 'demo()' for some demos, 'help()' for on-line help, or
'help.start()' for an HTML browser interface to help.
Type 'q()' to quit R.
> if (requireNamespace("spelling", quietly = TRUE)) {
+ spelling::spell_check_test(
+ vignettes = TRUE, error = FALSE,
+ skip_on_cran = TRUE
+ )
+ }
All Done!
>
> proc.time()
user system elapsed
0.144 0.037 0.167
tidytof.Rcheck/tests/testthat.Rout.fail
R version 4.5.1 Patched (2025-08-23 r88802) -- "Great Square Root"
Copyright (C) 2025 The R Foundation for Statistical Computing
Platform: x86_64-pc-linux-gnu
R is free software and comes with ABSOLUTELY NO WARRANTY.
You are welcome to redistribute it under certain conditions.
Type 'license()' or 'licence()' for distribution details.
R is a collaborative project with many contributors.
Type 'contributors()' for more information and
'citation()' on how to cite R or R packages in publications.
Type 'demo()' for some demos, 'help()' for on-line help, or
'help.start()' for an HTML browser interface to help.
Type 'q()' to quit R.
> Sys.setenv(R_TESTS="")
> library(testthat)
> library(tidytof)
Attaching package: 'tidytof'
The following object is masked from 'package:testthat':
matches
> test_check("tidytof")
Attaching package: 'dplyr'
The following object is masked from 'package:testthat':
matches
The following objects are masked from 'package:stats':
filter, lag
The following objects are masked from 'package:base':
intersect, setdiff, setequal, union
Attaching package: 'purrr'
The following object is masked from 'package:testthat':
is_null
Attaching package: 'tidyr'
The following object is masked from 'package:testthat':
matches
Loading required namespace: diffcyt
Attaching package: 'readr'
The following objects are masked from 'package:testthat':
edition_get, local_edition
[ FAIL 2 | WARN 1 | SKIP 0 | PASS 684 ]
══ Failed tests ════════════════════════════════════════════════════════════════
── Error ('test-patient-level_modeling.R:1050:1'): (code run outside of `test_that()`) ──
Error in `yardstick::roc_curve(dplyr::mutate(input_data, truth = dplyr::pull(input_data,
{
{
truth_col
}
})), {
{
prob_cols
}
}, truth = "truth", event_level = "second")`: Must select at least one item.
Backtrace:
▆
1. └─tidytof::tof_assess_model(bootstrap_multinomial_regression, new_data = feature_tibble) at test-patient-level_modeling.R:1050:1
2. └─tidytof:::tof_assess_model_new_data(tof_model = tof_model, new_data = new_data)
3. └─tidytof::tof_make_roc_curve(...)
4. ├─dplyr::mutate(...)
5. ├─yardstick::roc_curve(...)
6. └─yardstick:::roc_curve.data.frame(...)
7. └─yardstick::curve_metric_summarizer(...)
8. └─yardstick:::yardstick_eval_select_dots(..., data = data, error_call = error_call)
9. └─tidyselect::eval_select(...)
10. └─tidyselect:::eval_select_impl(...)
11. ├─tidyselect:::with_subscript_errors(...)
12. │ └─base::withCallingHandlers(...)
13. └─tidyselect:::vars_select_eval(...)
14. └─tidyselect:::ensure_named(...)
15. └─tidyselect:::check_empty(pos, allow_empty, call = call)
16. └─cli::cli_abort("Must select at least one item.", call = call)
17. └─rlang::abort(...)
── Error ('test-visualization.R:553:1'): (code run outside of `test_that()`) ───
Error in `yardstick::roc_curve(dplyr::mutate(input_data, truth = dplyr::pull(input_data,
{
{
truth_col
}
})), {
{
prob_cols
}
}, truth = "truth", event_level = "second")`: Must select at least one item.
Backtrace:
▆
1. └─tidytof::tof_plot_model(multinomial_tof_model) at test-visualization.R:553:1
2. └─tidytof:::tof_plot_model_multinomial(...)
3. └─tidytof::tof_assess_model(tof_model = tof_model, new_data = new_data)
4. └─tidytof:::tof_assess_model_new_data(tof_model = tof_model, new_data = new_data)
5. └─tidytof::tof_make_roc_curve(...)
6. ├─dplyr::mutate(...)
7. ├─yardstick::roc_curve(...)
8. └─yardstick:::roc_curve.data.frame(...)
9. └─yardstick::curve_metric_summarizer(...)
10. └─yardstick:::yardstick_eval_select_dots(..., data = data, error_call = error_call)
11. └─tidyselect::eval_select(...)
12. └─tidyselect:::eval_select_impl(...)
13. ├─tidyselect:::with_subscript_errors(...)
14. │ └─base::withCallingHandlers(...)
15. └─tidyselect:::vars_select_eval(...)
16. └─tidyselect:::ensure_named(...)
17. └─tidyselect:::check_empty(pos, allow_empty, call = call)
18. └─cli::cli_abort("Must select at least one item.", call = call)
19. └─rlang::abort(...)
[ FAIL 2 | WARN 1 | SKIP 0 | PASS 684 ]
Error: Test failures
Execution halted
tidytof.Rcheck/tidytof-Ex.timings
| name | user | system | elapsed | |
| as_SingleCellExperiment | 0 | 0 | 0 | |
| as_flowFrame | 0.000 | 0.000 | 0.001 | |
| as_flowSet | 0 | 0 | 0 | |
| as_seurat | 0 | 0 | 0 | |
| as_tof_tbl | 0.043 | 0.001 | 0.046 | |
| make_flowcore_annotated_data_frame | 0 | 0 | 0 | |
| reexports | 0.000 | 0.000 | 0.001 | |
| rev_asinh | 0 | 0 | 0 | |
| tidytof_example_data | 0.002 | 0.000 | 0.002 | |
| tof_analyze_abundance | 0.000 | 0.000 | 0.001 | |
| tof_analyze_abundance_diffcyt | 0 | 0 | 0 | |
| tof_analyze_abundance_glmm | 0 | 0 | 0 | |
| tof_analyze_abundance_ttest | 0 | 0 | 0 | |
| tof_analyze_expression | 0 | 0 | 0 | |
| tof_analyze_expression_diffcyt | 0 | 0 | 0 | |
| tof_analyze_expression_lmm | 0.001 | 0.000 | 0.000 | |
| tof_analyze_expression_ttest | 0 | 0 | 0 | |
| tof_annotate_clusters | 0.082 | 0.005 | 0.088 | |
| tof_apply_classifier | 0 | 0 | 0 | |
| tof_assess_channels | 0.076 | 0.001 | 0.077 | |
| tof_assess_clusters_distance | 0.361 | 0.072 | 0.434 | |
| tof_assess_clusters_entropy | 0.638 | 0.047 | 0.684 | |
| tof_assess_clusters_knn | 7.227 | 0.103 | 7.331 | |
| tof_assess_flow_rate | 0.915 | 0.008 | 0.923 | |
| tof_assess_flow_rate_tibble | 0.267 | 0.000 | 0.267 | |
| tof_assess_model | 0.400 | 0.004 | 0.404 | |
| tof_batch_correct | 0 | 0 | 0 | |
| tof_batch_correct_quantile | 0 | 0 | 0 | |
| tof_batch_correct_quantile_tibble | 0.000 | 0.001 | 0.000 | |
| tof_batch_correct_rescale | 0 | 0 | 0 | |
| tof_calculate_flow_rate | 0.013 | 0.000 | 0.012 | |
| tof_cluster | 0.403 | 0.028 | 0.431 | |
| tof_cluster_ddpr | 0.164 | 0.008 | 0.173 | |
| tof_cluster_flowsom | 4.760 | 0.095 | 4.857 | |
| tof_cluster_kmeans | 0.036 | 0.001 | 0.036 | |
| tof_cluster_phenograph | 1.387 | 0.004 | 1.391 | |
| tof_cosine_dist | 0 | 0 | 0 | |
| tof_create_grid | 0.046 | 0.000 | 0.046 | |
| tof_downsample | 0.15 | 0.00 | 0.15 | |
| tof_downsample_constant | 0.06 | 0.00 | 0.06 | |
| tof_downsample_density | 0.550 | 0.006 | 0.555 | |
| tof_downsample_prop | 0.064 | 0.000 | 0.063 | |
| tof_estimate_density | 0.393 | 0.006 | 0.400 | |
| tof_extract_central_tendency | 0.156 | 0.000 | 0.157 | |
| tof_extract_emd | 0.429 | 0.000 | 0.428 | |
| tof_extract_features | 0.466 | 0.003 | 0.468 | |
| tof_extract_jsd | 0.483 | 0.005 | 0.490 | |
| tof_extract_proportion | 0.115 | 0.000 | 0.115 | |
| tof_extract_threshold | 0.14 | 0.00 | 0.14 | |
| tof_find_knn | 0.185 | 0.024 | 0.209 | |
| tof_generate_palette | 0 | 0 | 0 | |
| tof_get_model_mixture | 0.208 | 0.000 | 0.208 | |
| tof_get_model_outcomes | 0.214 | 0.000 | 0.214 | |
| tof_get_model_penalty | 0.206 | 0.000 | 0.206 | |
| tof_get_model_training_data | 0.244 | 0.000 | 0.245 | |
| tof_get_model_type | 0.207 | 0.000 | 0.207 | |
| tof_get_model_x | 0.207 | 0.001 | 0.208 | |
| tof_get_model_y | 0.232 | 0.001 | 0.233 | |
| tof_get_panel | 0.031 | 0.000 | 0.031 | |
| tof_log_rank_test | 0 | 0 | 0 | |
| tof_make_knn_graph | 0 | 0 | 0 | |
| tof_make_roc_curve | 0.325 | 0.018 | 0.344 | |
| tof_metacluster | 0.613 | 0.018 | 0.632 | |
| tof_metacluster_consensus | 0.249 | 0.002 | 0.252 | |
| tof_metacluster_flowsom | 0.665 | 0.004 | 0.671 | |
| tof_metacluster_hierarchical | 0.053 | 0.000 | 0.054 | |
| tof_metacluster_kmeans | 0.061 | 0.000 | 0.061 | |
| tof_metacluster_phenograph | 0.074 | 0.000 | 0.074 | |
| tof_plot_cells_density | 0.089 | 0.000 | 0.089 | |
| tof_plot_cells_embedding | 3.537 | 0.013 | 3.564 | |
| tof_plot_cells_layout | 2.751 | 0.017 | 2.767 | |
| tof_plot_cells_scatter | 0.001 | 0.002 | 0.003 | |
| tof_plot_clusters_heatmap | 0.145 | 0.009 | 0.155 | |
| tof_plot_clusters_mst | 0.25 | 0.01 | 0.26 | |
| tof_plot_clusters_volcano | 0.079 | 0.000 | 0.079 | |
| tof_plot_model | 0.701 | 0.003 | 0.704 | |
| tof_plot_sample_features | 0.156 | 0.000 | 0.156 | |
| tof_plot_sample_heatmap | 0.094 | 0.000 | 0.094 | |
| tof_postprocess | 0.09 | 0.00 | 0.09 | |
| tof_predict | 0.237 | 0.000 | 0.237 | |
| tof_preprocess | 0.138 | 0.000 | 0.138 | |
| tof_read_data | 0.072 | 0.000 | 0.073 | |
| tof_reduce_dimensions | 2.450 | 0.074 | 2.521 | |
| tof_reduce_pca | 0.145 | 0.000 | 0.145 | |
| tof_reduce_tsne | 0.937 | 0.001 | 0.939 | |
| tof_reduce_umap | 3.687 | 0.070 | 3.720 | |
| tof_set_panel | 0.073 | 0.001 | 0.074 | |
| tof_spade_density | 0.522 | 0.006 | 0.527 | |
| tof_split_data | 0.042 | 0.000 | 0.042 | |
| tof_split_tidytof_reduced_dimensions | 0 | 0 | 0 | |
| tof_train_model | 1.294 | 0.008 | 1.302 | |
| tof_transform | 0.153 | 0.000 | 0.153 | |
| tof_upsample | 0.210 | 0.001 | 0.211 | |
| tof_upsample_distance | 0.313 | 0.000 | 0.314 | |
| tof_upsample_neighbor | 0.052 | 0.002 | 0.055 | |
| tof_write_data | 0 | 0 | 0 | |
| tof_write_fcs | 0.000 | 0.000 | 0.001 | |
| where | 0.001 | 0.000 | 0.000 | |