| Back to Multiple platform build/check report for BioC 3.22: simplified long |
|
This page was generated on 2025-11-20 12:05 -0500 (Thu, 20 Nov 2025).
| Hostname | OS | Arch (*) | R version | Installed pkgs |
|---|---|---|---|---|
| nebbiolo2 | Linux (Ubuntu 24.04.3 LTS) | x86_64 | 4.5.2 (2025-10-31) -- "[Not] Part in a Rumble" | 4615 |
| merida1 | macOS 12.7.6 Monterey | x86_64 | 4.5.2 Patched (2025-11-05 r88990) -- "[Not] Part in a Rumble" | 4610 |
| kjohnson1 | macOS 13.7.5 Ventura | arm64 | 4.5.2 Patched (2025-11-04 r88984) -- "[Not] Part in a Rumble" | 4598 |
| taishan | Linux (openEuler 24.03 LTS) | aarch64 | 4.5.0 (2025-04-11) -- "How About a Twenty-Six" | 4668 |
| Click on any hostname to see more info about the system (e.g. compilers) (*) as reported by 'uname -p', except on Windows and Mac OS X | ||||
| Package 1977/2361 | Hostname | OS / Arch | INSTALL | BUILD | CHECK | BUILD BIN | ||||||||
Sarvesh Nikumbh
| nebbiolo2 | Linux (Ubuntu 24.04.3 LTS) / x86_64 | OK | OK | ERROR | |||||||||
| merida1 | macOS 12.7.6 Monterey / x86_64 | OK | OK | OK | OK | |||||||||
| kjohnson1 | macOS 13.7.5 Ventura / arm64 | OK | OK | OK | OK | |||||||||
| taishan | Linux (openEuler 24.03 LTS) / aarch64 | OK | OK | ERROR | ||||||||||
|
To the developers/maintainers of the seqArchR package: - Allow up to 24 hours (and sometimes 48 hours) for your latest push to git@git.bioconductor.org:packages/seqArchR.git to reflect on this report. See Troubleshooting Build Report for more information. - Use the following Renviron settings to reproduce errors and warnings. - If 'R CMD check' started to fail recently on the Linux builder(s) over a missing dependency, add the missing dependency to 'Suggests:' in your DESCRIPTION file. See Renviron.bioc for more information. |
| Package: seqArchR |
| Version: 1.14.0 |
| Command: /Library/Frameworks/R.framework/Resources/bin/R CMD check --install=check:seqArchR.install-out.txt --library=/Library/Frameworks/R.framework/Resources/library --no-vignettes --timings seqArchR_1.14.0.tar.gz |
| StartedAt: 2025-11-18 14:33:13 -0500 (Tue, 18 Nov 2025) |
| EndedAt: 2025-11-18 14:48:13 -0500 (Tue, 18 Nov 2025) |
| EllapsedTime: 899.5 seconds |
| RetCode: 0 |
| Status: OK |
| CheckDir: seqArchR.Rcheck |
| Warnings: 0 |
##############################################################################
##############################################################################
###
### Running command:
###
### /Library/Frameworks/R.framework/Resources/bin/R CMD check --install=check:seqArchR.install-out.txt --library=/Library/Frameworks/R.framework/Resources/library --no-vignettes --timings seqArchR_1.14.0.tar.gz
###
##############################################################################
##############################################################################
* using log directory ‘/Users/biocbuild/bbs-3.22-bioc/meat/seqArchR.Rcheck’
* using R version 4.5.2 Patched (2025-11-05 r88990)
* using platform: x86_64-apple-darwin20
* R was compiled by
Apple clang version 14.0.0 (clang-1400.0.29.202)
GNU Fortran (GCC) 14.2.0
* running under: macOS Monterey 12.7.6
* using session charset: UTF-8
* using option ‘--no-vignettes’
* checking for file ‘seqArchR/DESCRIPTION’ ... OK
* checking extension type ... Package
* this is package ‘seqArchR’ version ‘1.14.0’
* package encoding: UTF-8
* checking package namespace information ... OK
* checking package dependencies ... OK
* checking if this is a source package ... OK
* checking if there is a namespace ... OK
* checking for hidden files and directories ... OK
* checking for portable file names ... OK
* checking for sufficient/correct file permissions ... OK
* checking whether package ‘seqArchR’ can be installed ... OK
* checking installed package size ... OK
* checking package directory ... OK
* checking ‘build’ directory ... OK
* checking DESCRIPTION meta-information ... OK
* checking top-level files ... OK
* checking for left-over files ... OK
* checking index information ... OK
* checking package subdirectories ... OK
* checking code files for non-ASCII characters ... OK
* checking R files for syntax errors ... OK
* checking whether the package can be loaded ... OK
* checking whether the package can be loaded with stated dependencies ... OK
* checking whether the package can be unloaded cleanly ... OK
* checking whether the namespace can be loaded with stated dependencies ... OK
* checking whether the namespace can be unloaded cleanly ... OK
* checking whether startup messages can be suppressed ... OK
* checking dependencies in R code ... OK
* checking S3 generic/method consistency ... OK
* checking replacement functions ... OK
* checking foreign function calls ... OK
* checking R code for possible problems ... OK
* checking Rd files ... OK
* checking Rd metadata ... OK
* checking Rd cross-references ... OK
* checking for missing documentation entries ... OK
* checking for code/documentation mismatches ... OK
* checking Rd \usage sections ... OK
* checking Rd contents ... OK
* checking for unstated dependencies in examples ... OK
* checking files in ‘vignettes’ ... OK
* checking examples ... OK
Examples with CPU (user + system) or elapsed time > 5s
user system elapsed
seqs_str 308.172 8.198 0.235
seqArchR 31.322 2.166 346.761
plot_arch_for_clusters 11.998 0.206 15.641
viz_bas_vec 11.034 0.320 15.425
* checking for unstated dependencies in ‘tests’ ... OK
* checking tests ...
Running ‘testthat.R’
OK
* checking for unstated dependencies in vignettes ... OK
* checking package vignettes ... OK
* checking running R code from vignettes ... SKIPPED
* checking re-building of vignette outputs ... SKIPPED
* checking PDF version of manual ... OK
* DONE
Status: OK
seqArchR.Rcheck/00install.out
############################################################################## ############################################################################## ### ### Running command: ### ### /Library/Frameworks/R.framework/Resources/bin/R CMD INSTALL seqArchR ### ############################################################################## ############################################################################## * installing to library ‘/Library/Frameworks/R.framework/Versions/4.5-x86_64/Resources/library’ * installing *source* package ‘seqArchR’ ... ** this is package ‘seqArchR’ version ‘1.14.0’ ** using staged installation ** R ** inst ** byte-compile and prepare package for lazy loading ** help *** installing help indices *** copying figures ** building package indices ** installing vignettes ** testing if installed package can be loaded from temporary location Warning in fun(libname, pkgname) : Package 'seqArchR' is deprecated and will be removed from Bioconductor version 3.23 ** testing if installed package can be loaded from final location Warning in fun(libname, pkgname) : Package 'seqArchR' is deprecated and will be removed from Bioconductor version 3.23 ** testing if installed package keeps a record of temporary installation path * DONE (seqArchR)
seqArchR.Rcheck/tests/testthat.Rout
R version 4.5.2 Patched (2025-11-05 r88990) -- "[Not] Part in a Rumble"
Copyright (C) 2025 The R Foundation for Statistical Computing
Platform: x86_64-apple-darwin20
R is free software and comes with ABSOLUTELY NO WARRANTY.
You are welcome to redistribute it under certain conditions.
Type 'license()' or 'licence()' for distribution details.
R is a collaborative project with many contributors.
Type 'contributors()' for more information and
'citation()' on how to cite R or R packages in publications.
Type 'demo()' for some demos, 'help()' for on-line help, or
'help.start()' for an HTML browser interface to help.
Type 'q()' to quit R.
> library(testthat)
> library(seqArchR)
Warning message:
In fun(libname, pkgname) :
Package 'seqArchR' is deprecated and will be removed from Bioconductor
version 3.23
>
> test_check("seqArchR")
[[1]]
NULL
[ FAIL 0 | WARN 1 | SKIP 4 | PASS 105 ]
══ Skipped tests (4) ═══════════════════════════════════════════════════════════
• On CRAN (4): 'test_plot_arch_for_clusters.R:11:1',
'test_plot_ggseqlogo.R:56:1', 'test_plot_heatmap.R:52:1',
'test_seqs_image_representation.R:4:1'
[ FAIL 0 | WARN 1 | SKIP 4 | PASS 105 ]
>
> proc.time()
user system elapsed
140.457 7.336 227.860
seqArchR.Rcheck/seqArchR-Ex.timings
| name | user | system | elapsed | |
| collate_clusters | 0.003 | 0.003 | 0.011 | |
| collate_seqArchR_result | 0.713 | 0.095 | 1.071 | |
| get_clBasVec | 0.043 | 0.002 | 0.058 | |
| get_one_hot_encoded_seqs | 0.783 | 0.019 | 1.067 | |
| get_seqs_clust_list | 0.002 | 0.002 | 0.003 | |
| make_PWMs | 0.071 | 0.002 | 0.087 | |
| plot_arch_for_clusters | 11.998 | 0.206 | 15.641 | |
| plot_ggseqlogo_of_seqs | 2.708 | 0.050 | 3.489 | |
| prepare_data_from_FASTA | 0.904 | 0.019 | 1.203 | |
| seqArchR | 31.322 | 2.166 | 346.761 | |
| seqs_str | 308.172 | 8.198 | 0.235 | |
| set_config | 0.007 | 0.010 | 0.022 | |
| viz_bas_vec | 11.034 | 0.320 | 15.425 | |
| viz_pwm | 1.887 | 0.038 | 2.586 | |
| viz_seqs_acgt_mat | 0.442 | 0.013 | 0.550 | |