| Back to Multiple platform build/check report for BioC 3.22: simplified long |
|
This page was generated on 2025-10-24 12:04 -0400 (Fri, 24 Oct 2025).
| Hostname | OS | Arch (*) | R version | Installed pkgs |
|---|---|---|---|---|
| nebbiolo2 | Linux (Ubuntu 24.04.3 LTS) | x86_64 | 4.5.1 Patched (2025-08-23 r88802) -- "Great Square Root" | 4898 |
| lconway | macOS 12.7.6 Monterey | x86_64 | 4.5.1 Patched (2025-09-10 r88807) -- "Great Square Root" | 4688 |
| kjohnson3 | macOS 13.7.7 Ventura | arm64 | 4.5.1 Patched (2025-09-10 r88807) -- "Great Square Root" | 4634 |
| taishan | Linux (openEuler 24.03 LTS) | aarch64 | 4.5.0 (2025-04-11) -- "How About a Twenty-Six" | 4658 |
| Click on any hostname to see more info about the system (e.g. compilers) (*) as reported by 'uname -p', except on Windows and Mac OS X | ||||
| Package 1927/2359 | Hostname | OS / Arch | INSTALL | BUILD | CHECK | BUILD BIN | ||||||||
| scHOT 1.21.0 (landing page) Shila Ghazanfar
| nebbiolo2 | Linux (Ubuntu 24.04.3 LTS) / x86_64 | OK | OK | OK | |||||||||
| lconway | macOS 12.7.6 Monterey / x86_64 | OK | OK | OK | OK | |||||||||
| kjohnson3 | macOS 13.7.7 Ventura / arm64 | OK | OK | OK | OK | |||||||||
| taishan | Linux (openEuler 24.03 LTS) / aarch64 | OK | OK | NA | ||||||||||
|
To the developers/maintainers of the scHOT package: - Allow up to 24 hours (and sometimes 48 hours) for your latest push to git@git.bioconductor.org:packages/scHOT.git to reflect on this report. See Troubleshooting Build Report for more information. - Use the following Renviron settings to reproduce errors and warnings. - If 'R CMD check' started to fail recently on the Linux builder(s) over a missing dependency, add the missing dependency to 'Suggests:' in your DESCRIPTION file. See Renviron.bioc for more information. |
| Package: scHOT |
| Version: 1.21.0 |
| Command: /home/biocbuild/bbs-3.22-bioc/R/bin/R CMD check --install=check:scHOT.install-out.txt --library=/home/biocbuild/bbs-3.22-bioc/R/site-library --timings scHOT_1.21.0.tar.gz |
| StartedAt: 2025-10-24 03:39:04 -0400 (Fri, 24 Oct 2025) |
| EndedAt: 2025-10-24 03:45:01 -0400 (Fri, 24 Oct 2025) |
| EllapsedTime: 356.3 seconds |
| RetCode: 0 |
| Status: OK |
| CheckDir: scHOT.Rcheck |
| Warnings: 0 |
##############################################################################
##############################################################################
###
### Running command:
###
### /home/biocbuild/bbs-3.22-bioc/R/bin/R CMD check --install=check:scHOT.install-out.txt --library=/home/biocbuild/bbs-3.22-bioc/R/site-library --timings scHOT_1.21.0.tar.gz
###
##############################################################################
##############################################################################
* using log directory ‘/home/biocbuild/bbs-3.22-bioc/meat/scHOT.Rcheck’
* using R version 4.5.1 Patched (2025-08-23 r88802)
* using platform: x86_64-pc-linux-gnu
* R was compiled by
gcc (Ubuntu 13.3.0-6ubuntu2~24.04) 13.3.0
GNU Fortran (Ubuntu 13.3.0-6ubuntu2~24.04) 13.3.0
* running under: Ubuntu 24.04.3 LTS
* using session charset: UTF-8
* checking for file ‘scHOT/DESCRIPTION’ ... OK
* checking extension type ... Package
* this is package ‘scHOT’ version ‘1.21.0’
* package encoding: UTF-8
* checking package namespace information ... OK
* checking package dependencies ... OK
* checking if this is a source package ... OK
* checking if there is a namespace ... OK
* checking for hidden files and directories ... OK
* checking for portable file names ... OK
* checking for sufficient/correct file permissions ... OK
* checking whether package ‘scHOT’ can be installed ... OK
* checking installed package size ... OK
* checking package directory ... OK
* checking ‘build’ directory ... OK
* checking DESCRIPTION meta-information ... OK
* checking top-level files ... OK
* checking for left-over files ... OK
* checking index information ... OK
* checking package subdirectories ... OK
* checking code files for non-ASCII characters ... OK
* checking R files for syntax errors ... OK
* checking whether the package can be loaded ... OK
* checking whether the package can be loaded with stated dependencies ... OK
* checking whether the package can be unloaded cleanly ... OK
* checking whether the namespace can be loaded with stated dependencies ... OK
* checking whether the namespace can be unloaded cleanly ... OK
* checking loading without being on the library search path ... OK
* checking dependencies in R code ... OK
* checking S3 generic/method consistency ... OK
* checking replacement functions ... OK
* checking foreign function calls ... OK
* checking R code for possible problems ... OK
* checking Rd files ... OK
* checking Rd metadata ... OK
* checking Rd cross-references ... OK
* checking for missing documentation entries ... OK
* checking for code/documentation mismatches ... OK
* checking Rd \usage sections ... OK
* checking Rd contents ... OK
* checking for unstated dependencies in examples ... OK
* checking contents of ‘data’ directory ... OK
* checking data for non-ASCII characters ... OK
* checking LazyData ... OK
* checking data for ASCII and uncompressed saves ... OK
* checking files in ‘vignettes’ ... OK
* checking examples ... OK
Examples with CPU (user + system) or elapsed time > 5s
user system elapsed
scHOT 23.618 0.481 24.099
scHOT_estimatePvalues 23.257 0.263 23.521
scHOT_performPermutationTest 22.993 0.250 23.242
* checking for unstated dependencies in vignettes ... OK
* checking package vignettes ... OK
* checking re-building of vignette outputs ... OK
* checking PDF version of manual ... OK
* DONE
Status: OK
scHOT.Rcheck/00install.out
############################################################################## ############################################################################## ### ### Running command: ### ### /home/biocbuild/bbs-3.22-bioc/R/bin/R CMD INSTALL scHOT ### ############################################################################## ############################################################################## * installing to library ‘/home/biocbuild/bbs-3.22-bioc/R/site-library’ * installing *source* package ‘scHOT’ ... ** this is package ‘scHOT’ version ‘1.21.0’ ** using staged installation ** R ** data *** moving datasets to lazyload DB ** byte-compile and prepare package for lazy loading ** help *** installing help indices ** building package indices ** installing vignettes ** testing if installed package can be loaded from temporary location ** testing if installed package can be loaded from final location ** testing if installed package keeps a record of temporary installation path * DONE (scHOT)
scHOT.Rcheck/scHOT-Ex.timings
| name | user | system | elapsed | |
| params-set | 0.235 | 0.019 | 0.254 | |
| plotColouredExpression | 1.843 | 0.435 | 2.277 | |
| plotHigherOrderSequence | 1.660 | 0.159 | 1.819 | |
| positionColData-set | 0.089 | 0.001 | 0.091 | |
| positionType-set | 0.083 | 0.000 | 0.084 | |
| scHOT | 23.618 | 0.481 | 24.099 | |
| scHOT_addTestingScaffold | 0.107 | 0.007 | 0.114 | |
| scHOT_buildFromMatrix | 0.078 | 0.007 | 0.085 | |
| scHOT_buildFromSCE | 0.275 | 0.023 | 0.298 | |
| scHOT_calculateGlobalHigherOrderFunction | 0.146 | 0.021 | 0.167 | |
| scHOT_calculateHigherOrderTestStatistics | 0.424 | 0.024 | 0.447 | |
| scHOT_estimatePvalues | 23.257 | 0.263 | 23.521 | |
| scHOT_output-set | 0.081 | 0.002 | 0.082 | |
| scHOT_performPermutationTest | 22.993 | 0.250 | 23.242 | |
| scHOT_setPermutationScaffold | 0.141 | 0.001 | 0.142 | |
| scHOT_setWeightMatrix | 0.126 | 0.001 | 0.126 | |
| scHOT_stripOutput | 0.091 | 0.003 | 0.095 | |
| spatialWeightMatrix | 0.002 | 0.001 | 0.003 | |
| testingScaffold-set | 0.098 | 0.004 | 0.103 | |
| thin | 0.010 | 0.002 | 0.012 | |
| trajectoryWeightMatrix | 0.004 | 0.000 | 0.003 | |
| weightMatrix-set | 0.267 | 0.010 | 0.277 | |
| weightedPearson | 0.000 | 0.000 | 0.001 | |
| weightedSpearman | 0 | 0 | 0 | |
| weightedVariance | 0 | 0 | 0 | |
| weightedZIKendall | 0.001 | 0.000 | 0.001 | |
| weightedZISpearman | 0.001 | 0.000 | 0.000 | |