| Back to Multiple platform build/check report for BioC 3.22: simplified long |
|
This page was generated on 2025-10-24 12:04 -0400 (Fri, 24 Oct 2025).
| Hostname | OS | Arch (*) | R version | Installed pkgs |
|---|---|---|---|---|
| nebbiolo2 | Linux (Ubuntu 24.04.3 LTS) | x86_64 | 4.5.1 Patched (2025-08-23 r88802) -- "Great Square Root" | 4898 |
| lconway | macOS 12.7.6 Monterey | x86_64 | 4.5.1 Patched (2025-09-10 r88807) -- "Great Square Root" | 4688 |
| kjohnson3 | macOS 13.7.7 Ventura | arm64 | 4.5.1 Patched (2025-09-10 r88807) -- "Great Square Root" | 4634 |
| taishan | Linux (openEuler 24.03 LTS) | aarch64 | 4.5.0 (2025-04-11) -- "How About a Twenty-Six" | 4658 |
| Click on any hostname to see more info about the system (e.g. compilers) (*) as reported by 'uname -p', except on Windows and Mac OS X | ||||
| Package 1907/2359 | Hostname | OS / Arch | INSTALL | BUILD | CHECK | BUILD BIN | ||||||||
| scBubbletree 1.11.0 (landing page) Simo Kitanovski
| nebbiolo2 | Linux (Ubuntu 24.04.3 LTS) / x86_64 | OK | OK | OK | |||||||||
| lconway | macOS 12.7.6 Monterey / x86_64 | OK | OK | OK | OK | |||||||||
| kjohnson3 | macOS 13.7.7 Ventura / arm64 | OK | OK | OK | OK | |||||||||
| taishan | Linux (openEuler 24.03 LTS) / aarch64 | OK | OK | NA | ||||||||||
|
To the developers/maintainers of the scBubbletree package: - Allow up to 24 hours (and sometimes 48 hours) for your latest push to git@git.bioconductor.org:packages/scBubbletree.git to reflect on this report. See Troubleshooting Build Report for more information. - Use the following Renviron settings to reproduce errors and warnings. - If 'R CMD check' started to fail recently on the Linux builder(s) over a missing dependency, add the missing dependency to 'Suggests:' in your DESCRIPTION file. See Renviron.bioc for more information. |
| Package: scBubbletree |
| Version: 1.11.0 |
| Command: /home/biocbuild/bbs-3.22-bioc/R/bin/R CMD check --install=check:scBubbletree.install-out.txt --library=/home/biocbuild/bbs-3.22-bioc/R/site-library --timings scBubbletree_1.11.0.tar.gz |
| StartedAt: 2025-10-24 03:32:46 -0400 (Fri, 24 Oct 2025) |
| EndedAt: 2025-10-24 03:47:56 -0400 (Fri, 24 Oct 2025) |
| EllapsedTime: 910.1 seconds |
| RetCode: 0 |
| Status: OK |
| CheckDir: scBubbletree.Rcheck |
| Warnings: 0 |
##############################################################################
##############################################################################
###
### Running command:
###
### /home/biocbuild/bbs-3.22-bioc/R/bin/R CMD check --install=check:scBubbletree.install-out.txt --library=/home/biocbuild/bbs-3.22-bioc/R/site-library --timings scBubbletree_1.11.0.tar.gz
###
##############################################################################
##############################################################################
* using log directory ‘/home/biocbuild/bbs-3.22-bioc/meat/scBubbletree.Rcheck’
* using R version 4.5.1 Patched (2025-08-23 r88802)
* using platform: x86_64-pc-linux-gnu
* R was compiled by
gcc (Ubuntu 13.3.0-6ubuntu2~24.04) 13.3.0
GNU Fortran (Ubuntu 13.3.0-6ubuntu2~24.04) 13.3.0
* running under: Ubuntu 24.04.3 LTS
* using session charset: UTF-8
* checking for file ‘scBubbletree/DESCRIPTION’ ... OK
* checking extension type ... Package
* this is package ‘scBubbletree’ version ‘1.11.0’
* package encoding: UTF-8
* checking package namespace information ... OK
* checking package dependencies ... OK
* checking if this is a source package ... OK
* checking if there is a namespace ... OK
* checking for hidden files and directories ... OK
* checking for portable file names ... OK
* checking for sufficient/correct file permissions ... OK
* checking whether package ‘scBubbletree’ can be installed ... OK
* checking installed package size ... OK
* checking package directory ... OK
* checking ‘build’ directory ... OK
* checking DESCRIPTION meta-information ... OK
* checking top-level files ... OK
* checking for left-over files ... OK
* checking index information ... OK
* checking package subdirectories ... OK
* checking code files for non-ASCII characters ... OK
* checking R files for syntax errors ... OK
* checking whether the package can be loaded ... OK
* checking whether the package can be loaded with stated dependencies ... OK
* checking whether the package can be unloaded cleanly ... OK
* checking whether the namespace can be loaded with stated dependencies ... OK
* checking whether the namespace can be unloaded cleanly ... OK
* checking loading without being on the library search path ... OK
* checking dependencies in R code ... NOTE
Namespace in Imports field not imported from: ‘base’
All declared Imports should be used.
* checking S3 generic/method consistency ... OK
* checking replacement functions ... OK
* checking foreign function calls ... OK
* checking R code for possible problems ... NOTE
compare_bubbletrees: no visible binding for global variable ‘isTip’
compare_bubbletrees: no visible binding for global variable ‘Cells’
compare_bubbletrees: no visible binding for global variable ‘lab_short’
compare_bubbletrees: no visible binding for global variable ‘label’
compare_bubbletrees: no visible binding for global variable ‘JD’
compare_bubbletrees: no visible binding for global variable
‘intersection’
get_dendrogram: no visible binding for global variable ‘isTip’
get_dendrogram: no visible binding for global variable ‘Cells’
get_dendrogram: no visible binding for global variable ‘label’
get_dendrogram: no visible binding for global variable ‘lab_short’
get_dendrogram: no visible binding for global variable ‘lab_long’
get_num_cell_tiles: no visible binding for global variable ‘cluster’
ggplot_cat_tiles: no visible binding for global variable ‘feature’
ggplot_cat_tiles: no visible binding for global variable ‘cluster’
ggplot_cat_tiles: no visible binding for global variable ‘percent’
ggplot_num_cell_tiles: no visible binding for global variable ‘cluster’
ggplot_num_cell_tiles: no visible binding for global variable ‘f’
ggplot_num_tiles: no visible binding for global variable ‘feature’
ggplot_num_tiles: no visible binding for global variable ‘cluster’
ggplot_num_tiles: no visible binding for global variable ‘value’
ggplot_num_violins: no visible binding for global variable ‘cluster’
ggplot_num_violins: no visible binding for global variable ‘value’
Undefined global functions or variables:
Cells JD cluster f feature intersection isTip lab_long lab_short
label percent value
* checking Rd files ... OK
* checking Rd metadata ... OK
* checking Rd cross-references ... OK
* checking for missing documentation entries ... OK
* checking for code/documentation mismatches ... OK
* checking Rd \usage sections ... OK
* checking Rd contents ... OK
* checking for unstated dependencies in examples ... OK
* checking contents of ‘data’ directory ... OK
* checking data for non-ASCII characters ... OK
* checking data for ASCII and uncompressed saves ... OK
* checking files in ‘vignettes’ ... OK
* checking examples ... OK
Examples with CPU (user + system) or elapsed time > 5s
user system elapsed
get_bubbletree_comparison 35.562 0.888 42.187
get_num_cell_tiles 27.971 0.178 34.159
get_r 16.479 0.010 16.490
get_num_tiles 15.821 0.092 15.917
get_bubbletree_kmeans 15.157 0.038 15.195
get_num_violins 13.598 0.032 13.631
get_bubbletree_graph 13.495 0.040 13.535
get_gini_k 13.157 0.004 13.162
get_cat_tiles 11.755 0.029 11.787
get_bubbletree_dummy 8.441 0.073 8.514
* checking for unstated dependencies in ‘tests’ ... OK
* checking tests ...
Running ‘testthat.R’
OK
* checking for unstated dependencies in vignettes ... OK
* checking package vignettes ... OK
* checking re-building of vignette outputs ... OK
* checking PDF version of manual ... OK
* DONE
Status: 2 NOTEs
See
‘/home/biocbuild/bbs-3.22-bioc/meat/scBubbletree.Rcheck/00check.log’
for details.
scBubbletree.Rcheck/00install.out
############################################################################## ############################################################################## ### ### Running command: ### ### /home/biocbuild/bbs-3.22-bioc/R/bin/R CMD INSTALL scBubbletree ### ############################################################################## ############################################################################## * installing to library ‘/home/biocbuild/bbs-3.22-bioc/R/site-library’ * installing *source* package ‘scBubbletree’ ... ** this is package ‘scBubbletree’ version ‘1.11.0’ ** using staged installation ** R ** data ** inst ** byte-compile and prepare package for lazy loading ** help *** installing help indices ** building package indices ** installing vignettes ** testing if installed package can be loaded from temporary location ** testing if installed package can be loaded from final location ** testing if installed package keeps a record of temporary installation path * DONE (scBubbletree)
scBubbletree.Rcheck/tests/testthat.Rout
R version 4.5.1 Patched (2025-08-23 r88802) -- "Great Square Root"
Copyright (C) 2025 The R Foundation for Statistical Computing
Platform: x86_64-pc-linux-gnu
R is free software and comes with ABSOLUTELY NO WARRANTY.
You are welcome to redistribute it under certain conditions.
Type 'license()' or 'licence()' for distribution details.
R is a collaborative project with many contributors.
Type 'contributors()' for more information and
'citation()' on how to cite R or R packages in publications.
Type 'demo()' for some demos, 'help()' for on-line help, or
'help.start()' for an HTML browser interface to help.
Type 'q()' to quit R.
> library(testthat)
> library(scBubbletree)
>
> test_check("scBubbletree")
Tests input rules of get_bubbletree_graph
Tests input rules of get_bubbletree_kmeans
Tests input rules of get_cat_tiles
Tests input rules of get_gini_k
Tests input rules of get_gini
Tests input rules of get_k
Tests input rules of get_num_tiles
Tests input rules of get_num_violins
Tests input rules of get_r
Tests input rules of util
[ FAIL 0 | WARN 0 | SKIP 0 | PASS 477 ]
>
> proc.time()
user system elapsed
313.061 1.502 314.559
scBubbletree.Rcheck/scBubbletree-Ex.timings
| name | user | system | elapsed | |
| d_500 | 0.005 | 0.000 | 0.005 | |
| d_ccl | 0.014 | 0.002 | 0.016 | |
| get_bubbletree_comparison | 35.562 | 0.888 | 42.187 | |
| get_bubbletree_dummy | 8.441 | 0.073 | 8.514 | |
| get_bubbletree_graph | 13.495 | 0.040 | 13.535 | |
| get_bubbletree_kmeans | 15.157 | 0.038 | 15.195 | |
| get_cat_tiles | 11.755 | 0.029 | 11.787 | |
| get_gini | 0.001 | 0.001 | 0.003 | |
| get_gini_k | 13.157 | 0.004 | 13.162 | |
| get_k | 3.422 | 0.001 | 3.422 | |
| get_num_cell_tiles | 27.971 | 0.178 | 34.159 | |
| get_num_tiles | 15.821 | 0.092 | 15.917 | |
| get_num_violins | 13.598 | 0.032 | 13.631 | |
| get_r | 16.479 | 0.010 | 16.490 | |