| Back to Multiple platform build/check report for BioC 3.22: simplified long |
|
This page was generated on 2025-10-24 12:04 -0400 (Fri, 24 Oct 2025).
| Hostname | OS | Arch (*) | R version | Installed pkgs |
|---|---|---|---|---|
| nebbiolo2 | Linux (Ubuntu 24.04.3 LTS) | x86_64 | 4.5.1 Patched (2025-08-23 r88802) -- "Great Square Root" | 4898 |
| lconway | macOS 12.7.6 Monterey | x86_64 | 4.5.1 Patched (2025-09-10 r88807) -- "Great Square Root" | 4688 |
| kjohnson3 | macOS 13.7.7 Ventura | arm64 | 4.5.1 Patched (2025-09-10 r88807) -- "Great Square Root" | 4634 |
| taishan | Linux (openEuler 24.03 LTS) | aarch64 | 4.5.0 (2025-04-11) -- "How About a Twenty-Six" | 4658 |
| Click on any hostname to see more info about the system (e.g. compilers) (*) as reported by 'uname -p', except on Windows and Mac OS X | ||||
| Package 1798/2359 | Hostname | OS / Arch | INSTALL | BUILD | CHECK | BUILD BIN | ||||||||
| ribosomeProfilingQC 1.21.2 (landing page) Jianhong Ou
| nebbiolo2 | Linux (Ubuntu 24.04.3 LTS) / x86_64 | OK | OK | OK | |||||||||
| lconway | macOS 12.7.6 Monterey / x86_64 | OK | OK | OK | OK | |||||||||
| kjohnson3 | macOS 13.7.7 Ventura / arm64 | OK | OK | OK | OK | |||||||||
| taishan | Linux (openEuler 24.03 LTS) / aarch64 | OK | OK | NA | ||||||||||
|
To the developers/maintainers of the ribosomeProfilingQC package: - Allow up to 24 hours (and sometimes 48 hours) for your latest push to git@git.bioconductor.org:packages/ribosomeProfilingQC.git to reflect on this report. See Troubleshooting Build Report for more information. - Use the following Renviron settings to reproduce errors and warnings. - If 'R CMD check' started to fail recently on the Linux builder(s) over a missing dependency, add the missing dependency to 'Suggests:' in your DESCRIPTION file. See Renviron.bioc for more information. |
| Package: ribosomeProfilingQC |
| Version: 1.21.2 |
| Command: /home/biocbuild/bbs-3.22-bioc/R/bin/R CMD check --install=check:ribosomeProfilingQC.install-out.txt --library=/home/biocbuild/bbs-3.22-bioc/R/site-library --timings ribosomeProfilingQC_1.21.2.tar.gz |
| StartedAt: 2025-10-24 03:12:20 -0400 (Fri, 24 Oct 2025) |
| EndedAt: 2025-10-24 03:24:26 -0400 (Fri, 24 Oct 2025) |
| EllapsedTime: 725.8 seconds |
| RetCode: 0 |
| Status: OK |
| CheckDir: ribosomeProfilingQC.Rcheck |
| Warnings: 0 |
##############################################################################
##############################################################################
###
### Running command:
###
### /home/biocbuild/bbs-3.22-bioc/R/bin/R CMD check --install=check:ribosomeProfilingQC.install-out.txt --library=/home/biocbuild/bbs-3.22-bioc/R/site-library --timings ribosomeProfilingQC_1.21.2.tar.gz
###
##############################################################################
##############################################################################
* using log directory ‘/home/biocbuild/bbs-3.22-bioc/meat/ribosomeProfilingQC.Rcheck’
* using R version 4.5.1 Patched (2025-08-23 r88802)
* using platform: x86_64-pc-linux-gnu
* R was compiled by
gcc (Ubuntu 13.3.0-6ubuntu2~24.04) 13.3.0
GNU Fortran (Ubuntu 13.3.0-6ubuntu2~24.04) 13.3.0
* running under: Ubuntu 24.04.3 LTS
* using session charset: UTF-8
* checking for file ‘ribosomeProfilingQC/DESCRIPTION’ ... OK
* checking extension type ... Package
* this is package ‘ribosomeProfilingQC’ version ‘1.21.2’
* package encoding: UTF-8
* checking package namespace information ... OK
* checking package dependencies ... INFO
Imports includes 24 non-default packages.
Importing from so many packages makes the package vulnerable to any of
them becoming unavailable. Move as many as possible to Suggests and
use conditionally.
* checking if this is a source package ... OK
* checking if there is a namespace ... OK
* checking for hidden files and directories ... OK
* checking for portable file names ... OK
* checking for sufficient/correct file permissions ... OK
* checking whether package ‘ribosomeProfilingQC’ can be installed ... OK
* checking installed package size ... OK
* checking package directory ... OK
* checking ‘build’ directory ... OK
* checking DESCRIPTION meta-information ... OK
* checking top-level files ... OK
* checking for left-over files ... OK
* checking index information ... OK
* checking package subdirectories ... OK
* checking code files for non-ASCII characters ... OK
* checking R files for syntax errors ... OK
* checking whether the package can be loaded ... OK
* checking whether the package can be loaded with stated dependencies ... OK
* checking whether the package can be unloaded cleanly ... OK
* checking whether the namespace can be loaded with stated dependencies ... OK
* checking whether the namespace can be unloaded cleanly ... OK
* checking loading without being on the library search path ... OK
* checking dependencies in R code ... OK
* checking S3 generic/method consistency ... OK
* checking replacement functions ... OK
* checking foreign function calls ... OK
* checking R code for possible problems ... OK
* checking Rd files ... OK
* checking Rd metadata ... OK
* checking Rd cross-references ... OK
* checking for missing documentation entries ... OK
* checking for code/documentation mismatches ... OK
* checking Rd \usage sections ... OK
* checking Rd contents ... OK
* checking for unstated dependencies in examples ... OK
* checking files in ‘vignettes’ ... OK
* checking examples ... OK
Examples with CPU (user + system) or elapsed time > 5s
user system elapsed
readsDistribution 12.853 0.246 13.099
codonBias 11.085 0.151 11.282
coverageRates 7.066 0.006 7.072
coverageDepth 6.234 0.058 6.292
* checking for unstated dependencies in ‘tests’ ... OK
* checking tests ...
Running ‘runTests.R’
OK
* checking for unstated dependencies in vignettes ... OK
* checking package vignettes ... OK
* checking re-building of vignette outputs ... OK
* checking PDF version of manual ... OK
* DONE
Status: OK
ribosomeProfilingQC.Rcheck/00install.out
############################################################################## ############################################################################## ### ### Running command: ### ### /home/biocbuild/bbs-3.22-bioc/R/bin/R CMD INSTALL ribosomeProfilingQC ### ############################################################################## ############################################################################## * installing to library ‘/home/biocbuild/bbs-3.22-bioc/R/site-library’ * installing *source* package ‘ribosomeProfilingQC’ ... ** this is package ‘ribosomeProfilingQC’ version ‘1.21.2’ ** using staged installation ** R ** inst ** byte-compile and prepare package for lazy loading ** help *** installing help indices ** building package indices ** installing vignettes ** testing if installed package can be loaded from temporary location ** testing if installed package can be loaded from final location ** testing if installed package keeps a record of temporary installation path * DONE (ribosomeProfilingQC)
ribosomeProfilingQC.Rcheck/tests/runTests.Rout
R version 4.5.1 Patched (2025-08-23 r88802) -- "Great Square Root"
Copyright (C) 2025 The R Foundation for Statistical Computing
Platform: x86_64-pc-linux-gnu
R is free software and comes with ABSOLUTELY NO WARRANTY.
You are welcome to redistribute it under certain conditions.
Type 'license()' or 'licence()' for distribution details.
R is a collaborative project with many contributors.
Type 'contributors()' for more information and
'citation()' on how to cite R or R packages in publications.
Type 'demo()' for some demos, 'help()' for on-line help, or
'help.start()' for an HTML browser interface to help.
Type 'q()' to quit R.
> require("ribosomeProfilingQC") || stop("unable to load Package:ribosomeProfilingQC")
Loading required package: ribosomeProfilingQC
Loading required package: GenomicRanges
Loading required package: stats4
Loading required package: BiocGenerics
Loading required package: generics
Attaching package: 'generics'
The following objects are masked from 'package:base':
as.difftime, as.factor, as.ordered, intersect, is.element, setdiff,
setequal, union
Attaching package: 'BiocGenerics'
The following objects are masked from 'package:stats':
IQR, mad, sd, var, xtabs
The following objects are masked from 'package:base':
Filter, Find, Map, Position, Reduce, anyDuplicated, aperm, append,
as.data.frame, basename, cbind, colnames, dirname, do.call,
duplicated, eval, evalq, get, grep, grepl, is.unsorted, lapply,
mapply, match, mget, order, paste, pmax, pmax.int, pmin, pmin.int,
rank, rbind, rownames, sapply, saveRDS, table, tapply, unique,
unsplit, which.max, which.min
Loading required package: S4Vectors
Attaching package: 'S4Vectors'
The following object is masked from 'package:utils':
findMatches
The following objects are masked from 'package:base':
I, expand.grid, unname
Loading required package: IRanges
Loading required package: Seqinfo
[1] TRUE
> require("GenomicRanges") || stop("unable to load Package::GenomicRanges")
[1] TRUE
> require("GenomicFeatures") || stop("unable to load Package::GenomicFeatures")
Loading required package: GenomicFeatures
Loading required package: AnnotationDbi
Loading required package: Biobase
Welcome to Bioconductor
Vignettes contain introductory material; view with
'browseVignettes()'. To cite Bioconductor, see
'citation("Biobase")', and for packages 'citation("pkgname")'.
[1] TRUE
> require("GenomicAlignments") || stop("unalbe to load Package:GenomicAlignments")
Loading required package: GenomicAlignments
Loading required package: SummarizedExperiment
Loading required package: MatrixGenerics
Loading required package: matrixStats
Attaching package: 'matrixStats'
The following objects are masked from 'package:Biobase':
anyMissing, rowMedians
Attaching package: 'MatrixGenerics'
The following objects are masked from 'package:matrixStats':
colAlls, colAnyNAs, colAnys, colAvgsPerRowSet, colCollapse,
colCounts, colCummaxs, colCummins, colCumprods, colCumsums,
colDiffs, colIQRDiffs, colIQRs, colLogSumExps, colMadDiffs,
colMads, colMaxs, colMeans2, colMedians, colMins, colOrderStats,
colProds, colQuantiles, colRanges, colRanks, colSdDiffs, colSds,
colSums2, colTabulates, colVarDiffs, colVars, colWeightedMads,
colWeightedMeans, colWeightedMedians, colWeightedSds,
colWeightedVars, rowAlls, rowAnyNAs, rowAnys, rowAvgsPerColSet,
rowCollapse, rowCounts, rowCummaxs, rowCummins, rowCumprods,
rowCumsums, rowDiffs, rowIQRDiffs, rowIQRs, rowLogSumExps,
rowMadDiffs, rowMads, rowMaxs, rowMeans2, rowMedians, rowMins,
rowOrderStats, rowProds, rowQuantiles, rowRanges, rowRanks,
rowSdDiffs, rowSds, rowSums2, rowTabulates, rowVarDiffs, rowVars,
rowWeightedMads, rowWeightedMeans, rowWeightedMedians,
rowWeightedSds, rowWeightedVars
The following object is masked from 'package:Biobase':
rowMedians
Loading required package: Biostrings
Loading required package: XVector
Attaching package: 'Biostrings'
The following object is masked from 'package:base':
strsplit
Loading required package: Rsamtools
[1] TRUE
> require("utils") || stop("unable to load Package:utils")
[1] TRUE
> require("AnnotationDbi") || stop("unable to load Package:AnnotationDbi")
[1] TRUE
> require("BSgenome.Drerio.UCSC.danRer10") || stop("unable to load Package:BSgenome.Drerio.UCSC.danRer10")
Loading required package: BSgenome.Drerio.UCSC.danRer10
Loading required package: BSgenome
Loading required package: BiocIO
Loading required package: rtracklayer
[1] TRUE
> require("Rsamtools") || stop("unable to load Rsamtools")
[1] TRUE
> require("rtracklayer") || stop("unable to load rtracklayer")
[1] TRUE
> require("testthat") || stop("unable to load testthat")
Loading required package: testthat
[1] TRUE
> test_check("ribosomeProfilingQC")
[ FAIL 0 | WARN 14 | SKIP 1 | PASS 43 ]
══ Skipped tests (1) ═══════════════════════════════════════════════════════════
• empty test (1): 'test_estimatePsite.R:18:1'
[ FAIL 0 | WARN 14 | SKIP 1 | PASS 43 ]
>
> proc.time()
user system elapsed
87.732 3.166 90.898
ribosomeProfilingQC.Rcheck/ribosomeProfilingQC-Ex.timings
| name | user | system | elapsed | |
| FLOSS | 2.745 | 0.103 | 2.876 | |
| PAmotif | 0.108 | 0.001 | 0.109 | |
| assignReadingFrame | 2.158 | 0.020 | 2.179 | |
| codonBias | 11.085 | 0.151 | 11.282 | |
| codonUsage | 0.304 | 0.007 | 0.310 | |
| countReads | 4.598 | 0.024 | 4.622 | |
| coverageDepth | 6.234 | 0.058 | 6.292 | |
| coverageRates | 7.066 | 0.006 | 7.072 | |
| cvgd-class | 0.016 | 0.000 | 0.016 | |
| estimatePsite | 3.800 | 0.057 | 3.857 | |
| filterCDS | 0.175 | 0.003 | 0.178 | |
| frameCounts | 0.08 | 0.00 | 0.08 | |
| getFPKM | 0.007 | 0.000 | 0.009 | |
| getORFscore | 0.034 | 0.002 | 0.036 | |
| getPsiteCoordinates | 0.482 | 0.042 | 0.525 | |
| ggBar | 0.278 | 0.002 | 0.280 | |
| metaPlot | 0 | 0 | 0 | |
| normBy | 0.868 | 0.007 | 0.876 | |
| normByRUVs | 0 | 0 | 0 | |
| normalizeTEbyLoess | 1.310 | 0.009 | 1.319 | |
| plotDistance2Codon | 0.052 | 0.000 | 0.052 | |
| plotFrameDensity | 0.333 | 0.001 | 0.335 | |
| plotSpliceEvent | 0 | 0 | 0 | |
| plotTE | 0.497 | 0.002 | 0.500 | |
| plotTranscript | 0.094 | 0.000 | 0.095 | |
| prepareCDS | 0.489 | 0.004 | 0.494 | |
| readsDistribution | 12.853 | 0.246 | 13.099 | |
| readsEndPlot | 4.902 | 0.078 | 4.980 | |
| readsLenToKeep | 0.197 | 0.001 | 0.199 | |
| ribosomeReleaseScore | 0 | 0 | 0 | |
| shiftReadsByFrame | 4.257 | 0.080 | 4.336 | |
| simulateRPF | 1.360 | 0.005 | 1.364 | |
| spliceEvent | 0.001 | 0.000 | 0.000 | |
| strandPlot | 2.659 | 0.017 | 2.677 | |
| summaryReadsLength | 0.205 | 0.000 | 0.204 | |
| translationalEfficiency | 0 | 0 | 0 | |