Back to Multiple platform build/check report for BioC 3.22:   simplified   long
ABCDEFGHIJKLMNOPQ[R]STUVWXYZ

This page was generated on 2025-11-03 12:02 -0500 (Mon, 03 Nov 2025).

HostnameOSArch (*)R versionInstalled pkgs
nebbiolo2Linux (Ubuntu 24.04.3 LTS)x86_644.5.1 Patched (2025-08-23 r88802) -- "Great Square Root" 4902
lconwaymacOS 12.7.6 Montereyx86_644.5.1 Patched (2025-09-10 r88807) -- "Great Square Root" 4692
kjohnson3macOS 13.7.7 Venturaarm644.5.1 Patched (2025-09-10 r88807) -- "Great Square Root" 4638
Click on any hostname to see more info about the system (e.g. compilers)      (*) as reported by 'uname -p', except on Windows and Mac OS X

All results for package rhdf5


To the developers/maintainers of the rhdf5 package:
- Allow up to 24 hours (and sometimes 48 hours) for your latest push to git@git.bioconductor.org:packages/rhdf5.git to reflect on this report. See Troubleshooting Build Report for more information.
- Use the following Renviron settings to reproduce errors and warnings.
- If 'R CMD check' started to fail recently on the Linux builder(s) over a missing dependency, add the missing dependency to 'Suggests:' in your DESCRIPTION file. See Renviron.bioc for more information.

raw results

Package 1788/2361HostnameOS / ArchINSTALLBUILDCHECKBUILD BIN
rhdf5 2.54.0  (landing page)
Hugo Gruson
Snapshot Date: 2025-11-02 13:45 -0500 (Sun, 02 Nov 2025)
git_url: https://git.bioconductor.org/packages/rhdf5
git_branch: RELEASE_3_22
git_last_commit: c7248dd
git_last_commit_date: 2025-10-29 10:10:03 -0500 (Wed, 29 Oct 2025)
nebbiolo2Linux (Ubuntu 24.04.3 LTS) / x86_64  OK    OK    WARNINGS  UNNEEDED, same version is already published
lconwaymacOS 12.7.6 Monterey / x86_64  OK    OK    WARNINGS    OK  UNNEEDED, same version is already published
kjohnson3macOS 13.7.7 Ventura / arm64  OK    OK    WARNINGS    OK  UNNEEDED, same version is already published



Results for Bioconductor software packages that depend directly on package rhdf5

QUICK STATSOS / ArchINSTALLBUILDCHECKBUILD BIN
nebbiolo2Linux (Ubuntu 24.04.3 LTS) / x86_64
0061
0061
001150
lconwaymacOS 12.7.6 Monterey / x86_64
0061
0160
021147
0060
kjohnson3macOS 13.7.7 Ventura / arm64
0061
0259
011147
0059
Package 1/61HostnameOS / ArchINSTALLBUILDCHECKBUILD BIN
alabaster.base 1.10.0  (landing page)
Aaron Lun
git_last_commit: 6b49bcc
git_last_commit_date: 2025-10-29 11:21:08 -0500
nebbiolo2Linux (Ubuntu 24.04.3 LTS) / x86_64  OK    OK    WARNINGS  UNNEEDED, same version is already published
lconwaymacOS 12.7.6 Monterey / x86_64  OK    OK    WARNINGS    OK  UNNEEDED, same version is already published
kjohnson3macOS 13.7.7 Ventura / arm64  OK    OK    WARNINGS    OK  UNNEEDED, same version is already published
Package 2/61HostnameOS / ArchINSTALLBUILDCHECKBUILD BIN
alabaster.bumpy 1.10.0  (landing page)
Aaron Lun
git_last_commit: 88d92ad
git_last_commit_date: 2025-10-29 11:21:24 -0500
nebbiolo2Linux (Ubuntu 24.04.3 LTS) / x86_64  OK    OK    OK  UNNEEDED, same version is already published
lconwaymacOS 12.7.6 Monterey / x86_64  OK    OK    OK    OK  UNNEEDED, same version is already published
kjohnson3macOS 13.7.7 Ventura / arm64  OK    OK    OK    OK  UNNEEDED, same version is already published
Package 3/61HostnameOS / ArchINSTALLBUILDCHECKBUILD BIN
alabaster.mae 1.10.0  (landing page)
Aaron Lun
git_last_commit: 5209c04
git_last_commit_date: 2025-10-29 11:21:27 -0500
nebbiolo2Linux (Ubuntu 24.04.3 LTS) / x86_64  OK    OK    OK  UNNEEDED, same version is already published
lconwaymacOS 12.7.6 Monterey / x86_64  OK    OK    OK    OK  UNNEEDED, same version is already published
kjohnson3macOS 13.7.7 Ventura / arm64  OK    OK    OK    OK  UNNEEDED, same version is already published
Package 4/61HostnameOS / ArchINSTALLBUILDCHECKBUILD BIN
alabaster.matrix 1.10.0  (landing page)
Aaron Lun
git_last_commit: 8892772
git_last_commit_date: 2025-10-29 11:21:14 -0500
nebbiolo2Linux (Ubuntu 24.04.3 LTS) / x86_64  OK    OK    OK  UNNEEDED, same version is already published
lconwaymacOS 12.7.6 Monterey / x86_64  OK    OK    OK    OK  UNNEEDED, same version is already published
kjohnson3macOS 13.7.7 Ventura / arm64  OK    OK    OK    OK  UNNEEDED, same version is already published
Package 5/61HostnameOS / ArchINSTALLBUILDCHECKBUILD BIN
alabaster.ranges 1.10.0  (landing page)
Aaron Lun
git_last_commit: e35375b
git_last_commit_date: 2025-10-29 11:21:11 -0500
nebbiolo2Linux (Ubuntu 24.04.3 LTS) / x86_64  OK    OK    OK  UNNEEDED, same version is already published
lconwaymacOS 12.7.6 Monterey / x86_64  OK    OK    OK    OK  UNNEEDED, same version is already published
kjohnson3macOS 13.7.7 Ventura / arm64  OK    OK    OK    OK  UNNEEDED, same version is already published
Package 6/61HostnameOS / ArchINSTALLBUILDCHECKBUILD BIN
alabaster.spatial 1.10.0  (landing page)
Aaron Lun
git_last_commit: d3f2737
git_last_commit_date: 2025-10-29 11:21:22 -0500
nebbiolo2Linux (Ubuntu 24.04.3 LTS) / x86_64  OK    OK    OK  UNNEEDED, same version is already published
lconwaymacOS 12.7.6 Monterey / x86_64  OK    OK    OK    OK  UNNEEDED, same version is already published
kjohnson3macOS 13.7.7 Ventura / arm64  OK    OK    OK    OK  UNNEEDED, same version is already published
Package 7/61HostnameOS / ArchINSTALLBUILDCHECKBUILD BIN
BayesSpace 1.20.0  (landing page)
Senbai Kang
git_last_commit: b8f514b
git_last_commit_date: 2025-10-29 11:03:05 -0500
nebbiolo2Linux (Ubuntu 24.04.3 LTS) / x86_64  OK    OK    OK  UNNEEDED, same version is already published
lconwaymacOS 12.7.6 Monterey / x86_64  OK    OK    OK    OK  UNNEEDED, same version is already published
kjohnson3macOS 13.7.7 Ventura / arm64  OK    OK    OK    OK  UNNEEDED, same version is already published
Package 8/61HostnameOS / ArchINSTALLBUILDCHECKBUILD BIN
BgeeCall 1.26.0  (landing page)
Julien Wollbrett
git_last_commit: 0d3bcb0
git_last_commit_date: 2025-10-29 10:56:16 -0500
nebbiolo2Linux (Ubuntu 24.04.3 LTS) / x86_64  OK    OK    OK  UNNEEDED, same version is already published
lconwaymacOS 12.7.6 Monterey / x86_64  OK    OK    OK    OK  UNNEEDED, same version is already published
kjohnson3macOS 13.7.7 Ventura / arm64  OK    OK    OK    OK  UNNEEDED, same version is already published
Package 9/61HostnameOS / ArchINSTALLBUILDCHECKBUILD BIN
biomformat 1.38.0  (landing page)
Paul J. McMurdie
git_last_commit: dc389e0
git_last_commit_date: 2025-10-29 10:28:59 -0500
nebbiolo2Linux (Ubuntu 24.04.3 LTS) / x86_64  OK    OK    OK  UNNEEDED, same version is already published
lconwaymacOS 12.7.6 Monterey / x86_64  OK    OK    OK    OK  UNNEEDED, same version is already published
kjohnson3macOS 13.7.7 Ventura / arm64  OK    OK    OK    OK  UNNEEDED, same version is already published
Package 10/61HostnameOS / ArchINSTALLBUILDCHECKBUILD BIN
bnbc 1.32.0  (landing page)
Kipper Fletez-Brant
git_last_commit: b9c6b77
git_last_commit_date: 2025-10-29 10:41:29 -0500
nebbiolo2Linux (Ubuntu 24.04.3 LTS) / x86_64  OK    OK    OK  UNNEEDED, same version is already published
lconwaymacOS 12.7.6 Monterey / x86_64  OK    OK    OK    OK  UNNEEDED, same version is already published
kjohnson3macOS 13.7.7 Ventura / arm64  OK    OK    OK    OK  UNNEEDED, same version is already published
Package 11/61HostnameOS / ArchINSTALLBUILDCHECKBUILD BIN
bsseq 1.46.0  (landing page)
Kasper Daniel Hansen
git_last_commit: ea21812
git_last_commit_date: 2025-10-29 10:11:31 -0500
nebbiolo2Linux (Ubuntu 24.04.3 LTS) / x86_64  OK    OK    OK  UNNEEDED, same version is already published
lconwaymacOS 12.7.6 Monterey / x86_64  OK    OK    OK    OK  UNNEEDED, same version is already published
kjohnson3macOS 13.7.7 Ventura / arm64  OK    OK    OK    OK  UNNEEDED, same version is already published
Package 12/61HostnameOS / ArchINSTALLBUILDCHECKBUILD BIN
chihaya 1.10.0  (landing page)
Aaron Lun
git_last_commit: 9c74cc8
git_last_commit_date: 2025-10-29 11:21:37 -0500
nebbiolo2Linux (Ubuntu 24.04.3 LTS) / x86_64  OK    OK    WARNINGS  UNNEEDED, same version is already published
lconwaymacOS 12.7.6 Monterey / x86_64  OK    OK    WARNINGS    OK  UNNEEDED, same version is already published
kjohnson3macOS 13.7.7 Ventura / arm64  OK    OK    WARNINGS    OK  UNNEEDED, same version is already published
Package 13/61HostnameOS / ArchINSTALLBUILDCHECKBUILD BIN
CiteFuse 1.22.0  (landing page)
Yingxin Lin
git_last_commit: 7efd8aa
git_last_commit_date: 2025-10-29 10:58:33 -0500
nebbiolo2Linux (Ubuntu 24.04.3 LTS) / x86_64  OK    OK    OK  UNNEEDED, same version is already published
lconwaymacOS 12.7.6 Monterey / x86_64  OK    OK    OK    OK  UNNEEDED, same version is already published
kjohnson3macOS 13.7.7 Ventura / arm64  OK    OK    OK    OK  UNNEEDED, same version is already published
Package 14/61HostnameOS / ArchINSTALLBUILDCHECKBUILD BIN
cmapR 1.22.0  (landing page)
Ted Natoli
git_last_commit: 7a01f1e
git_last_commit_date: 2025-10-29 10:57:41 -0500
nebbiolo2Linux (Ubuntu 24.04.3 LTS) / x86_64  OK    OK    OK  UNNEEDED, same version is already published
lconwaymacOS 12.7.6 Monterey / x86_64  OK    OK    OK    OK  UNNEEDED, same version is already published
kjohnson3macOS 13.7.7 Ventura / arm64  OK    OK    OK    OK  UNNEEDED, same version is already published
Package 15/61HostnameOS / ArchINSTALLBUILDCHECKBUILD BIN
CoGAPS 3.30.0  (landing page)
Elana J. Fertig
git_last_commit: 88653e4
git_last_commit_date: 2025-10-29 10:05:26 -0500
nebbiolo2Linux (Ubuntu 24.04.3 LTS) / x86_64  OK    OK    OK  UNNEEDED, same version is already published
lconwaymacOS 12.7.6 Monterey / x86_64  OK    OK    OK    OK  UNNEEDED, same version is already published
kjohnson3macOS 13.7.7 Ventura / arm64  OK    OK    OK    OK  UNNEEDED, same version is already published
Package 16/61HostnameOS / ArchINSTALLBUILDCHECKBUILD BIN
CopyNumberPlots 1.26.0  (landing page)
Bernat Gel
git_last_commit: 0687588
git_last_commit_date: 2025-10-29 10:51:43 -0500
nebbiolo2Linux (Ubuntu 24.04.3 LTS) / x86_64  OK    OK    OK  UNNEEDED, same version is already published
lconwaymacOS 12.7.6 Monterey / x86_64  OK    OK    OK    OK  UNNEEDED, same version is already published
kjohnson3macOS 13.7.7 Ventura / arm64  OK    OK    OK    OK  UNNEEDED, same version is already published
Package 17/61HostnameOS / ArchINSTALLBUILDCHECKBUILD BIN
CRISPRseek 1.50.0  (landing page)
Lihua Julie Zhu
git_last_commit: fd2babc
git_last_commit_date: 2025-10-29 10:17:22 -0500
nebbiolo2Linux (Ubuntu 24.04.3 LTS) / x86_64  OK    OK    OK  UNNEEDED, same version is already published
lconwaymacOS 12.7.6 Monterey / x86_64  OK    OK    OK    OK  UNNEEDED, same version is already published
kjohnson3macOS 13.7.7 Ventura / arm64  OK    OK    OK    OK  UNNEEDED, same version is already published
Package 18/61HostnameOS / ArchINSTALLBUILDCHECKBUILD BIN
cTRAP 1.28.0  (landing page)
Nuno Saraiva-Agostinho
git_last_commit: 216e3fc
git_last_commit_date: 2025-10-29 10:48:28 -0500
nebbiolo2Linux (Ubuntu 24.04.3 LTS) / x86_64  OK    OK    OK  UNNEEDED, same version is already published
lconwaymacOS 12.7.6 Monterey / x86_64  OK    OK    OK    OK  UNNEEDED, same version is already published
kjohnson3macOS 13.7.7 Ventura / arm64  OK    OK    OK    OK  UNNEEDED, same version is already published
Package 19/61HostnameOS / ArchINSTALLBUILDCHECKBUILD BIN
cytomapper 1.22.0  (landing page)
Lasse Meyer
git_last_commit: 0d3160a
git_last_commit_date: 2025-10-29 10:57:59 -0500
nebbiolo2Linux (Ubuntu 24.04.3 LTS) / x86_64  OK    OK    OK  UNNEEDED, same version is already published
lconwaymacOS 12.7.6 Monterey / x86_64  OK    OK    OK    OK  UNNEEDED, same version is already published
kjohnson3macOS 13.7.7 Ventura / arm64  OK    OK    OK    OK  UNNEEDED, same version is already published
Package 20/61HostnameOS / ArchINSTALLBUILDCHECKBUILD BIN
diffHic 1.42.0  (landing page)
Aaron Lun , Gordon Smyth , Hannah Coughlin
git_last_commit: d1e2c99
git_last_commit_date: 2025-10-29 10:25:47 -0500
nebbiolo2Linux (Ubuntu 24.04.3 LTS) / x86_64  OK    OK    OK  UNNEEDED, same version is already published
lconwaymacOS 12.7.6 Monterey / x86_64  OK    OK    OK    OK  UNNEEDED, same version is already published
kjohnson3macOS 13.7.7 Ventura / arm64  OK    OK    OK    OK  UNNEEDED, same version is already published
Package 21/61HostnameOS / ArchINSTALLBUILDCHECKBUILD BIN
DropletUtils 1.30.0  (landing page)
Jonathan Griffiths
git_last_commit: 6ef5eaa
git_last_commit_date: 2025-10-29 10:42:43 -0500
nebbiolo2Linux (Ubuntu 24.04.3 LTS) / x86_64  OK    OK    WARNINGS  UNNEEDED, same version is already published
lconwaymacOS 12.7.6 Monterey / x86_64  OK    OK    WARNINGS    OK  UNNEEDED, same version is already published
kjohnson3macOS 13.7.7 Ventura / arm64  OK    OK    WARNINGS    OK  UNNEEDED, same version is already published
Package 22/61HostnameOS / ArchINSTALLBUILDCHECKBUILD BIN
epigraHMM 1.18.0  (landing page)
Pedro Baldoni
git_last_commit: d390572
git_last_commit_date: 2025-10-29 11:09:46 -0500
nebbiolo2Linux (Ubuntu 24.04.3 LTS) / x86_64  OK    OK    WARNINGS  UNNEEDED, same version is already published
lconwaymacOS 12.7.6 Monterey / x86_64  OK    OK    WARNINGS    OK  UNNEEDED, same version is already published
kjohnson3macOS 13.7.7 Ventura / arm64  OK    OK    WARNINGS    OK  UNNEEDED, same version is already published
Package 23/61HostnameOS / ArchINSTALLBUILDCHECKBUILD BIN
EventPointer 3.18.0  (landing page)
Juan A. Ferrer-Bonsoms
git_last_commit: 816a09d
git_last_commit_date: 2025-10-29 10:37:08 -0500
nebbiolo2Linux (Ubuntu 24.04.3 LTS) / x86_64  OK    OK    OK  UNNEEDED, same version is already published
lconwaymacOS 12.7.6 Monterey / x86_64  OK    OK    OK    OK  UNNEEDED, same version is already published
kjohnson3macOS 13.7.7 Ventura / arm64  OK    OK    OK    OK  UNNEEDED, same version is already published
Package 24/61HostnameOS / ArchINSTALLBUILDCHECKBUILD BIN
FRASER 2.6.0  (landing page)
Christian Mertes
git_last_commit: b8faec2
git_last_commit_date: 2025-10-29 10:58:54 -0500
nebbiolo2Linux (Ubuntu 24.04.3 LTS) / x86_64  OK    OK    OK  UNNEEDED, same version is already published
lconwaymacOS 12.7.6 Monterey / x86_64  OK    OK    OK    OK  UNNEEDED, same version is already published
kjohnson3macOS 13.7.7 Ventura / arm64  OK    OK    OK    OK  UNNEEDED, same version is already published
Package 25/61HostnameOS / ArchINSTALLBUILDCHECKBUILD BIN
GenomicScores 2.22.0  (landing page)
Robert Castelo
git_last_commit: 8f6570c
git_last_commit_date: 2025-10-29 10:38:07 -0500
nebbiolo2Linux (Ubuntu 24.04.3 LTS) / x86_64  OK    OK    OK  UNNEEDED, same version is already published
lconwaymacOS 12.7.6 Monterey / x86_64  OK    OK    OK    OK  UNNEEDED, same version is already published
kjohnson3macOS 13.7.7 Ventura / arm64  OK    OK    OK    OK  UNNEEDED, same version is already published
Package 26/61HostnameOS / ArchINSTALLBUILDCHECKBUILD BIN
gep2pep 1.30.0  (landing page)
Francesco Napolitano
git_last_commit: d902b27
git_last_commit_date: 2025-10-29 10:42:15 -0500
nebbiolo2Linux (Ubuntu 24.04.3 LTS) / x86_64  OK    OK    OK  UNNEEDED, same version is already published
lconwaymacOS 12.7.6 Monterey / x86_64  OK    OK    OK    OK  UNNEEDED, same version is already published
kjohnson3macOS 13.7.7 Ventura / arm64  OK    OK    OK    OK  UNNEEDED, same version is already published
Package 27/61HostnameOS / ArchINSTALLBUILDCHECKBUILD BIN
GSCA 2.40.0  (landing page)
Zhicheng Ji
git_last_commit: 0731439
git_last_commit_date: 2025-10-29 10:18:05 -0500
nebbiolo2Linux (Ubuntu 24.04.3 LTS) / x86_64  OK    OK    OK  UNNEEDED, same version is already published
lconwaymacOS 12.7.6 Monterey / x86_64  OK    OK    OK    OK  UNNEEDED, same version is already published
kjohnson3macOS 13.7.7 Ventura / arm64  OK    OK    OK    OK  UNNEEDED, same version is already published
Package 28/61HostnameOS / ArchINSTALLBUILDCHECKBUILD BIN
h5mread 1.2.0  (landing page)
Hervé Pagès
git_last_commit: e2dfd60
git_last_commit_date: 2025-10-29 13:52:36 -0500
nebbiolo2Linux (Ubuntu 24.04.3 LTS) / x86_64  OK    OK    WARNINGS  UNNEEDED, same version is already published
lconwaymacOS 12.7.6 Monterey / x86_64  OK    OK    WARNINGS    OK  UNNEEDED, same version is already published
kjohnson3macOS 13.7.7 Ventura / arm64  OK    OK    WARNINGS    OK  UNNEEDED, same version is already published
Package 29/61HostnameOS / ArchINSTALLBUILDCHECKBUILD BIN
h5vc 2.44.0  (landing page)
Paul Theodor Pyl
git_last_commit: 159497f
git_last_commit_date: 2025-10-29 10:17:13 -0500
nebbiolo2Linux (Ubuntu 24.04.3 LTS) / x86_64  OK    OK    WARNINGS  UNNEEDED, same version is already published
lconwaymacOS 12.7.6 Monterey / x86_64  OK    OK    WARNINGS    OK  UNNEEDED, same version is already published
kjohnson3macOS 13.7.7 Ventura / arm64  OK    OK    WARNINGS    OK  UNNEEDED, same version is already published
Package 30/61HostnameOS / ArchINSTALLBUILDCHECKBUILD BIN
HDF5Array 1.38.0  (landing page)
Hervé Pagès
git_last_commit: 9bca08f
git_last_commit_date: 2025-10-29 12:21:26 -0500
nebbiolo2Linux (Ubuntu 24.04.3 LTS) / x86_64  OK    OK    OK  UNNEEDED, same version is already published
lconwaymacOS 12.7.6 Monterey / x86_64  OK    OK    ERROR    OK  
kjohnson3macOS 13.7.7 Ventura / arm64  OK    OK    ERROR    OK  
Package 31/61HostnameOS / ArchINSTALLBUILDCHECKBUILD BIN
HicAggR 1.6.0  (landing page)
Olivier Cuvier
git_last_commit: 8551a70
git_last_commit_date: 2025-10-29 11:30:21 -0500
nebbiolo2Linux (Ubuntu 24.04.3 LTS) / x86_64  OK    OK    WARNINGS  UNNEEDED, same version is already published
lconwaymacOS 12.7.6 Monterey / x86_64  OK    OK    WARNINGS    OK  UNNEEDED, same version is already published
kjohnson3macOS 13.7.7 Ventura / arm64  OK    OK    WARNINGS    OK  UNNEEDED, same version is already published
Package 32/61HostnameOS / ArchINSTALLBUILDCHECKBUILD BIN
HiCBricks 1.28.0  (landing page)
Koustav Pal
git_last_commit: 3296656
git_last_commit_date: 2025-10-29 10:48:17 -0500
nebbiolo2Linux (Ubuntu 24.04.3 LTS) / x86_64  OK    OK    OK  UNNEEDED, same version is already published
lconwaymacOS 12.7.6 Monterey / x86_64  OK    OK    OK    OK  UNNEEDED, same version is already published
kjohnson3macOS 13.7.7 Ventura / arm64  OK    OK    OK    OK  UNNEEDED, same version is already published
Package 33/61HostnameOS / ArchINSTALLBUILDCHECKBUILD BIN
HiCcompare 1.32.0  (landing page)
Mikhail Dozmorov
git_last_commit: 9add140
git_last_commit_date: 2025-10-29 10:39:45 -0500
nebbiolo2Linux (Ubuntu 24.04.3 LTS) / x86_64  OK    OK    OK  UNNEEDED, same version is already published
lconwaymacOS 12.7.6 Monterey / x86_64  OK    OK    OK    OK  UNNEEDED, same version is already published
kjohnson3macOS 13.7.7 Ventura / arm64  OK    OK    OK    OK  UNNEEDED, same version is already published
Package 34/61HostnameOS / ArchINSTALLBUILDCHECKBUILD BIN
HiCExperiment 1.10.0  (landing page)
Jacques Serizay
git_last_commit: 7a770a4
git_last_commit_date: 2025-10-29 11:21:02 -0500
nebbiolo2Linux (Ubuntu 24.04.3 LTS) / x86_64  OK    OK    OK  UNNEEDED, same version is already published
lconwaymacOS 12.7.6 Monterey / x86_64  OK    OK    OK    OK  UNNEEDED, same version is already published
kjohnson3macOS 13.7.7 Ventura / arm64  OK    OK    OK    OK  UNNEEDED, same version is already published
Package 35/61HostnameOS / ArchINSTALLBUILDCHECKBUILD BIN
HiCPotts 1.0.0  (landing page)
Itunu. Godwin Osuntoki
git_last_commit: d5f20b8
git_last_commit_date: 2025-10-29 11:37:09 -0500
nebbiolo2Linux (Ubuntu 24.04.3 LTS) / x86_64  OK    OK    OK  UNNEEDED, same version is already published
lconwaymacOS 12.7.6 Monterey / x86_64  OK    OK    OK    OK  UNNEEDED, same version is already published
kjohnson3macOS 13.7.7 Ventura / arm64  OK    OK    OK    OK  UNNEEDED, same version is already published
Package 36/61HostnameOS / ArchINSTALLBUILDCHECKBUILD BIN
IONiseR 2.34.0  (landing page)
Mike Smith
git_last_commit: 25723cd
git_last_commit_date: 2025-10-29 10:26:28 -0500
nebbiolo2Linux (Ubuntu 24.04.3 LTS) / x86_64  OK    OK    OK  UNNEEDED, same version is already published
lconwaymacOS 12.7.6 Monterey / x86_64  OK    OK    OK    OK  UNNEEDED, same version is already published
kjohnson3macOS 13.7.7 Ventura / arm64  OK    OK    OK    OK  UNNEEDED, same version is already published
Package 37/61HostnameOS / ArchINSTALLBUILDCHECKBUILD BIN
LoomExperiment 1.28.0  (landing page)
Bioconductor Package Maintainer
git_last_commit: 4b227ef
git_last_commit_date: 2025-10-29 10:48:53 -0500
nebbiolo2Linux (Ubuntu 24.04.3 LTS) / x86_64  OK    OK    OK  UNNEEDED, same version is already published
lconwaymacOS 12.7.6 Monterey / x86_64  OK    OK    OK    OK  UNNEEDED, same version is already published
kjohnson3macOS 13.7.7 Ventura / arm64  OK    OK    OK    OK  UNNEEDED, same version is already published
Package 38/61HostnameOS / ArchINSTALLBUILDCHECKBUILD BIN
mariner 1.10.0  (landing page)
Eric Davis
git_last_commit: 0e27ac7
git_last_commit_date: 2025-10-29 11:23:11 -0500
nebbiolo2Linux (Ubuntu 24.04.3 LTS) / x86_64  OK    OK    OK  UNNEEDED, same version is already published
lconwaymacOS 12.7.6 Monterey / x86_64  OK    OK    OK    OK  UNNEEDED, same version is already published
kjohnson3macOS 13.7.7 Ventura / arm64  OK    OK    OK    OK  UNNEEDED, same version is already published
Package 39/61HostnameOS / ArchINSTALLBUILDCHECKBUILD BIN
methodical 1.6.0  (landing page)
Richard Heery
git_last_commit: ebf4ab4
git_last_commit_date: 2025-10-29 11:27:18 -0500
nebbiolo2Linux (Ubuntu 24.04.3 LTS) / x86_64  OK    OK    WARNINGS  UNNEEDED, same version is already published
lconwaymacOS 12.7.6 Monterey / x86_64  OK    OK    WARNINGS    OK  UNNEEDED, same version is already published
kjohnson3macOS 13.7.7 Ventura / arm64  OK    OK    WARNINGS    OK  UNNEEDED, same version is already published
Package 40/61HostnameOS / ArchINSTALLBUILDCHECKBUILD BIN
MOFA2 1.20.0  (landing page)
Ricard Argelaguet
git_last_commit: 4dd4d60
git_last_commit_date: 2025-10-29 11:03:35 -0500
nebbiolo2Linux (Ubuntu 24.04.3 LTS) / x86_64  OK    OK    WARNINGS  UNNEEDED, same version is already published
lconwaymacOS 12.7.6 Monterey / x86_64  OK    OK    WARNINGS    OK  UNNEEDED, same version is already published
kjohnson3macOS 13.7.7 Ventura / arm64  OK    ERROR  skippedskipped
Package 41/61HostnameOS / ArchINSTALLBUILDCHECKBUILD BIN
MoleculeExperiment 1.10.0  (landing page)
Shila Ghazanfar
git_last_commit: b604184
git_last_commit_date: 2025-10-29 11:22:45 -0500
nebbiolo2Linux (Ubuntu 24.04.3 LTS) / x86_64  OK    OK    OK  UNNEEDED, same version is already published
lconwaymacOS 12.7.6 Monterey / x86_64  OK    OK    OK    OK  UNNEEDED, same version is already published
kjohnson3macOS 13.7.7 Ventura / arm64  OK    OK    OK    OK  UNNEEDED, same version is already published
Package 42/61HostnameOS / ArchINSTALLBUILDCHECKBUILD BIN
MuData 1.14.0  (landing page)
Ilia Kats
git_last_commit: b15275d
git_last_commit_date: 2025-10-29 11:15:11 -0500
nebbiolo2Linux (Ubuntu 24.04.3 LTS) / x86_64  OK    OK    OK  UNNEEDED, same version is already published
lconwaymacOS 12.7.6 Monterey / x86_64  OK    OK    OK    OK  UNNEEDED, same version is already published
kjohnson3macOS 13.7.7 Ventura / arm64  OK    OK    OK    OK  UNNEEDED, same version is already published
Package 43/61HostnameOS / ArchINSTALLBUILDCHECKBUILD BIN
octad 1.12.0  (landing page)
E. Chekalin
git_last_commit: e8beea0
git_last_commit_date: 2025-10-29 11:19:54 -0500
nebbiolo2Linux (Ubuntu 24.04.3 LTS) / x86_64  OK    OK    OK  UNNEEDED, same version is already published
lconwaymacOS 12.7.6 Monterey / x86_64  OK    OK    OK    OK  UNNEEDED, same version is already published
kjohnson3macOS 13.7.7 Ventura / arm64  OK    OK    OK    OK  UNNEEDED, same version is already published
Package 44/61HostnameOS / ArchINSTALLBUILDCHECKBUILD BIN
phantasus 1.30.0  (landing page)
Alexey Sergushichev
git_last_commit: 7182df1
git_last_commit_date: 2025-10-29 10:44:01 -0500
nebbiolo2Linux (Ubuntu 24.04.3 LTS) / x86_64  OK    OK    OK  UNNEEDED, same version is already published
lconwaymacOS 12.7.6 Monterey / x86_64  OK    OK    OK    OK  UNNEEDED, same version is already published
kjohnson3macOS 13.7.7 Ventura / arm64  OK    OK    OK    OK  UNNEEDED, same version is already published
Package 45/61HostnameOS / ArchINSTALLBUILDCHECKBUILD BIN
plotgardener 1.16.0  (landing page)
Nicole Kramer
git_last_commit: eb3d8c8
git_last_commit_date: 2025-10-29 11:11:39 -0500
nebbiolo2Linux (Ubuntu 24.04.3 LTS) / x86_64  OK    OK    OK  UNNEEDED, same version is already published
lconwaymacOS 12.7.6 Monterey / x86_64  OK    OK    OK    OK  UNNEEDED, same version is already published
kjohnson3macOS 13.7.7 Ventura / arm64  OK    OK    WARNINGS    OK  UNNEEDED, same version is already published
Package 46/61HostnameOS / ArchINSTALLBUILDCHECKBUILD BIN
ptairMS 1.18.0  (landing page)
camille Roquencourt
git_last_commit: 87f2663
git_last_commit_date: 2025-10-29 11:07:57 -0500
nebbiolo2Linux (Ubuntu 24.04.3 LTS) / x86_64  OK    OK    WARNINGS  UNNEEDED, same version is already published
lconwaymacOS 12.7.6 Monterey / x86_64  OK    OK    WARNINGS    OK  UNNEEDED, same version is already published
kjohnson3macOS 13.7.7 Ventura / arm64  OK    OK    WARNINGS    OK  UNNEEDED, same version is already published
Package 47/61HostnameOS / ArchINSTALLBUILDCHECKBUILD BIN
PureCN 2.16.0  (landing page)
Markus Riester
git_last_commit: c7ace8b
git_last_commit_date: 2025-10-29 10:31:57 -0500
nebbiolo2Linux (Ubuntu 24.04.3 LTS) / x86_64  OK    OK    OK  UNNEEDED, same version is already published
lconwaymacOS 12.7.6 Monterey / x86_64  OK    OK    OK    OK  UNNEEDED, same version is already published
kjohnson3macOS 13.7.7 Ventura / arm64  OK    OK    OK    OK  UNNEEDED, same version is already published
Package 48/61HostnameOS / ArchINSTALLBUILDCHECKBUILD BIN
recountmethylation 1.20.0  (landing page)
Sean K Maden
git_last_commit: 3d96dab
git_last_commit_date: 2025-10-29 11:01:55 -0500
nebbiolo2Linux (Ubuntu 24.04.3 LTS) / x86_64  OK    OK    OK  UNNEEDED, same version is already published
lconwaymacOS 12.7.6 Monterey / x86_64  OK    OK    OK    OK  UNNEEDED, same version is already published
kjohnson3macOS 13.7.7 Ventura / arm64  OK    OK    OK    OK  UNNEEDED, same version is already published
Package 49/61HostnameOS / ArchINSTALLBUILDCHECKBUILD BIN
ribor 1.22.0  (landing page)
Michael Geng
git_last_commit: 65f2c78
git_last_commit_date: 2025-10-29 10:57:14 -0500
nebbiolo2Linux (Ubuntu 24.04.3 LTS) / x86_64  OK    OK    OK  UNNEEDED, same version is already published
lconwaymacOS 12.7.6 Monterey / x86_64  OK    OK    OK    OK  UNNEEDED, same version is already published
kjohnson3macOS 13.7.7 Ventura / arm64  OK    OK    OK    OK  UNNEEDED, same version is already published
Package 50/61HostnameOS / ArchINSTALLBUILDCHECKBUILD BIN
scafari 1.0.0  (landing page)
Sophie Wind
git_last_commit: 31af230
git_last_commit_date: 2025-10-29 11:36:58 -0500
nebbiolo2Linux (Ubuntu 24.04.3 LTS) / x86_64  OK    OK    OK  UNNEEDED, same version is already published
lconwaymacOS 12.7.6 Monterey / x86_64  OK    OK    OK    OK  UNNEEDED, same version is already published
kjohnson3macOS 13.7.7 Ventura / arm64  OK    OK    OK    OK  UNNEEDED, same version is already published
Package 51/61HostnameOS / ArchINSTALLBUILDCHECKBUILD BIN
scCB2 1.20.0  (landing page)
Zijian Ni
git_last_commit: 16b341e
git_last_commit_date: 2025-10-29 11:00:33 -0500
nebbiolo2Linux (Ubuntu 24.04.3 LTS) / x86_64  OK    OK    OK  UNNEEDED, same version is already published
lconwaymacOS 12.7.6 Monterey / x86_64  OK    OK    OK    OK  UNNEEDED, same version is already published
kjohnson3macOS 13.7.7 Ventura / arm64  OK    OK    OK    OK  UNNEEDED, same version is already published
Package 52/61HostnameOS / ArchINSTALLBUILDCHECKBUILD BIN
scMitoMut 1.6.0  (landing page)
Wenjie Sun
git_last_commit: ed0def1
git_last_commit_date: 2025-10-29 11:28:15 -0500
nebbiolo2Linux (Ubuntu 24.04.3 LTS) / x86_64  OK    OK    OK  UNNEEDED, same version is already published
lconwaymacOS 12.7.6 Monterey / x86_64  OK    OK    OK    OK  UNNEEDED, same version is already published
kjohnson3macOS 13.7.7 Ventura / arm64  OK    OK    OK    OK  UNNEEDED, same version is already published
Package 53/61HostnameOS / ArchINSTALLBUILDCHECKBUILD BIN
scone 1.34.0  (landing page)
Davide Risso
git_last_commit: a2184ae
git_last_commit_date: 2025-10-29 10:36:05 -0500
nebbiolo2Linux (Ubuntu 24.04.3 LTS) / x86_64  OK    OK    OK  UNNEEDED, same version is already published
lconwaymacOS 12.7.6 Monterey / x86_64  OK    OK    OK    OK  UNNEEDED, same version is already published
kjohnson3macOS 13.7.7 Ventura / arm64  OK    OK    OK    OK  UNNEEDED, same version is already published
Package 54/61HostnameOS / ArchINSTALLBUILDCHECKBUILD BIN
scRNAseqApp 1.10.0  (landing page)
Jianhong Ou
git_last_commit: 799772d
git_last_commit_date: 2025-10-29 11:20:39 -0500
nebbiolo2Linux (Ubuntu 24.04.3 LTS) / x86_64  OK    OK    OK  UNNEEDED, same version is already published
lconwaymacOS 12.7.6 Monterey / x86_64  OK    OK    ERROR    OK  
kjohnson3macOS 13.7.7 Ventura / arm64  OK    OK    OK    OK  UNNEEDED, same version is already published
Package 55/61HostnameOS / ArchINSTALLBUILDCHECKBUILD BIN
signatureSearch 1.24.0  (landing page)
Brendan Gongol
git_last_commit: ce6ab95
git_last_commit_date: 2025-10-29 10:55:44 -0500
nebbiolo2Linux (Ubuntu 24.04.3 LTS) / x86_64  OK    OK    OK  UNNEEDED, same version is already published
lconwaymacOS 12.7.6 Monterey / x86_64  OK    OK    OK    OK  UNNEEDED, same version is already published
kjohnson3macOS 13.7.7 Ventura / arm64  OK    OK    OK    OK  UNNEEDED, same version is already published
Package 56/61HostnameOS / ArchINSTALLBUILDCHECKBUILD BIN
SpaceTrooper 1.0.0  (landing page)
Dario Righelli
git_last_commit: 88c0696
git_last_commit_date: 2025-10-29 11:37:03 -0500
nebbiolo2Linux (Ubuntu 24.04.3 LTS) / x86_64  OK    OK    OK  UNNEEDED, same version is already published
lconwaymacOS 12.7.6 Monterey / x86_64  OK    OK    OK    OK  UNNEEDED, same version is already published
kjohnson3macOS 13.7.7 Ventura / arm64  OK    OK    OK    OK  UNNEEDED, same version is already published
Package 57/61HostnameOS / ArchINSTALLBUILDCHECKBUILD BIN
SpliceWiz 1.12.0  (landing page)
Alex Chit Hei Wong
git_last_commit: 1767347
git_last_commit_date: 2025-10-29 11:17:35 -0500
nebbiolo2Linux (Ubuntu 24.04.3 LTS) / x86_64  OK    OK    WARNINGS  UNNEEDED, same version is already published
lconwaymacOS 12.7.6 Monterey / x86_64  OK    OK    WARNINGS    OK  UNNEEDED, same version is already published
kjohnson3macOS 13.7.7 Ventura / arm64  OK    OK    WARNINGS    OK  UNNEEDED, same version is already published
Package 58/61HostnameOS / ArchINSTALLBUILDCHECKBUILD BIN
SpotClean 1.12.0  (landing page)
Zijian Ni
git_last_commit: b7f5f4b
git_last_commit_date: 2025-10-29 11:17:07 -0500
nebbiolo2Linux (Ubuntu 24.04.3 LTS) / x86_64  OK    OK    OK  UNNEEDED, same version is already published
lconwaymacOS 12.7.6 Monterey / x86_64  OK    OK    OK    OK  UNNEEDED, same version is already published
kjohnson3macOS 13.7.7 Ventura / arm64  OK    OK    OK    OK  UNNEEDED, same version is already published
Package 59/61HostnameOS / ArchINSTALLBUILDCHECKBUILD BIN
SurfR 1.6.0  (landing page)
Aurora Maurizio
git_last_commit: 6bb52a0
git_last_commit_date: 2025-10-29 11:27:44 -0500
nebbiolo2Linux (Ubuntu 24.04.3 LTS) / x86_64  OK    OK    OK  UNNEEDED, same version is already published
lconwaymacOS 12.7.6 Monterey / x86_64  OK    OK    OK    OK  UNNEEDED, same version is already published
kjohnson3macOS 13.7.7 Ventura / arm64  OK    OK    OK    OK  UNNEEDED, same version is already published
Package 60/61HostnameOS / ArchINSTALLBUILDCHECKBUILD BIN
TENxIO 1.12.0  (landing page)
Marcel Ramos
git_last_commit: 4adee52
git_last_commit_date: 2025-10-29 11:19:24 -0500
nebbiolo2Linux (Ubuntu 24.04.3 LTS) / x86_64  OK    OK    OK  UNNEEDED, same version is already published
lconwaymacOS 12.7.6 Monterey / x86_64  OK    ERROR  skippedskipped
kjohnson3macOS 13.7.7 Ventura / arm64  OK    ERROR  skippedskipped
Package 61/61HostnameOS / ArchINSTALLBUILDCHECKBUILD BIN
trackViewer 1.46.0  (landing page)
Jianhong Ou
git_last_commit: 7f9ba3a
git_last_commit_date: 2025-10-29 10:17:52 -0500
nebbiolo2Linux (Ubuntu 24.04.3 LTS) / x86_64  OK    OK    OK  UNNEEDED, same version is already published
lconwaymacOS 12.7.6 Monterey / x86_64  OK    OK    OK    OK  UNNEEDED, same version is already published
kjohnson3macOS 13.7.7 Ventura / arm64  OK    OK    OK    OK  UNNEEDED, same version is already published