| Back to Multiple platform build/check report for BioC 3.22: simplified long | 
 | 
This page was generated on 2025-10-24 12:04 -0400 (Fri, 24 Oct 2025).
| Hostname | OS | Arch (*) | R version | Installed pkgs | 
|---|---|---|---|---|
| nebbiolo2 | Linux (Ubuntu 24.04.3 LTS) | x86_64 | 4.5.1 Patched (2025-08-23 r88802) -- "Great Square Root" | 4898 | 
| lconway | macOS 12.7.6 Monterey | x86_64 | 4.5.1 Patched (2025-09-10 r88807) -- "Great Square Root" | 4688 | 
| kjohnson3 | macOS 13.7.7 Ventura | arm64 | 4.5.1 Patched (2025-09-10 r88807) -- "Great Square Root" | 4634 | 
| taishan | Linux (openEuler 24.03 LTS) | aarch64 | 4.5.0 (2025-04-11) -- "How About a Twenty-Six" | 4658 | 
| Click on any hostname to see more info about the system (e.g. compilers) (*) as reported by 'uname -p', except on Windows and Mac OS X | ||||
| Package 1643/2359 | Hostname | OS / Arch | INSTALL | BUILD | CHECK | BUILD BIN | ||||||||
| proDA 1.23.0  (landing page) Constantin Ahlmann-Eltze 
 | nebbiolo2 | Linux (Ubuntu 24.04.3 LTS) / x86_64 | OK | OK | OK |  | ||||||||
| lconway | macOS 12.7.6 Monterey / x86_64 | OK | OK | OK | OK |  | ||||||||
| kjohnson3 | macOS 13.7.7 Ventura / arm64 | OK | OK | OK | OK |  | ||||||||
| taishan | Linux (openEuler 24.03 LTS) / aarch64 | OK | OK | NA | ||||||||||
| To the developers/maintainers of the proDA package: - Allow up to 24 hours (and sometimes 48 hours) for your latest push to git@git.bioconductor.org:packages/proDA.git to reflect on this report. See Troubleshooting Build Report for more information. - Use the following Renviron settings to reproduce errors and warnings. - If 'R CMD check' started to fail recently on the Linux builder(s) over a missing dependency, add the missing dependency to 'Suggests:' in your DESCRIPTION file. See Renviron.bioc for more information. | 
| Package: proDA | 
| Version: 1.23.0 | 
| Command: /home/biocbuild/bbs-3.22-bioc/R/bin/R CMD check --install=check:proDA.install-out.txt --library=/home/biocbuild/bbs-3.22-bioc/R/site-library --timings proDA_1.23.0.tar.gz | 
| StartedAt: 2025-10-24 02:46:47 -0400 (Fri, 24 Oct 2025) | 
| EndedAt: 2025-10-24 02:52:13 -0400 (Fri, 24 Oct 2025) | 
| EllapsedTime: 325.3 seconds | 
| RetCode: 0 | 
| Status: OK | 
| CheckDir: proDA.Rcheck | 
| Warnings: 0 | 
##############################################################################
##############################################################################
###
### Running command:
###
###   /home/biocbuild/bbs-3.22-bioc/R/bin/R CMD check --install=check:proDA.install-out.txt --library=/home/biocbuild/bbs-3.22-bioc/R/site-library --timings proDA_1.23.0.tar.gz
###
##############################################################################
##############################################################################
* using log directory ‘/home/biocbuild/bbs-3.22-bioc/meat/proDA.Rcheck’
* using R version 4.5.1 Patched (2025-08-23 r88802)
* using platform: x86_64-pc-linux-gnu
* R was compiled by
    gcc (Ubuntu 13.3.0-6ubuntu2~24.04) 13.3.0
    GNU Fortran (Ubuntu 13.3.0-6ubuntu2~24.04) 13.3.0
* running under: Ubuntu 24.04.3 LTS
* using session charset: UTF-8
* checking for file ‘proDA/DESCRIPTION’ ... OK
* checking extension type ... Package
* this is package ‘proDA’ version ‘1.23.0’
* package encoding: UTF-8
* checking package namespace information ... OK
* checking package dependencies ... OK
* checking if this is a source package ... OK
* checking if there is a namespace ... OK
* checking for hidden files and directories ... OK
* checking for portable file names ... OK
* checking for sufficient/correct file permissions ... OK
* checking whether package ‘proDA’ can be installed ... OK
* checking installed package size ... OK
* checking package directory ... OK
* checking ‘build’ directory ... OK
* checking DESCRIPTION meta-information ... OK
* checking top-level files ... OK
* checking for left-over files ... OK
* checking index information ... OK
* checking package subdirectories ... OK
* checking code files for non-ASCII characters ... OK
* checking R files for syntax errors ... OK
* checking whether the package can be loaded ... OK
* checking whether the package can be loaded with stated dependencies ... OK
* checking whether the package can be unloaded cleanly ... OK
* checking whether the namespace can be loaded with stated dependencies ... OK
* checking whether the namespace can be unloaded cleanly ... OK
* checking loading without being on the library search path ... OK
* checking dependencies in R code ... OK
* checking S3 generic/method consistency ... OK
* checking replacement functions ... OK
* checking foreign function calls ... OK
* checking R code for possible problems ... OK
* checking Rd files ... OK
* checking Rd metadata ... OK
* checking Rd cross-references ... OK
* checking for missing documentation entries ... OK
* checking for code/documentation mismatches ... OK
* checking Rd \usage sections ... OK
* checking Rd contents ... OK
* checking for unstated dependencies in examples ... OK
* checking files in ‘vignettes’ ... OK
* checking examples ... OK
* checking for unstated dependencies in ‘tests’ ... OK
* checking tests ...
  Running ‘testthat.R’
 OK
* checking for unstated dependencies in vignettes ... OK
* checking package vignettes ... OK
* checking re-building of vignette outputs ... OK
* checking PDF version of manual ... OK
* DONE
Status: OK
proDA.Rcheck/00install.out
############################################################################## ############################################################################## ### ### Running command: ### ### /home/biocbuild/bbs-3.22-bioc/R/bin/R CMD INSTALL proDA ### ############################################################################## ############################################################################## * installing to library ‘/home/biocbuild/bbs-3.22-bioc/R/site-library’ * installing *source* package ‘proDA’ ... ** this is package ‘proDA’ version ‘1.23.0’ ** using staged installation ** R ** inst ** byte-compile and prepare package for lazy loading ** help *** installing help indices ** building package indices ** installing vignettes ** testing if installed package can be loaded from temporary location ** testing if installed package can be loaded from final location ** testing if installed package keeps a record of temporary installation path * DONE (proDA)
proDA.Rcheck/tests/testthat.Rout
R version 4.5.1 Patched (2025-08-23 r88802) -- "Great Square Root"
Copyright (C) 2025 The R Foundation for Statistical Computing
Platform: x86_64-pc-linux-gnu
R is free software and comes with ABSOLUTELY NO WARRANTY.
You are welcome to redistribute it under certain conditions.
Type 'license()' or 'licence()' for distribution details.
R is a collaborative project with many contributors.
Type 'contributors()' for more information and
'citation()' on how to cite R or R packages in publications.
Type 'demo()' for some demos, 'help()' for on-line help, or
'help.start()' for an HTML browser interface to help.
Type 'q()' to quit R.
> library(testthat)
> library(proDA)
> 
> test_check("proDA")
[ FAIL 0 | WARN 0 | SKIP 1 | PASS 126 ]
══ Skipped tests (1) ═══════════════════════════════════════════════════════════
• Very slow (1): 'test-proDA.R:66:3'
[ FAIL 0 | WARN 0 | SKIP 1 | PASS 126 ]
> 
> proc.time()
   user  system elapsed 
101.982   1.276 103.257 
proDA.Rcheck/proDA-Ex.timings
| name | user | system | elapsed | |
| abundances | 1.358 | 0.090 | 1.449 | |
| as_replicate | 0 | 0 | 0 | |
| cash-proDAFit-method | 0.580 | 0.005 | 0.585 | |
| coefficient_variance_matrices | 0.592 | 0.000 | 0.592 | |
| coefficients | 0.597 | 0.000 | 0.598 | |
| convergence | 0.589 | 0.000 | 0.589 | |
| dist_approx | 0.967 | 0.000 | 0.967 | |
| dist_approx_impl | 0.918 | 0.001 | 0.919 | |
| feature_parameters | 0.591 | 0.000 | 0.591 | |
| generate_synthetic_data | 0.024 | 0.000 | 0.024 | |
| hyper_parameters | 0.587 | 0.000 | 0.587 | |
| invprobit | 0.004 | 0.000 | 0.005 | |
| median_normalization | 0.003 | 0.000 | 0.003 | |
| mply_dbl | 0.003 | 0.002 | 0.005 | |
| pd_lm | 0.012 | 0.000 | 0.012 | |
| pd_row_t_test | 1.578 | 0.005 | 1.584 | |
| proDA | 1.468 | 0.003 | 1.471 | |
| reference_level | 0.511 | 0.000 | 0.511 | |
| result_names | 0.602 | 0.000 | 0.602 | |
| test_diff | 2.477 | 0.005 | 2.482 | |