Back to Multiple platform build/check report for BioC 3.22:   simplified   long
ABCDEFGHIJKLMNO[P]QRSTUVWXYZ

This page was generated on 2025-11-15 11:58 -0500 (Sat, 15 Nov 2025).

HostnameOSArch (*)R versionInstalled pkgs
nebbiolo2Linux (Ubuntu 24.04.3 LTS)x86_644.5.1 Patched (2025-08-23 r88802) -- "Great Square Root" 4903
taishanLinux (openEuler 24.03 LTS)aarch644.5.0 (2025-04-11) -- "How About a Twenty-Six" 4668
Click on any hostname to see more info about the system (e.g. compilers)      (*) as reported by 'uname -p', except on Windows and Mac OS X

Package 1618/2361HostnameOS / ArchINSTALLBUILDCHECKBUILD BIN
plyxp 1.4.3  (landing page)
Justin Landis
Snapshot Date: 2025-11-14 13:45 -0500 (Fri, 14 Nov 2025)
git_url: https://git.bioconductor.org/packages/plyxp
git_branch: RELEASE_3_22
git_last_commit: 0d0fb48
git_last_commit_date: 2025-11-07 15:47:22 -0500 (Fri, 07 Nov 2025)
nebbiolo2Linux (Ubuntu 24.04.3 LTS) / x86_64  OK    OK    OK  UNNEEDED, same version is already published
taishanLinux (openEuler 24.03 LTS) / aarch64  OK    OK    OK  


CHECK results for plyxp on nebbiolo2

To the developers/maintainers of the plyxp package:
- Allow up to 24 hours (and sometimes 48 hours) for your latest push to git@git.bioconductor.org:packages/plyxp.git to reflect on this report. See Troubleshooting Build Report for more information.
- Use the following Renviron settings to reproduce errors and warnings.
- If 'R CMD check' started to fail recently on the Linux builder(s) over a missing dependency, add the missing dependency to 'Suggests:' in your DESCRIPTION file. See Renviron.bioc for more information.

raw results


Summary

Package: plyxp
Version: 1.4.3
Command: /home/biocbuild/bbs-3.22-bioc/R/bin/R CMD check --install=check:plyxp.install-out.txt --library=/home/biocbuild/bbs-3.22-bioc/R/site-library --timings plyxp_1.4.3.tar.gz
StartedAt: 2025-11-15 03:03:26 -0500 (Sat, 15 Nov 2025)
EndedAt: 2025-11-15 03:06:49 -0500 (Sat, 15 Nov 2025)
EllapsedTime: 203.1 seconds
RetCode: 0
Status:   OK  
CheckDir: plyxp.Rcheck
Warnings: 0

Command output

##############################################################################
##############################################################################
###
### Running command:
###
###   /home/biocbuild/bbs-3.22-bioc/R/bin/R CMD check --install=check:plyxp.install-out.txt --library=/home/biocbuild/bbs-3.22-bioc/R/site-library --timings plyxp_1.4.3.tar.gz
###
##############################################################################
##############################################################################


* using log directory ‘/home/biocbuild/bbs-3.22-bioc/meat/plyxp.Rcheck’
* using R version 4.5.1 Patched (2025-08-23 r88802)
* using platform: x86_64-pc-linux-gnu
* R was compiled by
    gcc (Ubuntu 13.3.0-6ubuntu2~24.04) 13.3.0
    GNU Fortran (Ubuntu 13.3.0-6ubuntu2~24.04) 13.3.0
* running under: Ubuntu 24.04.3 LTS
* using session charset: UTF-8
* checking for file ‘plyxp/DESCRIPTION’ ... OK
* this is package ‘plyxp’ version ‘1.4.3’
* package encoding: UTF-8
* checking package namespace information ... OK
* checking package dependencies ... OK
* checking if this is a source package ... OK
* checking if there is a namespace ... OK
* checking for hidden files and directories ... OK
* checking for portable file names ... OK
* checking for sufficient/correct file permissions ... OK
* checking whether package ‘plyxp’ can be installed ... OK
* checking installed package size ... OK
* checking package directory ... OK
* checking ‘build’ directory ... OK
* checking DESCRIPTION meta-information ... OK
* checking top-level files ... OK
* checking for left-over files ... OK
* checking index information ... OK
* checking package subdirectories ... OK
* checking code files for non-ASCII characters ... OK
* checking R files for syntax errors ... OK
* checking whether the package can be loaded ... OK
* checking whether the package can be loaded with stated dependencies ... OK
* checking whether the package can be unloaded cleanly ... OK
* checking whether the namespace can be loaded with stated dependencies ... OK
* checking whether the namespace can be unloaded cleanly ... OK
* checking loading without being on the library search path ... OK
* checking dependencies in R code ... OK
* checking S3 generic/method consistency ... OK
* checking replacement functions ... OK
* checking foreign function calls ... OK
* checking R code for possible problems ... OK
* checking Rd files ... OK
* checking Rd metadata ... OK
* checking Rd cross-references ... OK
* checking for missing documentation entries ... OK
* checking for code/documentation mismatches ... OK
* checking Rd \usage sections ... OK
* checking Rd contents ... OK
* checking for unstated dependencies in examples ... OK
* checking contents of ‘data’ directory ... OK
* checking data for non-ASCII characters ... OK
* checking LazyData ... OK
* checking data for ASCII and uncompressed saves ... OK
* checking files in ‘vignettes’ ... OK
* checking examples ... OK
* checking for unstated dependencies in ‘tests’ ... OK
* checking tests ...
  Running ‘testthat.R’
 OK
* checking for unstated dependencies in vignettes ... OK
* checking package vignettes ... OK
* checking re-building of vignette outputs ... OK
* checking PDF version of manual ... OK
* DONE

Status: OK


Installation output

plyxp.Rcheck/00install.out

##############################################################################
##############################################################################
###
### Running command:
###
###   /home/biocbuild/bbs-3.22-bioc/R/bin/R CMD INSTALL plyxp
###
##############################################################################
##############################################################################


* installing to library ‘/home/biocbuild/bbs-3.22-bioc/R/site-library’
* installing *source* package ‘plyxp’ ...
** this is package ‘plyxp’ version ‘1.4.3’
** using staged installation
** R
** data
*** moving datasets to lazyload DB
** byte-compile and prepare package for lazy loading
Creating a generic function for ‘rownames’ from package ‘base’ in package ‘plyxp’
Creating a generic function for ‘colnames’ from package ‘base’ in package ‘plyxp’
Creating a generic function for ‘nrow’ from package ‘base’ in package ‘plyxp’
Creating a generic function for ‘ncol’ from package ‘base’ in package ‘plyxp’
** help
*** installing help indices
*** copying figures
** building package indices
** installing vignettes
** testing if installed package can be loaded from temporary location
** testing if installed package can be loaded from final location
** testing if installed package keeps a record of temporary installation path
* DONE (plyxp)

Tests output

plyxp.Rcheck/tests/testthat.Rout


R version 4.5.1 Patched (2025-08-23 r88802) -- "Great Square Root"
Copyright (C) 2025 The R Foundation for Statistical Computing
Platform: x86_64-pc-linux-gnu

R is free software and comes with ABSOLUTELY NO WARRANTY.
You are welcome to redistribute it under certain conditions.
Type 'license()' or 'licence()' for distribution details.

R is a collaborative project with many contributors.
Type 'contributors()' for more information and
'citation()' on how to cite R or R packages in publications.

Type 'demo()' for some demos, 'help()' for on-line help, or
'help.start()' for an HTML browser interface to help.
Type 'q()' to quit R.

> library("testthat")
> library("plyxp")

Attaching package: 'plyxp'

The following object is masked from 'package:stats':

    filter

> 
> test_check("plyxp")
[ FAIL 0 | WARN 0 | SKIP 6 | PASS 177 ]

══ Skipped tests (6) ═══════════════════════════════════════════════════════════
• On CRAN (6): 'test_printing.R:1:1', 'test_printing.R:5:1',
  'test_printing.R:12:1', 'test_printing.R:19:1', 'test_printing.R:23:1',
  'test_printing.R:27:1'

[ FAIL 0 | WARN 0 | SKIP 6 | PASS 177 ]
> 
> proc.time()
   user  system elapsed 
 13.946   0.573  14.518 

Example timings

plyxp.Rcheck/plyxp-Ex.timings

nameusersystemelapsed
PlySummarizedExperiment-methods0.0400.0000.039
arrange1.0890.0091.097
as.data.frame0.0080.0010.007
dot-pronouns0.1160.0200.137
filter0.3760.0660.444
group_by0.1940.0480.243
group_data0.1080.0000.109
group_split0.4830.0030.487
group_vars0.0650.0000.064
mutate0.1540.0010.155
new_plyxp0.0830.0000.083
plyxp-context0.1150.0000.116
plyxp-printing0.2160.0010.217
plyxp0.0970.0000.097
pull0.0570.0000.057
reexports0.2140.0000.214
se_simple0.0070.0000.008
select0.4070.0010.409
slice0.2540.0000.255
summarize0.5290.0200.548
vctrs-vec_chop0.0130.0010.013
vctrs-vec_recycle0.0070.0000.007
vctrs-vec_rep0.0290.0010.031
vctrs_slice0.0030.0000.004
vec_group_id0.0410.0030.045
vectors0.0030.0000.003