| Back to Multiple platform build/check report for BioC 3.22: simplified long |
|
This page was generated on 2025-11-14 11:58 -0500 (Fri, 14 Nov 2025).
| Hostname | OS | Arch (*) | R version | Installed pkgs |
|---|---|---|---|---|
| nebbiolo2 | Linux (Ubuntu 24.04.3 LTS) | x86_64 | 4.5.1 Patched (2025-08-23 r88802) -- "Great Square Root" | 4903 |
| taishan | Linux (openEuler 24.03 LTS) | aarch64 | 4.5.0 (2025-04-11) -- "How About a Twenty-Six" | 4668 |
| Click on any hostname to see more info about the system (e.g. compilers) (*) as reported by 'uname -p', except on Windows and Mac OS X | ||||
| Package 1598/2361 | Hostname | OS / Arch | INSTALL | BUILD | CHECK | BUILD BIN | ||||||||
| piano 2.26.0 (landing page) Leif Varemo Wigge
| nebbiolo2 | Linux (Ubuntu 24.04.3 LTS) / x86_64 | OK | OK | OK | |||||||||
| taishan | Linux (openEuler 24.03 LTS) / aarch64 | OK | OK | ERROR | ||||||||||
|
To the developers/maintainers of the piano package: - Allow up to 24 hours (and sometimes 48 hours) for your latest push to git@git.bioconductor.org:packages/piano.git to reflect on this report. See Troubleshooting Build Report for more information. - Use the following Renviron settings to reproduce errors and warnings. - If 'R CMD check' started to fail recently on the Linux builder(s) over a missing dependency, add the missing dependency to 'Suggests:' in your DESCRIPTION file. See Renviron.bioc for more information. |
| Package: piano |
| Version: 2.26.0 |
| Command: /home/biocbuild/bbs-3.22-bioc/R/bin/R CMD check --install=check:piano.install-out.txt --library=/home/biocbuild/bbs-3.22-bioc/R/site-library --timings piano_2.26.0.tar.gz |
| StartedAt: 2025-11-14 02:47:27 -0500 (Fri, 14 Nov 2025) |
| EndedAt: 2025-11-14 02:49:50 -0500 (Fri, 14 Nov 2025) |
| EllapsedTime: 143.1 seconds |
| RetCode: 0 |
| Status: OK |
| CheckDir: piano.Rcheck |
| Warnings: 0 |
##############################################################################
##############################################################################
###
### Running command:
###
### /home/biocbuild/bbs-3.22-bioc/R/bin/R CMD check --install=check:piano.install-out.txt --library=/home/biocbuild/bbs-3.22-bioc/R/site-library --timings piano_2.26.0.tar.gz
###
##############################################################################
##############################################################################
* using log directory ‘/home/biocbuild/bbs-3.22-bioc/meat/piano.Rcheck’
* using R version 4.5.1 Patched (2025-08-23 r88802)
* using platform: x86_64-pc-linux-gnu
* R was compiled by
gcc (Ubuntu 13.3.0-6ubuntu2~24.04) 13.3.0
GNU Fortran (Ubuntu 13.3.0-6ubuntu2~24.04) 13.3.0
* running under: Ubuntu 24.04.3 LTS
* using session charset: UTF-8
* checking for file ‘piano/DESCRIPTION’ ... OK
* checking extension type ... Package
* this is package ‘piano’ version ‘2.26.0’
* checking package namespace information ... OK
* checking package dependencies ... OK
* checking if this is a source package ... OK
* checking if there is a namespace ... OK
* checking for hidden files and directories ... NOTE
Found the following hidden files and directories:
.BBSoptions
These were most likely included in error. See section ‘Package
structure’ in the ‘Writing R Extensions’ manual.
* checking for portable file names ... OK
* checking for sufficient/correct file permissions ... OK
* checking whether package ‘piano’ can be installed ... OK
* checking installed package size ... OK
* checking package directory ... OK
* checking ‘build’ directory ... OK
* checking DESCRIPTION meta-information ... OK
* checking top-level files ... OK
* checking for left-over files ... OK
* checking index information ... OK
* checking package subdirectories ... OK
* checking code files for non-ASCII characters ... OK
* checking R files for syntax errors ... OK
* checking whether the package can be loaded ... OK
* checking whether the package can be loaded with stated dependencies ... OK
* checking whether the package can be unloaded cleanly ... OK
* checking whether the namespace can be loaded with stated dependencies ... OK
* checking whether the namespace can be unloaded cleanly ... OK
* checking loading without being on the library search path ... OK
* checking dependencies in R code ... OK
* checking S3 generic/method consistency ... OK
* checking replacement functions ... OK
* checking foreign function calls ... OK
* checking R code for possible problems ... OK
* checking Rd files ... OK
* checking Rd metadata ... OK
* checking Rd cross-references ... NOTE
Non-topic package-anchored link(s) in Rd file 'diffExp.Rd':
‘[limma:01Introduction]{limma}’
Non-topic package-anchored link(s) in Rd file 'loadMAdata.Rd':
‘[yeast2.db:yeast2BASE]{yeast2.db}’
Non-topic package-anchored link(s) in Rd file 'piano-package.Rd':
‘[limma:01Introduction]{limma}’
Non-topic package-anchored link(s) in Rd file 'runGSA.Rd':
‘[limma:01Introduction]{limma}’
See section 'Cross-references' in the 'Writing R Extensions' manual.
Found the following Rd file(s) with Rd \link{} targets missing package
anchors:
diffExp.Rd: venn, heatmap.2
Please provide package anchors for all Rd \link{} targets not in the
package itself and the base packages.
* checking for missing documentation entries ... OK
* checking for code/documentation mismatches ... OK
* checking Rd \usage sections ... OK
* checking Rd contents ... OK
* checking for unstated dependencies in examples ... OK
* checking contents of ‘data’ directory ... OK
* checking data for non-ASCII characters ... OK
* checking data for ASCII and uncompressed saves ... OK
* checking files in ‘vignettes’ ... OK
* checking examples ... OK
* checking for unstated dependencies in vignettes ... OK
* checking package vignettes ... OK
* checking re-building of vignette outputs ... OK
* checking PDF version of manual ... OK
* DONE
Status: 2 NOTEs
See
‘/home/biocbuild/bbs-3.22-bioc/meat/piano.Rcheck/00check.log’
for details.
piano.Rcheck/00install.out
############################################################################## ############################################################################## ### ### Running command: ### ### /home/biocbuild/bbs-3.22-bioc/R/bin/R CMD INSTALL piano ### ############################################################################## ############################################################################## * installing to library ‘/home/biocbuild/bbs-3.22-bioc/R/site-library’ * installing *source* package ‘piano’ ... ** this is package ‘piano’ version ‘2.26.0’ ** using staged installation ** R ** data ** inst ** byte-compile and prepare package for lazy loading ** help *** installing help indices ** building package indices ** installing vignettes ** testing if installed package can be loaded from temporary location ** testing if installed package can be loaded from final location ** testing if installed package keeps a record of temporary installation path * DONE (piano)
piano.Rcheck/piano-Ex.timings
| name | user | system | elapsed | |
| GSAheatmap | 3.045 | 0.072 | 3.116 | |
| GSAsummaryTable | 2.597 | 0.005 | 2.603 | |
| consensusHeatmap | 0.802 | 0.020 | 0.823 | |
| consensusScores | 0.116 | 0.005 | 0.121 | |
| diffExp | 3.729 | 0.116 | 3.889 | |
| exploreGSAres | 2.779 | 0.041 | 2.820 | |
| extractFactors | 0.161 | 0.003 | 0.163 | |
| geneSetSummary | 2.884 | 0.103 | 2.986 | |
| loadGSC | 0.011 | 0.000 | 0.010 | |
| loadMAdata | 0.137 | 0.002 | 0.139 | |
| networkPlot | 2.831 | 0.045 | 2.876 | |
| networkPlot2 | 2.636 | 0.042 | 2.679 | |
| polarPlot | 0.297 | 0.006 | 0.303 | |
| runGSA | 2.500 | 0.003 | 2.503 | |
| runGSAhyper | 0.207 | 0.001 | 0.208 | |
| runQC | 0.276 | 0.007 | 0.284 | |
| writeFilesForKiwi | 0.099 | 0.001 | 0.101 | |