Back to Multiple platform build/check report for BioC 3.22:   simplified   long
ABCDEFGHIJKLMNO[P]QRSTUVWXYZ

This page was generated on 2025-11-20 12:06 -0500 (Thu, 20 Nov 2025).

HostnameOSArch (*)R versionInstalled pkgs
nebbiolo2Linux (Ubuntu 24.04.3 LTS)x86_644.5.2 (2025-10-31) -- "[Not] Part in a Rumble" 4615
merida1macOS 12.7.6 Montereyx86_644.5.2 Patched (2025-11-05 r88990) -- "[Not] Part in a Rumble" 4610
kjohnson1macOS 13.7.5 Venturaarm644.5.2 Patched (2025-11-04 r88984) -- "[Not] Part in a Rumble" 4598
taishanLinux (openEuler 24.03 LTS)aarch644.5.0 (2025-04-11) -- "How About a Twenty-Six" 4668
Click on any hostname to see more info about the system (e.g. compilers)      (*) as reported by 'uname -p', except on Windows and Mac OS X

Package 1537/2361HostnameOS / ArchINSTALLBUILDCHECKBUILD BIN
packFinder 1.22.0  (landing page)
Jack Gisby
Snapshot Date: 2025-11-17 13:45 -0500 (Mon, 17 Nov 2025)
git_url: https://git.bioconductor.org/packages/packFinder
git_branch: RELEASE_3_22
git_last_commit: 360ddfb
git_last_commit_date: 2025-10-29 10:56:19 -0500 (Wed, 29 Oct 2025)
nebbiolo2Linux (Ubuntu 24.04.3 LTS) / x86_64  OK    OK    OK  UNNEEDED, same version is already published
merida1macOS 12.7.6 Monterey / x86_64  OK    OK    OK    OK  UNNEEDED, same version is already published
kjohnson1macOS 13.7.5 Ventura / arm64  OK    OK    OK    OK  UNNEEDED, same version is already published
taishanLinux (openEuler 24.03 LTS) / aarch64  OK    OK    OK  


CHECK results for packFinder on kjohnson1

To the developers/maintainers of the packFinder package:
- Allow up to 24 hours (and sometimes 48 hours) for your latest push to git@git.bioconductor.org:packages/packFinder.git to reflect on this report. See Troubleshooting Build Report for more information.
- Use the following Renviron settings to reproduce errors and warnings.
- If 'R CMD check' started to fail recently on the Linux builder(s) over a missing dependency, add the missing dependency to 'Suggests:' in your DESCRIPTION file. See Renviron.bioc for more information.

raw results


Summary

Package: packFinder
Version: 1.22.0
Command: /Library/Frameworks/R.framework/Resources/bin/R CMD check --install=check:packFinder.install-out.txt --library=/Library/Frameworks/R.framework/Resources/library --no-vignettes --timings packFinder_1.22.0.tar.gz
StartedAt: 2025-11-18 10:34:55 -0500 (Tue, 18 Nov 2025)
EndedAt: 2025-11-18 10:35:18 -0500 (Tue, 18 Nov 2025)
EllapsedTime: 23.2 seconds
RetCode: 0
Status:   OK  
CheckDir: packFinder.Rcheck
Warnings: 0

Command output

##############################################################################
##############################################################################
###
### Running command:
###
###   /Library/Frameworks/R.framework/Resources/bin/R CMD check --install=check:packFinder.install-out.txt --library=/Library/Frameworks/R.framework/Resources/library --no-vignettes --timings packFinder_1.22.0.tar.gz
###
##############################################################################
##############################################################################


* using log directory ‘/Users/biocbuild/bbs-3.22-bioc/meat/packFinder.Rcheck’
* using R version 4.5.2 Patched (2025-11-04 r88984)
* using platform: aarch64-apple-darwin20
* R was compiled by
    Apple clang version 16.0.0 (clang-1600.0.26.6)
    GNU Fortran (GCC) 14.2.0
* running under: macOS Ventura 13.7.8
* using session charset: UTF-8
* using option ‘--no-vignettes’
* checking for file ‘packFinder/DESCRIPTION’ ... OK
* checking extension type ... Package
* this is package ‘packFinder’ version ‘1.22.0’
* package encoding: UTF-8
* checking package namespace information ... OK
* checking package dependencies ... OK
* checking if this is a source package ... OK
* checking if there is a namespace ... OK
* checking for hidden files and directories ... OK
* checking for portable file names ... OK
* checking for sufficient/correct file permissions ... OK
* checking whether package ‘packFinder’ can be installed ... OK
* checking installed package size ... OK
* checking package directory ... OK
* checking ‘build’ directory ... OK
* checking DESCRIPTION meta-information ... OK
* checking top-level files ... OK
* checking for left-over files ... OK
* checking index information ... OK
* checking package subdirectories ... OK
* checking code files for non-ASCII characters ... OK
* checking R files for syntax errors ... OK
* checking whether the package can be loaded ... OK
* checking whether the package can be loaded with stated dependencies ... OK
* checking whether the package can be unloaded cleanly ... OK
* checking whether the namespace can be loaded with stated dependencies ... OK
* checking whether the namespace can be unloaded cleanly ... OK
* checking dependencies in R code ... OK
* checking S3 generic/method consistency ... OK
* checking replacement functions ... OK
* checking foreign function calls ... OK
* checking R code for possible problems ... OK
* checking Rd files ... NOTE
checkRd: (-1) readBlast.Rd:100: Lost braces
   100 | code{\link{blastAnalysis}}, code{\link{blastAnnotate}},
       |     ^
checkRd: (-1) readBlast.Rd:100: Lost braces
   100 | code{\link{blastAnalysis}}, code{\link{blastAnnotate}},
       |                                 ^
checkRd: (-1) readBlast.Rd:101: Lost braces
   101 | code{\link{packAlign}}, 
       |     ^
checkRd: (-1) readBlast.Rd:102: Lost braces
   102 | code{\link{readUc}}, code{\link{packClust}}
       |     ^
checkRd: (-1) readBlast.Rd:102: Lost braces
   102 | code{\link{readUc}}, code{\link{packClust}}
       |                          ^
checkRd: (-1) readUc.Rd:98: Lost braces
    98 | code{\link{tirClust}}, code{\link{packAlign}}, 
       |     ^
checkRd: (-1) readUc.Rd:98: Lost braces
    98 | code{\link{tirClust}}, code{\link{packAlign}}, 
       |                            ^
checkRd: (-1) readUc.Rd:99: Lost braces
    99 | code{\link{readBlast}}, code{\link{packClust}}
       |     ^
checkRd: (-1) readUc.Rd:99: Lost braces
    99 | code{\link{readBlast}}, code{\link{packClust}}
       |                             ^
checkRd: (-1) tirClust.Rd:86: Lost braces
    86 | code{\link{packClust}}, code{\link{packAlign}},
       |     ^
checkRd: (-1) tirClust.Rd:86: Lost braces
    86 | code{\link{packClust}}, code{\link{packAlign}},
       |                             ^
* checking Rd metadata ... OK
* checking Rd cross-references ... OK
* checking for missing documentation entries ... OK
* checking for code/documentation mismatches ... OK
* checking Rd \usage sections ... OK
* checking Rd contents ... OK
* checking for unstated dependencies in examples ... OK
* checking contents of ‘data’ directory ... OK
* checking data for non-ASCII characters ... OK
* checking data for ASCII and uncompressed saves ... OK
* checking files in ‘vignettes’ ... OK
* checking examples ... OK
* checking for unstated dependencies in ‘tests’ ... OK
* checking tests ...
  Running ‘testthat.R’
 OK
* checking for unstated dependencies in vignettes ... OK
* checking package vignettes ... OK
* checking running R code from vignettes ... SKIPPED
* checking re-building of vignette outputs ... SKIPPED
* checking PDF version of manual ... OK
* DONE

Status: 1 NOTE
See
  ‘/Users/biocbuild/bbs-3.22-bioc/meat/packFinder.Rcheck/00check.log’
for details.


Installation output

packFinder.Rcheck/00install.out

##############################################################################
##############################################################################
###
### Running command:
###
###   /Library/Frameworks/R.framework/Resources/bin/R CMD INSTALL packFinder
###
##############################################################################
##############################################################################


* installing to library ‘/Library/Frameworks/R.framework/Versions/4.5-arm64/Resources/library’
* installing *source* package ‘packFinder’ ...
** this is package ‘packFinder’ version ‘1.22.0’
** using staged installation
** R
** data
** inst
** byte-compile and prepare package for lazy loading
** help
*** installing help indices
** building package indices
** installing vignettes
** testing if installed package can be loaded from temporary location
** testing if installed package can be loaded from final location
** testing if installed package keeps a record of temporary installation path
* DONE (packFinder)

Tests output

packFinder.Rcheck/tests/testthat.Rout


R version 4.5.2 Patched (2025-11-04 r88984) -- "[Not] Part in a Rumble"
Copyright (C) 2025 The R Foundation for Statistical Computing
Platform: aarch64-apple-darwin20

R is free software and comes with ABSOLUTELY NO WARRANTY.
You are welcome to redistribute it under certain conditions.
Type 'license()' or 'licence()' for distribution details.

R is a collaborative project with many contributors.
Type 'contributors()' for more information and
'citation()' on how to cite R or R packages in publications.

Type 'demo()' for some demos, 'help()' for on-line help, or
'help.start()' for an HTML browser interface to help.
Type 'q()' to quit R.

> library(testthat)
> library(packFinder)
> 
> test_check("packFinder")
DNAStringSet object of length 1:
      width seq                                             names               
[1] 3800001 GGTGTTAAAAGGTTCTTGAGTG...TAGTCAGGTTTCTAACAGAAAA Chr3
[1] "File successfully written to tempTestOutput/packMatches.csv"
[1] "FASTA written to tempTestOutput/packMatches.fasta"
2025-11-18 10:35:14.178 R[98588:19368672] XType: Using static font registry.
[ FAIL 0 | WARN 0 | SKIP 0 | PASS 31 ]
> 
> proc.time()
   user  system elapsed 
  2.236   0.110   2.662 

Example timings

packFinder.Rcheck/packFinder-Ex.timings

nameusersystemelapsed
arabidopsisThalianaRefseq1.5060.0501.628
blastAnalysis000
blastAnnotate0.0020.0010.003
collapseSeqs0.1600.0030.178
filterWildcards0.0390.0020.045
getPackSeqs0.3130.0030.363
getPacksFromCsv0.0010.0010.002
getPacksFromFasta0.0360.0030.040
getPacksFromGRanges0.0180.0000.023
getTsds0.0380.0020.045
identifyPotentialPackElements0.1630.0020.175
identifyTirMatches0.0440.0020.048
makeBlastDb000
packAlign0.0340.0020.035
packBlast000
packClust0.0340.0020.045
packMatches0.3090.0020.331
packSearch0.3150.0020.364
packsToCsv0.0010.0010.003
packsToFasta0.0410.0030.045
packsToGRanges0.0040.0010.006
readBlast0.0010.0000.002
readUc0.0020.0010.002
tirClust0.1880.0090.235