| Back to Multiple platform build/check report for BioC 3.22: simplified long |
|
This page was generated on 2025-11-15 11:58 -0500 (Sat, 15 Nov 2025).
| Hostname | OS | Arch (*) | R version | Installed pkgs |
|---|---|---|---|---|
| nebbiolo2 | Linux (Ubuntu 24.04.3 LTS) | x86_64 | 4.5.1 Patched (2025-08-23 r88802) -- "Great Square Root" | 4903 |
| taishan | Linux (openEuler 24.03 LTS) | aarch64 | 4.5.0 (2025-04-11) -- "How About a Twenty-Six" | 4668 |
| Click on any hostname to see more info about the system (e.g. compilers) (*) as reported by 'uname -p', except on Windows and Mac OS X | ||||
| Package 1475/2361 | Hostname | OS / Arch | INSTALL | BUILD | CHECK | BUILD BIN | ||||||||
| notameViz 1.0.0 (landing page) Vilhelm Suksi
| nebbiolo2 | Linux (Ubuntu 24.04.3 LTS) / x86_64 | OK | OK | OK | |||||||||
| taishan | Linux (openEuler 24.03 LTS) / aarch64 | OK | OK | OK | ||||||||||
|
To the developers/maintainers of the notameViz package: - Allow up to 24 hours (and sometimes 48 hours) for your latest push to git@git.bioconductor.org:packages/notameViz.git to reflect on this report. See Troubleshooting Build Report for more information. - Use the following Renviron settings to reproduce errors and warnings. - If 'R CMD check' started to fail recently on the Linux builder(s) over a missing dependency, add the missing dependency to 'Suggests:' in your DESCRIPTION file. See Renviron.bioc for more information. |
| Package: notameViz |
| Version: 1.0.0 |
| Command: /home/biocbuild/bbs-3.22-bioc/R/bin/R CMD check --install=check:notameViz.install-out.txt --library=/home/biocbuild/bbs-3.22-bioc/R/site-library --timings notameViz_1.0.0.tar.gz |
| StartedAt: 2025-11-15 02:29:35 -0500 (Sat, 15 Nov 2025) |
| EndedAt: 2025-11-15 02:34:38 -0500 (Sat, 15 Nov 2025) |
| EllapsedTime: 303.3 seconds |
| RetCode: 0 |
| Status: OK |
| CheckDir: notameViz.Rcheck |
| Warnings: 0 |
##############################################################################
##############################################################################
###
### Running command:
###
### /home/biocbuild/bbs-3.22-bioc/R/bin/R CMD check --install=check:notameViz.install-out.txt --library=/home/biocbuild/bbs-3.22-bioc/R/site-library --timings notameViz_1.0.0.tar.gz
###
##############################################################################
##############################################################################
* using log directory ‘/home/biocbuild/bbs-3.22-bioc/meat/notameViz.Rcheck’
* using R version 4.5.1 Patched (2025-08-23 r88802)
* using platform: x86_64-pc-linux-gnu
* R was compiled by
gcc (Ubuntu 13.3.0-6ubuntu2~24.04) 13.3.0
GNU Fortran (Ubuntu 13.3.0-6ubuntu2~24.04) 13.3.0
* running under: Ubuntu 24.04.3 LTS
* using session charset: UTF-8
* checking for file ‘notameViz/DESCRIPTION’ ... OK
* checking extension type ... Package
* this is package ‘notameViz’ version ‘1.0.0’
* package encoding: UTF-8
* checking package namespace information ... OK
* checking package dependencies ... OK
* checking if this is a source package ... OK
* checking if there is a namespace ... OK
* checking for hidden files and directories ... OK
* checking for portable file names ... OK
* checking for sufficient/correct file permissions ... OK
* checking whether package ‘notameViz’ can be installed ... OK
* checking installed package size ... OK
* checking package directory ... OK
* checking ‘build’ directory ... OK
* checking DESCRIPTION meta-information ... NOTE
License stub is invalid DCF.
* checking top-level files ... OK
* checking for left-over files ... OK
* checking index information ... OK
* checking package subdirectories ... OK
* checking code files for non-ASCII characters ... OK
* checking R files for syntax errors ... OK
* checking whether the package can be loaded ... OK
* checking whether the package can be loaded with stated dependencies ... OK
* checking whether the package can be unloaded cleanly ... OK
* checking whether the namespace can be loaded with stated dependencies ... OK
* checking whether the namespace can be unloaded cleanly ... OK
* checking loading without being on the library search path ... OK
* checking dependencies in R code ... OK
* checking S3 generic/method consistency ... OK
* checking replacement functions ... OK
* checking foreign function calls ... OK
* checking R code for possible problems ... OK
* checking Rd files ... OK
* checking Rd metadata ... OK
* checking Rd cross-references ... NOTE
Found the following Rd file(s) with Rd \link{} targets missing package
anchors:
save_dc_plots.Rd: correct_drift
Please provide package anchors for all Rd \link{} targets not in the
package itself and the base packages.
* checking for missing documentation entries ... OK
* checking for code/documentation mismatches ... OK
* checking Rd \usage sections ... OK
* checking Rd contents ... OK
* checking for unstated dependencies in examples ... OK
* checking files in ‘vignettes’ ... OK
* checking examples ... OK
Examples with CPU (user + system) or elapsed time > 5s
user system elapsed
plot_injection_lm 11.346 4.764 5.351
save_QC_plots 12.615 2.736 11.437
save_batch_plots 9.076 0.261 9.341
save_group_boxplots 7.942 0.309 8.253
save_group_lineplots 7.722 0.192 7.915
manhattan_plot 6.596 1.299 4.863
mz_rt_plot 4.768 1.379 2.872
plot_effect_heatmap 4.866 1.252 3.027
save_beeswarm_plots 5.539 0.113 5.640
plot_p_histogram 3.579 1.742 1.832
* checking for unstated dependencies in ‘tests’ ... OK
* checking tests ...
Running ‘testthat.R’
OK
* checking for unstated dependencies in vignettes ... OK
* checking package vignettes ... OK
* checking re-building of vignette outputs ... OK
* checking PDF version of manual ... OK
* DONE
Status: 2 NOTEs
See
‘/home/biocbuild/bbs-3.22-bioc/meat/notameViz.Rcheck/00check.log’
for details.
notameViz.Rcheck/00install.out
############################################################################## ############################################################################## ### ### Running command: ### ### /home/biocbuild/bbs-3.22-bioc/R/bin/R CMD INSTALL notameViz ### ############################################################################## ############################################################################## * installing to library ‘/home/biocbuild/bbs-3.22-bioc/R/site-library’ * installing *source* package ‘notameViz’ ... ** this is package ‘notameViz’ version ‘1.0.0’ ** using staged installation ** R ** inst ** byte-compile and prepare package for lazy loading ** help *** installing help indices ** building package indices ** installing vignettes ** testing if installed package can be loaded from temporary location ** testing if installed package can be loaded from final location ** testing if installed package keeps a record of temporary installation path * DONE (notameViz)
notameViz.Rcheck/tests/testthat.Rout
R version 4.5.1 Patched (2025-08-23 r88802) -- "Great Square Root"
Copyright (C) 2025 The R Foundation for Statistical Computing
Platform: x86_64-pc-linux-gnu
R is free software and comes with ABSOLUTELY NO WARRANTY.
You are welcome to redistribute it under certain conditions.
Type 'license()' or 'licence()' for distribution details.
R is a collaborative project with many contributors.
Type 'contributors()' for more information and
'citation()' on how to cite R or R packages in publications.
Type 'demo()' for some demos, 'help()' for on-line help, or
'help.start()' for an HTML browser interface to help.
Type 'q()' to quit R.
> library(testthat)
> library(notameViz)
Loading required package: ggplot2
Loading required package: SummarizedExperiment
Loading required package: MatrixGenerics
Loading required package: matrixStats
Attaching package: 'MatrixGenerics'
The following objects are masked from 'package:matrixStats':
colAlls, colAnyNAs, colAnys, colAvgsPerRowSet, colCollapse,
colCounts, colCummaxs, colCummins, colCumprods, colCumsums,
colDiffs, colIQRDiffs, colIQRs, colLogSumExps, colMadDiffs,
colMads, colMaxs, colMeans2, colMedians, colMins, colOrderStats,
colProds, colQuantiles, colRanges, colRanks, colSdDiffs, colSds,
colSums2, colTabulates, colVarDiffs, colVars, colWeightedMads,
colWeightedMeans, colWeightedMedians, colWeightedSds,
colWeightedVars, rowAlls, rowAnyNAs, rowAnys, rowAvgsPerColSet,
rowCollapse, rowCounts, rowCummaxs, rowCummins, rowCumprods,
rowCumsums, rowDiffs, rowIQRDiffs, rowIQRs, rowLogSumExps,
rowMadDiffs, rowMads, rowMaxs, rowMeans2, rowMedians, rowMins,
rowOrderStats, rowProds, rowQuantiles, rowRanges, rowRanks,
rowSdDiffs, rowSds, rowSums2, rowTabulates, rowVarDiffs, rowVars,
rowWeightedMads, rowWeightedMeans, rowWeightedMedians,
rowWeightedSds, rowWeightedVars
Loading required package: GenomicRanges
Loading required package: stats4
Loading required package: BiocGenerics
Loading required package: generics
Attaching package: 'generics'
The following objects are masked from 'package:base':
as.difftime, as.factor, as.ordered, intersect, is.element, setdiff,
setequal, union
Attaching package: 'BiocGenerics'
The following objects are masked from 'package:stats':
IQR, mad, sd, var, xtabs
The following objects are masked from 'package:base':
Filter, Find, Map, Position, Reduce, anyDuplicated, aperm, append,
as.data.frame, basename, cbind, colnames, dirname, do.call,
duplicated, eval, evalq, get, grep, grepl, is.unsorted, lapply,
mapply, match, mget, order, paste, pmax, pmax.int, pmin, pmin.int,
rank, rbind, rownames, sapply, saveRDS, table, tapply, unique,
unsplit, which.max, which.min
Loading required package: S4Vectors
Attaching package: 'S4Vectors'
The following object is masked from 'package:utils':
findMatches
The following objects are masked from 'package:base':
I, expand.grid, unname
Loading required package: IRanges
Loading required package: Seqinfo
Loading required package: Biobase
Welcome to Bioconductor
Vignettes contain introductory material; view with
'browseVignettes()'. To cite Bioconductor, see
'citation("Biobase")', and for packages 'citation("pkgname")'.
Attaching package: 'Biobase'
The following object is masked from 'package:MatrixGenerics':
rowMedians
The following objects are masked from 'package:matrixStats':
anyMissing, rowMedians
>
> test_check("notameViz")
Running tests in parallel requires the 3rd edition.
INFO [2025-11-15 02:33:54] Saved to: /tmp/Rtmp5huNpD\test\recursive/file2e90446d3a50c4.pdf
INFO [2025-11-15 02:33:54] Saved to: /tmp/Rtmp5huNpD/file2e904475e9800.pdf
INFO [2025-11-15 02:33:54] Saved to: /tmp/Rtmp5huNpD/file2e904456d458c5.emf
INFO [2025-11-15 02:33:54] Saved to: /tmp/Rtmp5huNpD/file2e90445f2ec31a.svg
INFO [2025-11-15 02:33:54] Saved to: /tmp/Rtmp5huNpD/file2e904441d588ad.png
INFO [2025-11-15 02:33:54] Saved to: /tmp/Rtmp5huNpD/file2e9044389f99a7.tiff
INFO [2025-11-15 02:33:55] Saved to: /tmp/Rtmp5huNpD\test\/HILIC_neg_259_9623a4_4322.emf
INFO [2025-11-15 02:33:56] Saved to: /tmp/Rtmp5huNpD\test\/HILIC_neg_108_1065a2_6121.emf
INFO [2025-11-15 02:33:56] Saved to: /tmp/Rtmp5huNpD\test\/HILIC_neg_158_23a1_4128.emf
INFO [2025-11-15 02:33:56] Saved to: /tmp/Rtmp5huNpD\test\/HILIC_neg_251_0056a0_6161.emf
INFO [2025-11-15 02:33:57] Saved to: /tmp/Rtmp5huNpD\test\/HILIC_neg_401_52a4_211.emf
INFO [2025-11-15 02:33:57] Saved line plots with mean line to: /tmp/Rtmp5huNpD\test\
INFO [2025-11-15 02:33:57] Saved to: /tmp/Rtmp5huNpD\test\/Glucose.emf
INFO [2025-11-15 02:33:57] Saved to: /tmp/Rtmp5huNpD\test\/Threoline.emf
INFO [2025-11-15 02:33:58] Saved to: /tmp/Rtmp5huNpD\test\/5-AVAB.emf
INFO [2025-11-15 02:33:58] Saved to: /tmp/Rtmp5huNpD\test\/1_2 acid.emf
INFO [2025-11-15 02:33:58] Saved to: /tmp/Rtmp5huNpD\test\/20_0 carbon chain.emf
INFO [2025-11-15 02:33:58] Saved line plots with mean line to: /tmp/Rtmp5huNpD\test\
INFO [2025-11-15 02:33:59] Saved to: /tmp/Rtmp5huNpD\test\/HILIC_neg_259_9623a4_4322.emf
INFO [2025-11-15 02:33:59] Saved to: /tmp/Rtmp5huNpD\test\/HILIC_neg_108_1065a2_6121.emf
INFO [2025-11-15 02:33:59] Saved to: /tmp/Rtmp5huNpD\test\/HILIC_neg_158_23a1_4128.emf
INFO [2025-11-15 02:33:59] Saved to: /tmp/Rtmp5huNpD\test\/HILIC_neg_251_0056a0_6161.emf
INFO [2025-11-15 02:34:00] Saved to: /tmp/Rtmp5huNpD\test\/HILIC_neg_401_52a4_211.emf
INFO [2025-11-15 02:34:00] Saved group boxplots to: /tmp/Rtmp5huNpD\test\
INFO [2025-11-15 02:34:00] Saved to: /tmp/Rtmp5huNpD\test\/HILIC_neg_259_9623a4_4322.emf
INFO [2025-11-15 02:34:01] Saved to: /tmp/Rtmp5huNpD\test\/HILIC_neg_108_1065a2_6121.emf
INFO [2025-11-15 02:34:01] Saved to: /tmp/Rtmp5huNpD\test\/HILIC_neg_158_23a1_4128.emf
INFO [2025-11-15 02:34:01] Saved to: /tmp/Rtmp5huNpD\test\/HILIC_neg_251_0056a0_6161.emf
INFO [2025-11-15 02:34:02] Saved to: /tmp/Rtmp5huNpD\test\/HILIC_neg_401_52a4_211.emf
INFO [2025-11-15 02:34:02] Saved group boxplots to: /tmp/Rtmp5huNpD\test\
INFO [2025-11-15 02:34:02] Saved to: /tmp/Rtmp5huNpD\test\/HILIC_neg_259_9623a4_4322.emf
INFO [2025-11-15 02:34:02] Saved to: /tmp/Rtmp5huNpD\test\/HILIC_neg_108_1065a2_6121.emf
INFO [2025-11-15 02:34:02] Saved to: /tmp/Rtmp5huNpD\test\/HILIC_neg_158_23a1_4128.emf
INFO [2025-11-15 02:34:03] Saved to: /tmp/Rtmp5huNpD\test\/HILIC_neg_251_0056a0_6161.emf
INFO [2025-11-15 02:34:03] Saved to: /tmp/Rtmp5huNpD\test\/HILIC_neg_401_52a4_211.emf
INFO [2025-11-15 02:34:03] Saved beeswarm plots to: /tmp/Rtmp5huNpD\test\
INFO [2025-11-15 02:34:03] Saved to: /tmp/Rtmp5huNpD\test\/Glucose.emf
INFO [2025-11-15 02:34:04] Saved to: /tmp/Rtmp5huNpD\test\/Threoline.emf
INFO [2025-11-15 02:34:04] Saved to: /tmp/Rtmp5huNpD\test\/5-AVAB.emf
INFO [2025-11-15 02:34:04] Saved to: /tmp/Rtmp5huNpD\test\/1_2 acid.emf
INFO [2025-11-15 02:34:04] Saved to: /tmp/Rtmp5huNpD\test\/20_0 carbon chain.emf
INFO [2025-11-15 02:34:04] Saved beeswarm plots to: /tmp/Rtmp5huNpD\test\
INFO [2025-11-15 02:34:05] Saved to: /tmp/Rtmp5huNpD\test\/HILIC_neg_259_9623a4_4322.emf
INFO [2025-11-15 02:34:05] Saved to: /tmp/Rtmp5huNpD\test\/HILIC_neg_108_1065a2_6121.emf
INFO [2025-11-15 02:34:05] Saved to: /tmp/Rtmp5huNpD\test\/HILIC_neg_158_23a1_4128.emf
INFO [2025-11-15 02:34:06] Saved to: /tmp/Rtmp5huNpD\test\/HILIC_neg_251_0056a0_6161.emf
INFO [2025-11-15 02:34:06] Saved to: /tmp/Rtmp5huNpD\test\/HILIC_neg_401_52a4_211.emf
INFO [2025-11-15 02:34:06] Saved scatter plots to: /tmp/Rtmp5huNpD\test\
INFO [2025-11-15 02:34:06] Saved to: /tmp/Rtmp5huNpD\test\/HILIC_neg_259_9623a4_4322.emf
INFO [2025-11-15 02:34:07] Saved to: /tmp/Rtmp5huNpD\test\/HILIC_neg_108_1065a2_6121.emf
INFO [2025-11-15 02:34:07] Saved to: /tmp/Rtmp5huNpD\test\/HILIC_neg_158_23a1_4128.emf
INFO [2025-11-15 02:34:07] Saved to: /tmp/Rtmp5huNpD\test\/HILIC_neg_251_0056a0_6161.emf
INFO [2025-11-15 02:34:07] Saved to: /tmp/Rtmp5huNpD\test\/HILIC_neg_401_52a4_211.emf
INFO [2025-11-15 02:34:07] Saved scatter plots to: /tmp/Rtmp5huNpD\test\
INFO [2025-11-15 02:34:08] Saved to: /tmp/Rtmp5huNpD\test\/HILIC_neg_259_9623a4_4322.emf
INFO [2025-11-15 02:34:08] Saved to: /tmp/Rtmp5huNpD\test\/HILIC_neg_108_1065a2_6121.emf
INFO [2025-11-15 02:34:09] Saved to: /tmp/Rtmp5huNpD\test\/HILIC_neg_158_23a1_4128.emf
INFO [2025-11-15 02:34:09] Saved to: /tmp/Rtmp5huNpD\test\/HILIC_neg_251_0056a0_6161.emf
INFO [2025-11-15 02:34:10] Saved to: /tmp/Rtmp5huNpD\test\/HILIC_neg_401_52a4_211.emf
INFO [2025-11-15 02:34:10] Saved line plots with mean line to: /tmp/Rtmp5huNpD\test\
INFO [2025-11-15 02:34:10] Saved to: /tmp/Rtmp5huNpD\test\/HILIC_neg_259_9623a4_4322.emf
INFO [2025-11-15 02:34:11] Saved to: /tmp/Rtmp5huNpD\test\/HILIC_neg_108_1065a2_6121.emf
INFO [2025-11-15 02:34:11] Saved to: /tmp/Rtmp5huNpD\test\/HILIC_neg_158_23a1_4128.emf
INFO [2025-11-15 02:34:11] Saved to: /tmp/Rtmp5huNpD\test\/HILIC_neg_251_0056a0_6161.emf
INFO [2025-11-15 02:34:12] Saved to: /tmp/Rtmp5huNpD\test\/HILIC_neg_401_52a4_211.emf
INFO [2025-11-15 02:34:12] Saved line plots with mean line to: /tmp/Rtmp5huNpD\test\
INFO [2025-11-15 02:34:13]
Saved batch plots to: /tmp/Rtmp5huNpD\test\batch_plots.pdf
INFO [2025-11-15 02:34:13] Identified m/z column Average_Mz and retention time column Average_Rt_min
INFO [2025-11-15 02:34:13] Identified m/z column Average_Mz and retention time column Average_Rt_min
INFO [2025-11-15 02:34:13] Identified m/z column Average_Mz and retention time column Average_Rt_min
INFO [2025-11-15 02:34:13]
92% of features flagged for low quality
INFO [2025-11-15 02:34:14] Identified m/z column Average_Mz and retention time column Average_Rt_min
INFO [2025-11-15 02:34:14] Identified m/z column Average_Mz and retention time column Average_Rt_min
[ FAIL 0 | WARN 182 | SKIP 0 | PASS 26 ]
[ FAIL 0 | WARN 182 | SKIP 0 | PASS 26 ]
>
> proc.time()
user system elapsed
29.283 0.903 30.175
notameViz.Rcheck/notameViz-Ex.timings
| name | user | system | elapsed | |
| manhattan_plot | 6.596 | 1.299 | 4.863 | |
| mz_rt_plot | 4.768 | 1.379 | 2.872 | |
| plot_dendrogram | 0.480 | 0.051 | 0.531 | |
| plot_dist_density | 1.419 | 0.503 | 1.363 | |
| plot_effect_heatmap | 4.866 | 1.252 | 3.027 | |
| plot_injection_lm | 11.346 | 4.764 | 5.351 | |
| plot_p_histogram | 3.579 | 1.742 | 1.832 | |
| plot_pca | 0.432 | 0.030 | 0.462 | |
| plot_pca_arrows | 0.959 | 0.064 | 1.024 | |
| plot_pca_hexbin | 0.268 | 0.057 | 0.325 | |
| plot_pca_loadings | 0.309 | 0.009 | 0.318 | |
| plot_quality | 1.401 | 0.059 | 1.459 | |
| plot_sample_boxplots | 1.067 | 0.049 | 1.117 | |
| plot_sample_heatmap | 0.638 | 0.029 | 0.667 | |
| plot_tsne | 0.438 | 0.021 | 0.460 | |
| plot_tsne_arrows | 0.837 | 0.048 | 0.885 | |
| plot_tsne_hexbin | 0.268 | 0.002 | 0.270 | |
| save_QC_plots | 12.615 | 2.736 | 11.437 | |
| save_batch_plots | 9.076 | 0.261 | 9.341 | |
| save_beeswarm_plots | 5.539 | 0.113 | 5.640 | |
| save_dc_plots | 2.575 | 0.592 | 2.571 | |
| save_group_boxplots | 7.942 | 0.309 | 8.253 | |
| save_group_lineplots | 7.722 | 0.192 | 7.915 | |
| save_plot | 0.794 | 0.003 | 0.797 | |
| save_scatter_plots | 3.521 | 0.098 | 3.621 | |
| save_subject_line_plots | 3.937 | 0.291 | 4.228 | |
| visualize_clusters | 1.941 | 0.065 | 2.007 | |
| volcano_plot | 3.414 | 1.443 | 1.582 | |