| Back to Multiple platform build/check report for BioC 3.22: simplified long |
|
This page was generated on 2025-10-24 12:04 -0400 (Fri, 24 Oct 2025).
| Hostname | OS | Arch (*) | R version | Installed pkgs |
|---|---|---|---|---|
| nebbiolo2 | Linux (Ubuntu 24.04.3 LTS) | x86_64 | 4.5.1 Patched (2025-08-23 r88802) -- "Great Square Root" | 4898 |
| lconway | macOS 12.7.6 Monterey | x86_64 | 4.5.1 Patched (2025-09-10 r88807) -- "Great Square Root" | 4688 |
| kjohnson3 | macOS 13.7.7 Ventura | arm64 | 4.5.1 Patched (2025-09-10 r88807) -- "Great Square Root" | 4634 |
| taishan | Linux (openEuler 24.03 LTS) | aarch64 | 4.5.0 (2025-04-11) -- "How About a Twenty-Six" | 4658 |
| Click on any hostname to see more info about the system (e.g. compilers) (*) as reported by 'uname -p', except on Windows and Mac OS X | ||||
| Package 1415/2359 | Hostname | OS / Arch | INSTALL | BUILD | CHECK | BUILD BIN | ||||||||
| multiHiCcompare 1.27.0 (landing page) Mikhail Dozmorov
| nebbiolo2 | Linux (Ubuntu 24.04.3 LTS) / x86_64 | OK | OK | OK | |||||||||
| lconway | macOS 12.7.6 Monterey / x86_64 | OK | OK | OK | OK | |||||||||
| kjohnson3 | macOS 13.7.7 Ventura / arm64 | OK | OK | OK | OK | |||||||||
| taishan | Linux (openEuler 24.03 LTS) / aarch64 | OK | OK | NA | ||||||||||
|
To the developers/maintainers of the multiHiCcompare package: - Allow up to 24 hours (and sometimes 48 hours) for your latest push to git@git.bioconductor.org:packages/multiHiCcompare.git to reflect on this report. See Troubleshooting Build Report for more information. - Use the following Renviron settings to reproduce errors and warnings. - If 'R CMD check' started to fail recently on the Linux builder(s) over a missing dependency, add the missing dependency to 'Suggests:' in your DESCRIPTION file. See Renviron.bioc for more information. |
| Package: multiHiCcompare |
| Version: 1.27.0 |
| Command: /home/biocbuild/bbs-3.22-bioc/R/bin/R CMD check --install=check:multiHiCcompare.install-out.txt --library=/home/biocbuild/bbs-3.22-bioc/R/site-library --timings multiHiCcompare_1.27.0.tar.gz |
| StartedAt: 2025-10-24 01:54:16 -0400 (Fri, 24 Oct 2025) |
| EndedAt: 2025-10-24 01:58:42 -0400 (Fri, 24 Oct 2025) |
| EllapsedTime: 265.5 seconds |
| RetCode: 0 |
| Status: OK |
| CheckDir: multiHiCcompare.Rcheck |
| Warnings: 0 |
##############################################################################
##############################################################################
###
### Running command:
###
### /home/biocbuild/bbs-3.22-bioc/R/bin/R CMD check --install=check:multiHiCcompare.install-out.txt --library=/home/biocbuild/bbs-3.22-bioc/R/site-library --timings multiHiCcompare_1.27.0.tar.gz
###
##############################################################################
##############################################################################
* using log directory ‘/home/biocbuild/bbs-3.22-bioc/meat/multiHiCcompare.Rcheck’
* using R version 4.5.1 Patched (2025-08-23 r88802)
* using platform: x86_64-pc-linux-gnu
* R was compiled by
gcc (Ubuntu 13.3.0-6ubuntu2~24.04) 13.3.0
GNU Fortran (Ubuntu 13.3.0-6ubuntu2~24.04) 13.3.0
* running under: Ubuntu 24.04.3 LTS
* using session charset: UTF-8
* checking for file ‘multiHiCcompare/DESCRIPTION’ ... OK
* this is package ‘multiHiCcompare’ version ‘1.27.0’
* package encoding: UTF-8
* checking package namespace information ... OK
* checking package dependencies ... OK
* checking if this is a source package ... OK
* checking if there is a namespace ... OK
* checking for hidden files and directories ... OK
* checking for portable file names ... OK
* checking for sufficient/correct file permissions ... OK
* checking whether package ‘multiHiCcompare’ can be installed ... OK
* checking installed package size ... OK
* checking package directory ... OK
* checking ‘build’ directory ... OK
* checking DESCRIPTION meta-information ... NOTE
License stub is invalid DCF.
* checking top-level files ... OK
* checking for left-over files ... OK
* checking index information ... OK
* checking package subdirectories ... OK
* checking code files for non-ASCII characters ... OK
* checking R files for syntax errors ... OK
* checking whether the package can be loaded ... OK
* checking whether the package can be loaded with stated dependencies ... OK
* checking whether the package can be unloaded cleanly ... OK
* checking whether the namespace can be loaded with stated dependencies ... OK
* checking whether the namespace can be unloaded cleanly ... OK
* checking loading without being on the library search path ... OK
* checking dependencies in R code ... OK
* checking S3 generic/method consistency ... OK
* checking replacement functions ... OK
* checking foreign function calls ... OK
* checking R code for possible problems ... NOTE
.count_manhattan: no visible global function definition for ‘textxy’
cyclic_loess: no visible binding for global variable ‘chr’
cyclic_loess: no visible binding for global variable ‘region1’
cyclic_loess: no visible binding for global variable ‘region2’
exportJuicebox: no visible binding for global variable ‘logCPM’
exportJuicebox: no visible binding for global variable ‘logFC’
exportJuicebox: no visible binding for global variable ‘p.adj’
fastlo: no visible binding for global variable ‘chr’
fastlo: no visible binding for global variable ‘region1’
fastlo: no visible binding for global variable ‘region2’
hic_exactTest: no visible binding for global variable ‘chr’
hic_exactTest: no visible binding for global variable ‘region1’
hic_exactTest: no visible binding for global variable ‘region2’
hic_filter: no visible binding for global variable ‘hg19_cyto’
hic_glm: no visible binding for global variable ‘chr’
hic_glm: no visible binding for global variable ‘region1’
hic_glm: no visible binding for global variable ‘region2’
make_hicexp: no visible binding for global variable ‘hg19_cyto’
make_hicexp: no visible binding for global variable ‘region2’
make_hicexp: no visible binding for global variable ‘region1’
make_hicexp: no visible binding for global variable ‘chr’
perm_test: no visible binding for global variable ‘chr’
perm_test: no visible global function definition for ‘IRanges’
topDirs: no visible binding for global variable ‘logCPM’
topDirs: no visible binding for global variable ‘logFC’
topDirs: no visible binding for global variable ‘p.adj’
Undefined global functions or variables:
IRanges chr hg19_cyto logCPM logFC p.adj region1 region2 textxy
* checking Rd files ... OK
* checking Rd metadata ... OK
* checking Rd cross-references ... OK
* checking for missing documentation entries ... OK
* checking for code/documentation mismatches ... OK
* checking Rd \usage sections ... OK
* checking Rd contents ... OK
* checking for unstated dependencies in examples ... OK
* checking contents of ‘data’ directory ... OK
* checking data for non-ASCII characters ... OK
* checking LazyData ... OK
* checking data for ASCII and uncompressed saves ... OK
* checking files in ‘vignettes’ ... OK
* checking examples ... OK
* checking for unstated dependencies in ‘tests’ ... OK
* checking tests ...
Running ‘testthat.R’
OK
* checking for unstated dependencies in vignettes ... OK
* checking package vignettes ... OK
* checking re-building of vignette outputs ... OK
* checking PDF version of manual ... OK
* DONE
Status: 2 NOTEs
See
‘/home/biocbuild/bbs-3.22-bioc/meat/multiHiCcompare.Rcheck/00check.log’
for details.
multiHiCcompare.Rcheck/00install.out
############################################################################## ############################################################################## ### ### Running command: ### ### /home/biocbuild/bbs-3.22-bioc/R/bin/R CMD INSTALL multiHiCcompare ### ############################################################################## ############################################################################## * installing to library ‘/home/biocbuild/bbs-3.22-bioc/R/site-library’ * installing *source* package ‘multiHiCcompare’ ... ** this is package ‘multiHiCcompare’ version ‘1.27.0’ ** using staged installation ** R ** data *** moving datasets to lazyload DB ** inst ** byte-compile and prepare package for lazy loading ** help *** installing help indices ** building package indices ** installing vignettes ** testing if installed package can be loaded from temporary location ** testing if installed package can be loaded from final location ** testing if installed package keeps a record of temporary installation path * DONE (multiHiCcompare)
multiHiCcompare.Rcheck/tests/testthat.Rout
R version 4.5.1 Patched (2025-08-23 r88802) -- "Great Square Root"
Copyright (C) 2025 The R Foundation for Statistical Computing
Platform: x86_64-pc-linux-gnu
R is free software and comes with ABSOLUTELY NO WARRANTY.
You are welcome to redistribute it under certain conditions.
Type 'license()' or 'licence()' for distribution details.
R is a collaborative project with many contributors.
Type 'contributors()' for more information and
'citation()' on how to cite R or R packages in publications.
Type 'demo()' for some demos, 'help()' for on-line help, or
'help.start()' for an HTML browser interface to help.
Type 'q()' to quit R.
> library(testthat)
> library(multiHiCcompare)
>
> test_check("multiHiCcompare")
[ FAIL 0 | WARN 0 | SKIP 0 | PASS 17 ]
>
> proc.time()
user system elapsed
31.948 1.010 32.627
multiHiCcompare.Rcheck/multiHiCcompare-Ex.timings
| name | user | system | elapsed | |
| Hicexp-class | 0.006 | 0.007 | 0.013 | |
| MD_composite | 0.105 | 0.009 | 0.114 | |
| MD_hicexp | 0.469 | 0.007 | 0.476 | |
| cyclic_loess | 1.932 | 0.029 | 1.948 | |
| exportJuicebox | 0.027 | 0.001 | 0.023 | |
| fastlo | 0.751 | 0.013 | 0.738 | |
| hic_exactTest | 0 | 0 | 0 | |
| hic_filter | 0.478 | 0.011 | 0.476 | |
| hic_glm | 0 | 0 | 0 | |
| hic_scale | 0.057 | 0.018 | 0.061 | |
| hic_table | 0.011 | 0.006 | 0.016 | |
| make_hicexp | 0.699 | 0.018 | 0.697 | |
| manhattan_hicexp | 0.356 | 0.031 | 0.374 | |
| meta | 0.008 | 0.000 | 0.008 | |
| normalized | 0.007 | 0.000 | 0.006 | |
| perm_test | 0 | 0 | 0 | |
| plot_counts | 0.044 | 0.003 | 0.047 | |
| plot_pvals | 0.041 | 0.000 | 0.041 | |
| pval_heatmap | 0.661 | 0.009 | 0.656 | |
| resolution | 0.006 | 0.000 | 0.007 | |
| results | 0.006 | 0.000 | 0.006 | |
| topDirs | 0.031 | 0.008 | 0.039 | |