| Back to Multiple platform build/check report for BioC 3.22: simplified long | 
 | 
This page was generated on 2025-10-24 12:04 -0400 (Fri, 24 Oct 2025).
| Hostname | OS | Arch (*) | R version | Installed pkgs | 
|---|---|---|---|---|
| nebbiolo2 | Linux (Ubuntu 24.04.3 LTS) | x86_64 | 4.5.1 Patched (2025-08-23 r88802) -- "Great Square Root" | 4898 | 
| lconway | macOS 12.7.6 Monterey | x86_64 | 4.5.1 Patched (2025-09-10 r88807) -- "Great Square Root" | 4688 | 
| kjohnson3 | macOS 13.7.7 Ventura | arm64 | 4.5.1 Patched (2025-09-10 r88807) -- "Great Square Root" | 4634 | 
| taishan | Linux (openEuler 24.03 LTS) | aarch64 | 4.5.0 (2025-04-11) -- "How About a Twenty-Six" | 4658 | 
| Click on any hostname to see more info about the system (e.g. compilers) (*) as reported by 'uname -p', except on Windows and Mac OS X | ||||
| Package 1356/2359 | Hostname | OS / Arch | INSTALL | BUILD | CHECK | BUILD BIN | ||||||||
| mosdef 1.5.1  (landing page) Federico Marini 
 | nebbiolo2 | Linux (Ubuntu 24.04.3 LTS) / x86_64 | OK | OK | OK |  | ||||||||
| lconway | macOS 12.7.6 Monterey / x86_64 | OK | OK | OK | OK |  | ||||||||
| kjohnson3 | macOS 13.7.7 Ventura / arm64 | OK | OK | OK | OK |  | ||||||||
| taishan | Linux (openEuler 24.03 LTS) / aarch64 | OK | OK | NA | ||||||||||
| To the developers/maintainers of the mosdef package: - Allow up to 24 hours (and sometimes 48 hours) for your latest push to git@git.bioconductor.org:packages/mosdef.git to reflect on this report. See Troubleshooting Build Report for more information. - Use the following Renviron settings to reproduce errors and warnings. - If 'R CMD check' started to fail recently on the Linux builder(s) over a missing dependency, add the missing dependency to 'Suggests:' in your DESCRIPTION file. See Renviron.bioc for more information. | 
| Package: mosdef | 
| Version: 1.5.1 | 
| Command: /home/biocbuild/bbs-3.22-bioc/R/bin/R CMD check --install=check:mosdef.install-out.txt --library=/home/biocbuild/bbs-3.22-bioc/R/site-library --timings mosdef_1.5.1.tar.gz | 
| StartedAt: 2025-10-24 01:37:25 -0400 (Fri, 24 Oct 2025) | 
| EndedAt: 2025-10-24 01:52:34 -0400 (Fri, 24 Oct 2025) | 
| EllapsedTime: 909.8 seconds | 
| RetCode: 0 | 
| Status: OK | 
| CheckDir: mosdef.Rcheck | 
| Warnings: 0 | 
##############################################################################
##############################################################################
###
### Running command:
###
###   /home/biocbuild/bbs-3.22-bioc/R/bin/R CMD check --install=check:mosdef.install-out.txt --library=/home/biocbuild/bbs-3.22-bioc/R/site-library --timings mosdef_1.5.1.tar.gz
###
##############################################################################
##############################################################################
* using log directory ‘/home/biocbuild/bbs-3.22-bioc/meat/mosdef.Rcheck’
* using R version 4.5.1 Patched (2025-08-23 r88802)
* using platform: x86_64-pc-linux-gnu
* R was compiled by
    gcc (Ubuntu 13.3.0-6ubuntu2~24.04) 13.3.0
    GNU Fortran (Ubuntu 13.3.0-6ubuntu2~24.04) 13.3.0
* running under: Ubuntu 24.04.3 LTS
* using session charset: UTF-8
* checking for file ‘mosdef/DESCRIPTION’ ... OK
* this is package ‘mosdef’ version ‘1.5.1’
* package encoding: UTF-8
* checking package namespace information ... OK
* checking package dependencies ... OK
* checking if this is a source package ... OK
* checking if there is a namespace ... OK
* checking for hidden files and directories ... NOTE
Found the following hidden files and directories:
  .BBSoptions
These were most likely included in error. See section ‘Package
structure’ in the ‘Writing R Extensions’ manual.
* checking for portable file names ... OK
* checking for sufficient/correct file permissions ... OK
* checking whether package ‘mosdef’ can be installed ... OK
* checking installed package size ... OK
* checking package directory ... OK
* checking ‘build’ directory ... OK
* checking DESCRIPTION meta-information ... OK
* checking top-level files ... OK
* checking for left-over files ... OK
* checking index information ... OK
* checking package subdirectories ... OK
* checking code files for non-ASCII characters ... OK
* checking R files for syntax errors ... OK
* checking whether the package can be loaded ... OK
* checking whether the package can be loaded with stated dependencies ... OK
* checking whether the package can be unloaded cleanly ... OK
* checking whether the namespace can be loaded with stated dependencies ... OK
* checking whether the namespace can be unloaded cleanly ... OK
* checking loading without being on the library search path ... OK
* checking dependencies in R code ... OK
* checking S3 generic/method consistency ... OK
* checking replacement functions ... OK
* checking foreign function calls ... OK
* checking R code for possible problems ... OK
* checking Rd files ... OK
* checking Rd metadata ... OK
* checking Rd cross-references ... OK
* checking for missing documentation entries ... OK
* checking for code/documentation mismatches ... OK
* checking Rd \usage sections ... OK
* checking Rd contents ... OK
* checking for unstated dependencies in examples ... OK
* checking contents of ‘data’ directory ... OK
* checking data for non-ASCII characters ... OK
* checking data for ASCII and uncompressed saves ... OK
* checking files in ‘vignettes’ ... OK
* checking examples ... OK
Examples with CPU (user + system) or elapsed time > 5s
              user system elapsed
run_topGO  101.819  0.609 102.430
run_goseq   58.943  1.246  60.193
run_cluPro  39.579  0.917  40.498
gene_plot    6.293  0.140   6.433
* checking for unstated dependencies in ‘tests’ ... OK
* checking tests ...
  Running ‘testthat.R’
 OK
* checking for unstated dependencies in vignettes ... OK
* checking package vignettes ... OK
* checking re-building of vignette outputs ... OK
* checking PDF version of manual ... OK
* DONE
Status: 1 NOTE
See
  ‘/home/biocbuild/bbs-3.22-bioc/meat/mosdef.Rcheck/00check.log’
for details.
mosdef.Rcheck/00install.out
############################################################################## ############################################################################## ### ### Running command: ### ### /home/biocbuild/bbs-3.22-bioc/R/bin/R CMD INSTALL mosdef ### ############################################################################## ############################################################################## * installing to library ‘/home/biocbuild/bbs-3.22-bioc/R/site-library’ * installing *source* package ‘mosdef’ ... ** this is package ‘mosdef’ version ‘1.5.1’ ** using staged installation ** R ** data ** inst ** byte-compile and prepare package for lazy loading ** help *** installing help indices ** building package indices ** installing vignettes ** testing if installed package can be loaded from temporary location ** testing if installed package can be loaded from final location ** testing if installed package keeps a record of temporary installation path * DONE (mosdef)
mosdef.Rcheck/tests/testthat.Rout
R version 4.5.1 Patched (2025-08-23 r88802) -- "Great Square Root"
Copyright (C) 2025 The R Foundation for Statistical Computing
Platform: x86_64-pc-linux-gnu
R is free software and comes with ABSOLUTELY NO WARRANTY.
You are welcome to redistribute it under certain conditions.
Type 'license()' or 'licence()' for distribution details.
R is a collaborative project with many contributors.
Type 'contributors()' for more information and
'citation()' on how to cite R or R packages in publications.
Type 'demo()' for some demos, 'help()' for on-line help, or
'help.start()' for an HTML browser interface to help.
Type 'q()' to quit R.
> # This file is part of the standard setup for testthat.
> # It is recommended that you do not modify it.
> #
> # Where should you do additional test configuration?
> # Learn more about the roles of various files in:
> # * https://r-pkgs.org/testing-design.html#sec-tests-files-overview
> # * https://testthat.r-lib.org/articles/special-files.html
> 
> library("testthat")
> library("mosdef")
> 
> test_check("mosdef")
Loading required package: S4Vectors
Loading required package: stats4
Loading required package: BiocGenerics
Loading required package: generics
Attaching package: 'generics'
The following objects are masked from 'package:base':
    as.difftime, as.factor, as.ordered, intersect, is.element, setdiff,
    setequal, union
Attaching package: 'BiocGenerics'
The following objects are masked from 'package:stats':
    IQR, mad, sd, var, xtabs
The following objects are masked from 'package:base':
    Filter, Find, Map, Position, Reduce, anyDuplicated, aperm, append,
    as.data.frame, basename, cbind, colnames, dirname, do.call,
    duplicated, eval, evalq, get, grep, grepl, is.unsorted, lapply,
    mapply, match, mget, order, paste, pmax, pmax.int, pmin, pmin.int,
    rank, rbind, rownames, sapply, saveRDS, table, tapply, unique,
    unsplit, which.max, which.min
Attaching package: 'S4Vectors'
The following object is masked from 'package:utils':
    findMatches
The following objects are masked from 'package:base':
    I, expand.grid, unname
Loading required package: IRanges
Loading required package: GenomicRanges
Loading required package: Seqinfo
Loading required package: SummarizedExperiment
Loading required package: MatrixGenerics
Loading required package: matrixStats
Attaching package: 'MatrixGenerics'
The following objects are masked from 'package:matrixStats':
    colAlls, colAnyNAs, colAnys, colAvgsPerRowSet, colCollapse,
    colCounts, colCummaxs, colCummins, colCumprods, colCumsums,
    colDiffs, colIQRDiffs, colIQRs, colLogSumExps, colMadDiffs,
    colMads, colMaxs, colMeans2, colMedians, colMins, colOrderStats,
    colProds, colQuantiles, colRanges, colRanks, colSdDiffs, colSds,
    colSums2, colTabulates, colVarDiffs, colVars, colWeightedMads,
    colWeightedMeans, colWeightedMedians, colWeightedSds,
    colWeightedVars, rowAlls, rowAnyNAs, rowAnys, rowAvgsPerColSet,
    rowCollapse, rowCounts, rowCummaxs, rowCummins, rowCumprods,
    rowCumsums, rowDiffs, rowIQRDiffs, rowIQRs, rowLogSumExps,
    rowMadDiffs, rowMads, rowMaxs, rowMeans2, rowMedians, rowMins,
    rowOrderStats, rowProds, rowQuantiles, rowRanges, rowRanks,
    rowSdDiffs, rowSds, rowSums2, rowTabulates, rowVarDiffs, rowVars,
    rowWeightedMads, rowWeightedMeans, rowWeightedMedians,
    rowWeightedSds, rowWeightedVars
Loading required package: Biobase
Welcome to Bioconductor
    Vignettes contain introductory material; view with
    'browseVignettes()'. To cite Bioconductor, see
    'citation("Biobase")', and for packages 'citation("pkgname")'.
Attaching package: 'Biobase'
The following object is masked from 'package:MatrixGenerics':
    rowMedians
The following objects are masked from 'package:matrixStats':
    anyMissing, rowMedians
Loading required package: graph
Loading required package: GO.db
Loading required package: AnnotationDbi
Loading required package: SparseM
groupGOTerms: 	GOBPTerm, GOMFTerm, GOCCTerm environments built.
Attaching package: 'topGO'
The following object is masked from 'package:IRanges':
    members
using counts and average transcript lengths from tximeta
'select()' returned 1:many mapping between keys and columns
estimating size factors
using 'avgTxLength' from assays(dds), correcting for library size
estimating dispersions
gene-wise dispersion estimates
mean-dispersion relationship
final dispersion estimates
fitting model and testing
'select()' returned 1:many mapping between keys and columns
estimating size factors
estimating dispersions
gene-wise dispersion estimates
mean-dispersion relationship
final dispersion estimates
fitting model and testing
'select()' returned 1:many mapping between keys and columns
'select()' returned 1:many mapping between keys and columns
'select()' returned 1:many mapping between keys and columns
'select()' returned 1:many mapping between keys and columns
Your dataset has 36 DE genes.
You selected 36 (100.00%) genes for the enrichment analysis.
You are analyzing up_and_down-regulated genes in the `res_de` container
Your dataset has 36 DE genes.
You selected 36 (100.00%) genes for the enrichment analysis.
You are analyzing up_and_down-regulated genes in the `res_de` container
Can't find hg38/ensGene length data in genLenDataBase...
Found the annotation package, TxDb.Hsapiens.UCSC.hg38.knownGene
Trying to get the gene lengths from it.
Loading required package: GenomicFeatures
Attaching package: 'GenomicFeatures'
The following object is masked from 'package:topGO':
    genes
Fetching GO annotations...
Calculating the p-values...
'select()' returned 1:1 mapping between keys and columns
'select()' returned 1:many mapping between keys and columns
'select()' returned 1:many mapping between keys and columns
Your dataset has 36 DE genes.
You selected 36 (100.00%) genes for the enrichment analysis.
You are analyzing up_and_down-regulated genes in the `res_de` container
151 GO terms were analyzed. Not all of them are significantly enriched.
We suggest further subsetting the output list by for example: 
using a pvalue cutoff in the column: 
'p.value_elim'.
'select()' returned 1:many mapping between keys and columns
'select()' returned 1:many mapping between keys and columns
'select()' returned 1:many mapping between keys and columns
using 'avgTxLength' from assays(dds), correcting for library size
Could not find the specified gene (`SPARCL1`) in the `res_de` object. 
Still, the general HTML content has been generated.
[ FAIL 0 | WARN 0 | SKIP 0 | PASS 104 ]
> 
> proc.time()
   user  system elapsed 
 88.540   3.113  91.647 
mosdef.Rcheck/mosdef-Ex.timings
| name | user | system | elapsed | |
| buttonifier | 0.311 | 0.010 | 0.320 | |
| create_link_ENSEMBL | 0.129 | 0.002 | 0.129 | |
| create_link_GO | 0 | 0 | 0 | |
| create_link_GTEX | 0.263 | 0.000 | 0.263 | |
| create_link_HPA | 0.161 | 0.001 | 0.163 | |
| create_link_NCBI | 0.277 | 0.000 | 0.279 | |
| create_link_UniProt | 0.160 | 0.002 | 0.162 | |
| create_link_dbPTM | 0.169 | 0.001 | 0.170 | |
| create_link_genecards | 0.173 | 0.001 | 0.173 | |
| create_link_pubmed | 0.228 | 0.020 | 0.248 | |
| de_table_painter | 1.637 | 0.104 | 1.741 | |
| de_volcano | 1.930 | 0.089 | 2.019 | |
| deresult_to_df | 0.413 | 0.008 | 0.422 | |
| dot-info_enrichrun | 0 | 0 | 0 | |
| gene_plot | 6.293 | 0.140 | 6.433 | |
| geneinfo_to_html | 0.007 | 0.001 | 0.007 | |
| get_annotation_orgdb | 2.401 | 0.103 | 2.504 | |
| get_expr_values | 3.410 | 0.054 | 3.464 | |
| go_to_html | 0.066 | 0.000 | 0.067 | |
| go_volcano | 2.907 | 0.062 | 2.970 | |
| map_to_color | 0.322 | 0.006 | 0.328 | |
| mosdef_de_container_check | 1.745 | 0.076 | 1.820 | |
| mosdef_res_check | 0.100 | 0.004 | 0.104 | |
| pair_corr | 3.430 | 0.048 | 3.478 | |
| plot_ma | 1.999 | 0.015 | 2.013 | |
| run_cluPro | 39.579 | 0.917 | 40.498 | |
| run_goseq | 58.943 | 1.246 | 60.193 | |
| run_topGO | 101.819 | 0.609 | 102.430 | |
| styleColorBar_divergent | 0.059 | 0.006 | 0.065 | |